BEGIN:VCALENDAR
VERSION:2.0
PRODID:-//Bror Hjorths Hus - ECPv6.15.20//NONSGML v1.0//EN
CALSCALE:GREGORIAN
METHOD:PUBLISH
X-WR-CALNAME:Bror Hjorths Hus
X-ORIGINAL-URL:https://brorhjorthshus.se
X-WR-CALDESC:Händelser för Bror Hjorths Hus
REFRESH-INTERVAL;VALUE=DURATION:PT1H
X-Robots-Tag:noindex
X-PUBLISHED-TTL:PT1H
BEGIN:VTIMEZONE
TZID:Europe/Stockholm
BEGIN:DAYLIGHT
TZOFFSETFROM:+0100
TZOFFSETTO:+0200
TZNAME:CEST
DTSTART:20230326T010000
END:DAYLIGHT
BEGIN:STANDARD
TZOFFSETFROM:+0200
TZOFFSETTO:+0100
TZNAME:CET
DTSTART:20231029T010000
END:STANDARD
BEGIN:DAYLIGHT
TZOFFSETFROM:+0100
TZOFFSETTO:+0200
TZNAME:CEST
DTSTART:20240331T010000
END:DAYLIGHT
BEGIN:STANDARD
TZOFFSETFROM:+0200
TZOFFSETTO:+0100
TZNAME:CET
DTSTART:20241027T010000
END:STANDARD
BEGIN:DAYLIGHT
TZOFFSETFROM:+0100
TZOFFSETTO:+0200
TZNAME:CEST
DTSTART:20250330T010000
END:DAYLIGHT
BEGIN:STANDARD
TZOFFSETFROM:+0200
TZOFFSETTO:+0100
TZNAME:CET
DTSTART:20251026T010000
END:STANDARD
END:VTIMEZONE
BEGIN:VEVENT
DTSTART;TZID=Europe/Stockholm:20240201T140000
DTEND;TZID=Europe/Stockholm:20240201T144500
DTSTAMP:20260422T061945
CREATED:20240125T200929Z
LAST-MODIFIED:20240125T200930Z
UID:14445-1706796000-1706798700@brorhjorthshus.se
SUMMARY:Guidad visning: Bror Hjorths konst och hem
DESCRIPTION:Guidad visning av Bror Hjorths konst och hem. Vi tittar på konstverk i olika material och tekniker från hela Bror Hjorths konstnärskap och berättar om hans liv genom bilderna. Du får också veta hur huset och museet kom till och har förändrats genom åren. \nVisningen är gratis och ca 45 min lång.
URL:https://brorhjorthshus.se/evenemang/guidad-visning-bror-hjorths-konst-och-hem-26/2024-02-01/
LOCATION:Bror Hjorths Hus\, Norbyvägen 26\, Uppsala\, 752 39\, SE
CATEGORIES:Visning
ATTACH;FMTTYPE=image/jpeg:https://brorhjorthshus.se/wp-content/uploads/2024/01/Guidad_visning_Bror_Hjorth_hangningsveckor.jpg
END:VEVENT
BEGIN:VEVENT
DTSTART;TZID=Europe/Stockholm:20240203T140000
DTEND;TZID=Europe/Stockholm:20240203T143000
DTSTAMP:20260422T061945
CREATED:20240125T152635Z
LAST-MODIFIED:20240129T102827Z
UID:14401-1706968800-1706970600@brorhjorthshus.se
SUMMARY:Invigning: Isak Hall - Fatamorgana
DESCRIPTION:Utställningen med Isak Hall invigs med ett kortare samtal mellan museichef Tomas Järliden och konstnären. \nIsak Hall inspireras i sitt måleri av konsthistoriens mästare och äldre måleritekniker. Färgpigmenten blandar han själv och arbetar sedan i lager på lager i tunna skikt med olje-och temperafärger och fernissa.  Hall prövar sig fram för att hitta den rätta blandningen av pigment och bindemedel för att uppnå den lyster och det uttryck han eftersträvar. Med detta skapar han målningar som spelar med ljus\, mörker och djup.\n \nIsak Hall (född 1978) bor och arbetar i Uppsala. Han gick ut Kungl. Konsthögskolan 2013 och har ställt ut på bland annat CFHill\, Bonniers konsthall och Luleåbiennalen. Under hösten 2023  visades några av hans målningar i Uppsala domkyrka.
URL:https://brorhjorthshus.se/evenemang/invigning-isak-hall-fatamorgana/
LOCATION:Bror Hjorths Hus\, Norbyvägen 26\, Uppsala\, 752 39\, SE
CATEGORIES:Föredrag & Konsert,Visning
ATTACH;FMTTYPE=image/jpeg:https://brorhjorthshus.se/wp-content/uploads/2024/01/Invigning_Isak_Hall_16_9.jpg
END:VEVENT
BEGIN:VEVENT
DTSTART;TZID=Europe/Stockholm:20240203T140000
DTEND;TZID=Europe/Stockholm:20240203T143000
DTSTAMP:20260422T061945
CREATED:20240125T152903Z
LAST-MODIFIED:20240129T105132Z
UID:14414-1706968800-1706970600@brorhjorthshus.se
SUMMARY:Livestreamad invigning: Isak Hall - Fatamorgana
DESCRIPTION:Utställningen med Isak Hall invigs med ett kortare samtal mellan museichef Tomas Järliden och konstnären. \n \n\n\nDet är lätt att se landskap i Isak Halls målningar\, världsliga eller utomvärldsliga. De olika färgskikten kan föra tankarna till geologiska genomskärningar av jordlager. Hall intresserar sig för äldre måleritekniker och färgpigmentens optiska egenskaper och skapar bilder av något bortom en bestämd tid och plats. Det är också lätt att känna andäktighet inför målningarna\, men de grundar sig inte i någon medveten andlighet. De gåtor Isak Hall undersöker är måleriets och svaren blir en serie bilder. \n\nIsak Hall (född 1978) bor och arbetar i Uppsala. Han gick ut Kungl. Konsthögskolan 2013 och har ställt ut på bland annat CFHill\, Bonniers konsthall och Luleåbiennalen. Under hösten 2023  visades några av hans målningar i Uppsala domkyrka.
URL:https://brorhjorthshus.se/evenemang/livestreamad-invigning-isak-hall-fatamorgana/
LOCATION:Bror Hjorths Hus\, Norbyvägen 26\, Uppsala\, 752 39\, SE
CATEGORIES:Föredrag & Konsert,Visning
ATTACH;FMTTYPE=image/jpeg:https://brorhjorthshus.se/wp-content/uploads/2024/01/Invigning_Isak_Hall_16_9.jpg
END:VEVENT
BEGIN:VEVENT
DTSTART;TZID=Europe/Stockholm:20240204T123000
DTEND;TZID=Europe/Stockholm:20240204T134500
DTSTAMP:20260422T061945
CREATED:20240110T152543Z
LAST-MODIFIED:20240110T152644Z
UID:14332-1707049800-1707054300@brorhjorthshus.se
SUMMARY:Familjevisning med verkstad : Sagoväsen
DESCRIPTION:Familjevisning med skapande verkstad\när ett trevligt sätt för hela familjen att uppleva museet och att prova en konstnärlig teknik. \nVi tittar först kort på några sagoväsen i Bror Hjorths konst.\nDärefter går vi till museets verkstad för att skapa ett eget sagoväsen i lera.\nVerkstaden leds av en konstpedagog som hjälper dig att komma igång. Inga förkunskaper krävs. \nFamiljevisning med skapande verkstad är tänkt för barn tillsammans med en vuxen.\nLämpligt från 4 år och uppåt. \nSöndag 4 februari – Sagoväsen\nkl 12.30-13.45 och kl 14.15-15.30 \nBiljetter\nBegränsat antal platser. Max 15 personer (inkl vuxna) per tillfälle.\nFamiljevisning kostar 50 kr/verkstadsdeltagare.\nBiljetter köps via Tickster eller i museet under öppettid (släpps 4 december).\nObs! Museets verkstad ligger i källaren en trappa ned. Ingen hiss eller ramp finns.
URL:https://brorhjorthshus.se/evenemang/familjevisning-med-verkstad-sagovasen/
LOCATION:Bror Hjorths Hus\, Norbyvägen 26\, Uppsala\, 752 39\, SE
CATEGORIES:Barn & Familj,Verkstad/kurs,Visning
ATTACH;FMTTYPE=image/jpeg:https://brorhjorthshus.se/wp-content/uploads/2024/01/Familjevisning_2_4feb2024_12_16_9.jpg
END:VEVENT
BEGIN:VEVENT
DTSTART;TZID=Europe/Stockholm:20240204T130000
DTEND;TZID=Europe/Stockholm:20240204T133000
DTSTAMP:20260422T061945
CREATED:20240125T153849Z
LAST-MODIFIED:20240129T104257Z
UID:14417-1707051600-1707053400@brorhjorthshus.se
SUMMARY:Guidad visning: Isak Hall - Fatamorgana
DESCRIPTION:Guidad visning av Isak Halls utställning Fatamorgana.\nVisningen är ca 30 min och gratis.\n \nDet är lätt att se landskap i Isak Halls målningar\, världsliga eller utomvärldsliga. De olika färgskikten kan föra tankarna till geologiska genomskärningar av jordlager. Hall intresserar sig för äldre måleritekniker och färgpigmentens optiska egenskaper och skapar bilder av något bortom en bestämd tid och plats.\n \nDet är också lätt att känna andäktighet inför målningarna\, men de grundar sig inte i någon medveten andlighet. De gåtor Isak Hall undersöker är måleriets och svaren blir en serie bilder.\n \nIsak Hall (född 1978) bor och arbetar i Uppsala. Han gick ut Kungl. Konsthögskolan 2013 och har ställt ut på bland annat CFHill\, Bonniers konsthall och Luleåbiennalen. Under hösten 2023  visades några av hans målningar i Uppsala domkyrka.
URL:https://brorhjorthshus.se/evenemang/guidad-visning-isak-hall-fatamorgana/2024-02-04/
LOCATION:Bror Hjorths Hus\, Norbyvägen 26\, Uppsala\, 752 39\, SE
CATEGORIES:Visning
ATTACH;FMTTYPE=image/jpeg:https://brorhjorthshus.se/wp-content/uploads/2024/01/Guidad_visning_Isak_Hall.jpg
END:VEVENT
BEGIN:VEVENT
DTSTART;TZID=Europe/Stockholm:20240204T141500
DTEND;TZID=Europe/Stockholm:20240204T153000
DTSTAMP:20260422T061945
CREATED:20240110T152738Z
LAST-MODIFIED:20240110T152738Z
UID:14340-1707056100-1707060600@brorhjorthshus.se
SUMMARY:Familjevisning med verkstad : Sagoväsen
DESCRIPTION:Familjevisning med skapande verkstad\när ett trevligt sätt för hela familjen att uppleva museet och att prova en konstnärlig teknik. \nVi tittar först kort på några sagoväsen i Bror Hjorths konst.\nDärefter går vi till museets verkstad för att skapa ett eget sagoväsen i lera.\nVerkstaden leds av en konstpedagog som hjälper dig att komma igång. Inga förkunskaper krävs. \nFamiljevisning med skapande verkstad är tänkt för barn tillsammans med en vuxen.\nLämpligt från 4 år och uppåt. \nSöndag 4 februari – Sagoväsen\nkl 12.30-13.45 och kl 14.15-15.30 \nBiljetter\nBegränsat antal platser. Max 15 personer (inkl vuxna) per tillfälle.\nFamiljevisning kostar 50 kr/verkstadsdeltagare.\nBiljetter köps via Tickster eller i museet under öppettid (släpps 4 december).\nObs! Museets verkstad ligger i källaren en trappa ned. Ingen hiss eller ramp finns.
URL:https://brorhjorthshus.se/evenemang/familjevisning-med-verkstad-sagovasen-2/
LOCATION:Bror Hjorths Hus\, Norbyvägen 26\, Uppsala\, 752 39\, SE
CATEGORIES:Barn & Familj,Verkstad/kurs,Visning
ATTACH;FMTTYPE=image/jpeg:https://brorhjorthshus.se/wp-content/uploads/2024/01/Familjevisning_2_4feb2024_14_16_9.jpg
END:VEVENT
BEGIN:VEVENT
DTSTART;TZID=Europe/Stockholm:20240208T140000
DTEND;TZID=Europe/Stockholm:20240208T144500
DTSTAMP:20260422T061945
CREATED:20240125T200116Z
LAST-MODIFIED:20240125T202005Z
UID:14425-1707400800-1707403500@brorhjorthshus.se
SUMMARY:Guidad visning: Isak Hall / Bror Hjorth
DESCRIPTION:Kombinerad visning av Isak Halls utställning Fatamorgana och Bror Hjorth konst och hem.\nVisningen är ca 50 min och gratis. \nVi börjar i konsthallen med en introducerande visning av den aktuella utställningen med Isak Hall. Halls målningar för tankarna till landskap\, världsliga och utomvärldsliga. Han intresserar sig för färgpigmentens optiska egenskaper och skapar bilder av något bortom en bestämd tid och plats. \nDärefter fortsätter vi in i Bror Hjorths hem och ateljé och tittar på konstverk i olika material och tekniker från hela Bror Hjorths konstnärskap och berättar om hans liv genom bilderna.
URL:https://brorhjorthshus.se/evenemang/guidad-visning-isak-hall-bror-hjorth/2024-02-08/
LOCATION:Bror Hjorths Hus\, Norbyvägen 26\, Uppsala\, 752 39\, SE
CATEGORIES:Visning
ATTACH;FMTTYPE=image/jpeg:https://brorhjorthshus.se/wp-content/uploads/2024/01/Guidad_visning_Hall_Hjorth.jpg
END:VEVENT
BEGIN:VEVENT
DTSTART;TZID=Europe/Stockholm:20240215T180000
DTEND;TZID=Europe/Stockholm:20240215T200000
DTSTAMP:20260422T061945
CREATED:20240131T102252Z
LAST-MODIFIED:20240131T102252Z
UID:14527-1708020000-1708027200@brorhjorthshus.se
SUMMARY:Kvällsöppet med måleriverkstad för vuxna
DESCRIPTION:Se utställningen med Isak Hall och Bror Hjorths konst och hem. \nUpplev en hemtrevlig kväll i museet!\nMåleriverkstad för vuxna (se nedan).\nIntroduktionsvisningar av utställningen med Isak Hall och Bror Hjorths konst.\nRoliga teckningsuppgifter att utföra på egen hand. Finn-5-fel.\nKanske blir det också lite musik i museet. \nIntroduktionsvisning\nIsak Halls utställning  kl 18.30\nBror Hjorths konst och hem kl 19.15.\nVisningarna är ca 15-20 min. \nFri entré \nVerkstad för vuxna\nUnna dig en rolig och kreativ stund i museets verkstad.\nInspireras av Isak Halls utställning och prova att göra en landskapsmålning med färger du blandar själv med färgpigment och ägg. \nVerkstaden leds av museets konstpedagog Madelene Mhanna\, konstnär.\nDu behöver inte ha några förkunskaper. Från 16 år.\nLÄS MER
URL:https://brorhjorthshus.se/evenemang/kvallsoppet-med-maleriverkstad-for-vuxna/
LOCATION:Bror Hjorths Hus\, Norbyvägen 26\, Uppsala\, 752 39\, SE
CATEGORIES:Verkstad/kurs,Visning
ATTACH;FMTTYPE=image/jpeg:https://brorhjorthshus.se/wp-content/uploads/2024/01/Kvallsoppet_2_15feb_2024.jpg
END:VEVENT
BEGIN:VEVENT
DTSTART;TZID=Europe/Stockholm:20240215T181500
DTEND;TZID=Europe/Stockholm:20240215T194500
DTSTAMP:20260422T061945
CREATED:20240131T102311Z
LAST-MODIFIED:20240131T102311Z
UID:14530-1708020900-1708026300@brorhjorthshus.se
SUMMARY:Måleriverkstad för vuxna - måla med pigment
DESCRIPTION:Unna dig en rolig och kreativ stund i museet!\nInspireras av Isak Halls utställning och prova att göra en landskapsmålning med färger du blandar själv med färgpigment och ägg.\nDu behöver inte ha några förkunskaper. Vår erfarna konstpedagog visar och berättar om materialet och leder dig i arbetet. Du behöver inte ha några förkunskaper. \nVerkstaden leds av museets konstpedagog Madelene Mhanna\, konstnär.\nUnder arbetet bjuds du på kaffe/te. \nVerkstaden börjar kl 18.15\, pågår ca 1\,5 timmen och är avsedd för personer från 16 år.\nDen är en del av kvällsöppet 15 feb kl 18-20. \nBiljett till verkstaden\nPris: 80 kr/pers (inkl kaffe/te)\nKöp biljett på Tickster.com eller i museet under öppettid.\nAntalet deltagare i verkstaden är begränsat till 12 personer. Obs! Från 16 år.\nVi har förkläden\, men tänk på att inte ta på dina bästa finkläder.\nObs! Museets verkstad ligger i källaren en trappa ned. Ingen hiss eller ramp finns.
URL:https://brorhjorthshus.se/evenemang/maleriverkstad-for-vuxna-mala-med-pigment/
LOCATION:Bror Hjorths Hus\, Norbyvägen 26\, Uppsala\, 752 39\, SE
CATEGORIES:Verkstad/kurs
ATTACH;FMTTYPE=image/jpeg:https://brorhjorthshus.se/wp-content/uploads/2024/01/Maleriverkstad_vuxna_1_15feb2024_16_9.jpg
END:VEVENT
BEGIN:VEVENT
DTSTART;TZID=Europe/Stockholm:20240220T090000
DTEND;TZID=Europe/Stockholm:20240220T140000
DTSTAMP:20260422T061945
CREATED:20240118T150918Z
LAST-MODIFIED:20240118T150918Z
UID:14359-1708419600-1708437600@brorhjorthshus.se
SUMMARY:Sportlovskonstskola - Hägringar
DESCRIPTION:Tisdag 20 februari kl 9.00-14.00\nFör barn och unga 8 – 13 år \nLovkonstskolan på Bror Hjorths Hus bjuder på spännande färgblandningar.\nVi inspireras av Isak Halls målningar i konsthallen. De för tankarna till magiska solnedgångar\, utomjordiska platser och himlafenomen.  Under dagen skapar vi bilder på papper genom att blanda egna färger med växtpigment och målar med akryl på pannå. \nMuseets erfarna konstpedagoger Malin Koort och Madelene Mhanna finns på plats hela tiden och berättar om teknik och material och hjälper till att komma igång. \nEndagsaktivitet. \nBiljetter\nPris: 275 kr\nKöp biljett på Tickster.com eller i museet under öppettid (biljetter släpps 29 januari)\nMellanmål ingår i priset. Medtag egen lunch som inte behöver värmas.\nMax 12 deltagare per dag.
URL:https://brorhjorthshus.se/evenemang/sportlovskonstskola-hagringar/
LOCATION:Bror Hjorths Hus\, Norbyvägen 26\, Uppsala\, 752 39\, SE
CATEGORIES:Barn & Familj,Verkstad/kurs
ATTACH;FMTTYPE=image/jpeg:https://brorhjorthshus.se/wp-content/uploads/2024/01/Sportlov2024_Tis20feb_16_9.jpg
END:VEVENT
BEGIN:VEVENT
DTSTART;TZID=Europe/Stockholm:20240221T090000
DTEND;TZID=Europe/Stockholm:20240221T140000
DTSTAMP:20260422T061945
CREATED:20240118T150942Z
LAST-MODIFIED:20240118T151312Z
UID:14361-1708506000-1708524000@brorhjorthshus.se
SUMMARY:Sportlovskonstskola - Hägringar
DESCRIPTION:Onsdag 21 februari kl 9.00-14.00\nFör barn och unga 8 – 13 år \nLovkonstskolan på Bror Hjorths Hus bjuder på spännande färgblandningar.\nVi inspireras av Isak Halls målningar i konsthallen. De för tankarna till magiska solnedgångar\, utomjordiska platser och himlafenomen.  Under dagen skapar vi bilder på papper genom att blanda egna färger med växtpigment och målar med akryl på pannå. \nMuseets erfarna konstpedagoger Malin Koort och Madelene Mhanna finns på plats hela tiden och berättar om teknik och material och hjälper till att komma igång. \nEndagsaktivitet. \nBiljetter\nPris: 275 kr\nKöp biljett på Tickster.com eller i museet under öppettid (biljetter släpps 27 januari)\nMellanmål ingår i priset. Medtag egen lunch som inte behöver värmas.\nMax 12 deltagare per dag.
URL:https://brorhjorthshus.se/evenemang/sportlovskonstskola-hagringar-2/
LOCATION:Bror Hjorths Hus\, Norbyvägen 26\, Uppsala\, 752 39\, SE
CATEGORIES:Barn & Familj,Verkstad/kurs
ATTACH;FMTTYPE=image/jpeg:https://brorhjorthshus.se/wp-content/uploads/2024/01/Sportlov2024_Ons21feb_16_9.jpg
END:VEVENT
BEGIN:VEVENT
DTSTART;TZID=Europe/Stockholm:20240225T123000
DTEND;TZID=Europe/Stockholm:20240225T134500
DTSTAMP:20260422T061945
CREATED:20240118T151511Z
LAST-MODIFIED:20240118T151511Z
UID:14355-1708864200-1708868700@brorhjorthshus.se
SUMMARY:Sportlovsverkstad: Måla med pigment
DESCRIPTION:Familjevisning med skapande verkstad\när ett trevligt sätt för hela familjen att uppleva museet och att prova en konstnärlig teknik. \nEfter en kort visning av Isak Halls utställning med landskapsmålningar skapar vi egna bilder med naturliga pigment på papper. Verkstaden leds av en konstpedagog som hjälper er att komma igång. Inga förkunskaper krävs. \nFamiljevisning med skapande verkstad är tänkt för barn tillsammans med en vuxen. Lämpligt från 4 år och uppåt. \nSöndag 25 februari – Måla med pigment\nkl 12.30-13.45 \nBiljetter\nPris: 50 kr/verkstadsdeltagare (minst 1 vuxen + 1 barn).\nBiljetter köps via Tickster eller i museet under öppettid (släpps 5 februari).\nBegränsat antal platser. Max 15 personer (inkl vuxna) per tillfälle.\nObs! Museets familjeverkstad ligger i källaren en trappa ned. Ingen hiss eller ramp finns. 
URL:https://brorhjorthshus.se/evenemang/sportlovsverkstad-mala-med-pigment/
LOCATION:Bror Hjorths Hus\, Norbyvägen 26\, Uppsala\, 752 39\, SE
CATEGORIES:Barn & Familj,Verkstad/kurs,Visning
ATTACH;FMTTYPE=image/jpeg:https://brorhjorthshus.se/wp-content/uploads/2024/01/Familjevisning_3_25feb2024_12_16_9.jpg
END:VEVENT
BEGIN:VEVENT
DTSTART;TZID=Europe/Stockholm:20240225T141500
DTEND;TZID=Europe/Stockholm:20240225T153000
DTSTAMP:20260422T061945
CREATED:20240118T151544Z
LAST-MODIFIED:20240118T151544Z
UID:14357-1708870500-1708875000@brorhjorthshus.se
SUMMARY:Sportlovsverkstad: Måla med pigment
DESCRIPTION:Familjevisning med skapande verkstad\när ett trevligt sätt för hela familjen att uppleva museet och att prova en konstnärlig teknik. \nEfter en kort visning av Isak Halls utställning med landskapsmålningar skapar vi egna bilder med naturliga pigment på papper. Verkstaden leds av en konstpedagog som hjälper er att komma igång. Inga förkunskaper krävs. \nFamiljevisning med skapande verkstad är tänkt för barn tillsammans med en vuxen. Lämpligt från 4 år och uppåt. \nSöndag 25 februari – Måla med pigment\nkl 14.15-15.30 \nBiljetter\nPris: 50 kr/verkstadsdeltagare (minst 1 vuxen + 1 barn).\nBiljetter köps via Tickster eller i museet under öppettid (släpps 5 februari).\nBegränsat antal platser. Max 15 personer (inkl vuxna) per tillfälle.\nObs! Museets familjeverkstad ligger i källaren en trappa ned. Ingen hiss eller ramp finns. 
URL:https://brorhjorthshus.se/evenemang/sportlovsverkstad-mala-med-pigment-2/
LOCATION:Bror Hjorths Hus\, Norbyvägen 26\, Uppsala\, 752 39\, SE
CATEGORIES:Barn & Familj,Verkstad/kurs,Visning
ATTACH;FMTTYPE=image/jpeg:https://brorhjorthshus.se/wp-content/uploads/2024/01/Familjevisning_3_25feb2024_14_16_9.jpg
END:VEVENT
BEGIN:VEVENT
DTSTART;TZID=Europe/Stockholm:20240228T190000
DTEND;TZID=Europe/Stockholm:20240228T200000
DTSTAMP:20260422T061945
CREATED:20240125T203327Z
LAST-MODIFIED:20240129T112725Z
UID:14465-1709146800-1709150400@brorhjorthshus.se
SUMMARY:Möt konstnären: Isak Hall
DESCRIPTION:Isak Hall berättar om sitt konstnärskap\, måleriteknik och den pågående utställningen Fatamorgana. \nIsak Hall inspireras i sitt måleri av konsthistoriens mästare och äldre måleritekniker. Färgpigmenten blandar han själv och arbetar sedan i lager på lager i tunna skikt med olje-och temperafärger och fernissa. Hall prövar sig fram för att hitta den rätta blandningen av pigment och bindemedel för att uppnå den lyster och det uttryck han eftersträvar. Med detta skapar han målningar som spelar med ljus\, mörker och djup. \nIsak Hall (född 1978) bor och arbetar i Uppsala. Han gick ut Kungl. Konsthögskolan 2013 och har ställt ut på bland annat CFHill\, Bonniers konsthall och Luleåbiennalen. Under hösten 2023  visades några av hans målningar i Uppsala domkyrka. \nBiljetter\nPris: 60 kr\nFri entré för Bror Hjorthföreningens medlemmar (Obs! ”Köp” biljett på Tickster)\nBiljetter köps på Tickster.com eller i museet under öppettid.\nFöredraget ges med stöd från Bror Hjorthföreningen
URL:https://brorhjorthshus.se/evenemang/mot-konstnaren-isak-hall/
LOCATION:Bror Hjorths Hus\, Norbyvägen 26\, Uppsala\, 752 39\, SE
CATEGORIES:Föredrag & Konsert,Visning
ATTACH;FMTTYPE=image/jpeg:https://brorhjorthshus.se/wp-content/uploads/2024/01/Mot_konstnaren_Isak_Hall_28feb_16_9.jpg
END:VEVENT
BEGIN:VEVENT
DTSTART;TZID=Europe/Stockholm:20240229T183000
DTEND;TZID=Europe/Stockholm:20240229T203000
DTSTAMP:20260422T061945
CREATED:20240130T142050Z
LAST-MODIFIED:20240130T151743Z
UID:14522-1709231400-1709238600@brorhjorthshus.se
SUMMARY:Skulpturkurs för vuxna - Porträtt
DESCRIPTION:Upptäck tredimensionell form genom att arbeta skulpturalt i lera. Med porträtt som utgångspunkt undersöker vi form och volym. Vi tar hjälp av Bror Hjorth genom att studera hur han har skapat sina fantastiska verk.\nInga förkunskaper krävs. För vuxna från 18 år. \nUnder fyra tillfällen kommer vi att fördjupa oss i människans huvud\, dess proportioner och uttryck genom att skulptera ett självporträtt. Skulpturen bränns efter kursens slut. \nKursledare är konstnären\, tillika museets erfarna konstpedagog\, Katarina Sundkvist Zohari. \nKurstider\nTorsdagar 29 feb\, 7 mars\, 14 mars och 21 mars kl 18.30-20.30.\nAllt material och fika ingår. \nObs! Museets verkstad ligger i källaren en trappa ner. Ramp och hiss saknas. \nPris: 1250 kr för fyra tillfällen.\nDatum: 29 feb\, 7 mars\, 14 mars och 21 mars kl 18.30-20.30\nAnmälan: Tickster.com eller i museet under öppettid\nFrågor? Mejla konstskola@brorhjorthshus.se eller ring 018-567030 
URL:https://brorhjorthshus.se/evenemang/skulpturkurs-for-vuxna-portratt-3/
LOCATION:Bror Hjorths Hus\, Norbyvägen 26\, Uppsala\, 752 39\, SE
CATEGORIES:Verkstad/kurs
ATTACH;FMTTYPE=image/jpeg:https://brorhjorthshus.se/wp-content/uploads/2024/01/Skulpturkurs_vuxna_vt2024_16x9.jpg
END:VEVENT
END:VCALENDAR