BEGIN:VCALENDAR
VERSION:2.0
PRODID:-//Bror Hjorths Hus - ECPv6.15.20//NONSGML v1.0//EN
CALSCALE:GREGORIAN
METHOD:PUBLISH
X-WR-CALNAME:Bror Hjorths Hus
X-ORIGINAL-URL:https://brorhjorthshus.se
X-WR-CALDESC:Händelser för Bror Hjorths Hus
REFRESH-INTERVAL;VALUE=DURATION:PT1H
X-Robots-Tag:noindex
X-PUBLISHED-TTL:PT1H
BEGIN:VTIMEZONE
TZID:Europe/Stockholm
BEGIN:DAYLIGHT
TZOFFSETFROM:+0100
TZOFFSETTO:+0200
TZNAME:CEST
DTSTART:20220327T010000
END:DAYLIGHT
BEGIN:STANDARD
TZOFFSETFROM:+0200
TZOFFSETTO:+0100
TZNAME:CET
DTSTART:20221030T010000
END:STANDARD
BEGIN:DAYLIGHT
TZOFFSETFROM:+0100
TZOFFSETTO:+0200
TZNAME:CEST
DTSTART:20230326T010000
END:DAYLIGHT
BEGIN:STANDARD
TZOFFSETFROM:+0200
TZOFFSETTO:+0100
TZNAME:CET
DTSTART:20231029T010000
END:STANDARD
BEGIN:DAYLIGHT
TZOFFSETFROM:+0100
TZOFFSETTO:+0200
TZNAME:CEST
DTSTART:20240331T010000
END:DAYLIGHT
BEGIN:STANDARD
TZOFFSETFROM:+0200
TZOFFSETTO:+0100
TZNAME:CET
DTSTART:20241027T010000
END:STANDARD
END:VTIMEZONE
BEGIN:VEVENT
DTSTART;TZID=Europe/Stockholm:20230901T140000
DTEND;TZID=Europe/Stockholm:20230901T144500
DTSTAMP:20260422T162839
CREATED:20230829T072816Z
LAST-MODIFIED:20230829T072816Z
UID:7176-1693576800-1693579500@brorhjorthshus.se
SUMMARY:Guidad visning: Bror Hjorths konst och hem
DESCRIPTION:Guidad visning av Bror Hjorths konst och hem. Vi tittar på konstverk i olika material och tekniker från hela Bror Hjorths konstnärskap och berättar om hans liv genom bilderna. Du får också veta hur huset och museet kom till och har förändrats genom åren. \nVisningen är gratis och ca 45 min lång.
URL:https://brorhjorthshus.se/evenemang/guidad-visning-bror-hjorths-konst-och-hem-18/
LOCATION:Bror Hjorths Hus\, Norbyvägen 26\, Uppsala\, 752 39\, SE
CATEGORIES:Visning
ATTACH;FMTTYPE=image/jpeg:https://brorhjorthshus.se/wp-content/uploads/2023/08/BH_visning_1_sep.jpg
END:VEVENT
BEGIN:VEVENT
DTSTART;TZID=Europe/Stockholm:20230901T190000
DTEND;TZID=Europe/Stockholm:20230901T200000
DTSTAMP:20260422T162839
CREATED:20230815T144504Z
LAST-MODIFIED:20230818T095133Z
UID:7116-1693594800-1693598400@brorhjorthshus.se
SUMMARY:Konsert: Sofia Hultqvist Kott - folkmusikstipendiat 2023
DESCRIPTION:Sofia Hultqvist Kott är den första sångaren att motta Bror Hjorthföreningens folkmusikstipendium. Hon tilldelades stipendiet ”för det sätt på vilket hon berör med både sin unika röst och sitt mogna uttryck\, där man anar både tradition och en väg framåt.”  \nSofia Hultqvist Kott är en mångsidig musiker\, konstnär och kompositör. Under våren 2023 tog hon kandidatexamen i Svensk folkmusik från Kungliga Musikhögskolan. Sofia är verksam som solomusiker och som sångerska i ett flertal konstellationer\, däribland folktrion Kalejdoskop. Sedan 2021 är hon också en av medlemmarna i den hyllade folkliga vokalkvartetten Kongero. \nSofia Hultqvist Kott (född 2000) växte upp på Per-Olsgården i Vallbo\, en liten fjällby belägen i de jämtländska Vålådalsfjällen. Hemmet var fullt av musik och konst\, och Sofia har tidiga minnen av Allan Edwall och Norrlåtar som ekar genom huset från kökets skivspelare. Barndomens toner och kulturskolans resor till midtvinterdansen i Verdal satte sina spår och ledde till vidare studier i folk- och världsmusik på Framnäs Folkhögskola. \nHennes alster tar inspiration från den Jämtländska fjällvärlden och berättar om årstidernas former\, hemlängtans tecken och förändringens sorg. Tillsammans med favoriter ur den folkliga vokaltraditionen blir kvällen en hyllning till den miljö som hon håller närmast om hjärtat. Under delar av konserten ackompanjeras hon av Jim Base på elgitarr och Óskar Guðnason på sång och klockspel. \n\nBror Hjorthföreningens folkmusikstipendium delas ut vartannat år till minne av konstnären Bror Hjorth\, som var mycket intresserad\, och en stor tillskyndare\, av svensk folkmusik. Juryn har bestått av Ditte Andersson\, Sonia Sahlström samt Olov Johansson\, samtliga verksamma folkmusiker. \nEtt litet smakprov finns här:\nhttps://www.youtube.com/watch?v=Ctt6jm6fz-Y \nBiljetter köps via Tickster eller i museets reception under öppettid (från 19 aug).\nSittplats: 160 kr.\nBror Hjorthföreningens medlemmar går gratis (med rabattkod för medlemmar).\nKonserten arrangeras av Bror Hjorths Hus och Bror Hjorthföreningen.
URL:https://brorhjorthshus.se/evenemang/konsert-sofia-hultqvist-kott-folkmusikstipendiat-2023/
LOCATION:Bror Hjorths Hus\, Norbyvägen 26\, Uppsala\, 752 39\, SE
CATEGORIES:Föredrag & Konsert
ATTACH;FMTTYPE=image/jpeg:https://brorhjorthshus.se/wp-content/uploads/2023/08/Sofia_HK_16_9_konsert.jpg
END:VEVENT
BEGIN:VEVENT
DTSTART;TZID=Europe/Stockholm:20230903T123000
DTEND;TZID=Europe/Stockholm:20230903T134500
DTSTAMP:20260422T162839
CREATED:20230816T112336Z
LAST-MODIFIED:20230816T113739Z
UID:7122-1693744200-1693748700@brorhjorthshus.se
SUMMARY:Familjevisning med verkstad : Skulptur
DESCRIPTION:Familjevisning med skapande verkstad\när ett trevligt sätt för hela familjen att uppleva museet och att prova en konstnärlig teknik. \nVi tittar först kort på några skulpturer i museet.\nDärefter går vi till museets verkstad för att göra egna skulpturer i lera.\nVerkstaden leds av en konstpedagog som hjälper dig att komma igång. Inga förkunskaper krävs. \nFamiljevisning med skapande verkstad är tänkt för barn tillsammans med en vuxen.\nLämpligt från 4 år och uppåt. \nSöndag 3 september – Skulptur\nkl 12.30-13.45 och kl 14.15-15.30 \nBiljetter\nBegränsat antal platser. Max 15 personer (inkl vuxna) per tillfälle.\nFamiljevisning kostar 40 kr/verkstadsdeltagare.\nBiljetter köps via Tickster eller i museet (fr o m 14 juni).\nObs! Museets verkstad ligger i källaren en trappa ned. Ingen hiss eller ramp finns.
URL:https://brorhjorthshus.se/evenemang/familjevisning-med-verkstad-skulptur-5/
LOCATION:Bror Hjorths Hus\, Norbyvägen 26\, Uppsala\, 752 39\, SE
CATEGORIES:Barn & Familj,Verkstad/kurs,Visning
ATTACH;FMTTYPE=image/jpeg:https://brorhjorthshus.se/wp-content/uploads/2023/08/Familj_1sep_Hemsida_16_9.jpg
END:VEVENT
BEGIN:VEVENT
DTSTART;TZID=Europe/Stockholm:20230903T140000
DTEND;TZID=Europe/Stockholm:20230903T144500
DTSTAMP:20260422T162839
CREATED:20230829T073212Z
LAST-MODIFIED:20230829T073213Z
UID:7182-1693749600-1693752300@brorhjorthshus.se
SUMMARY:Guidad visning: Bror Hjorths konst och hem
DESCRIPTION:Guidad visning av Bror Hjorths konst och hem. Vi tittar på konstverk i olika material och tekniker från hela Bror Hjorths konstnärskap och berättar om hans liv genom bilderna. Du får också veta hur huset och museet kom till och har förändrats genom åren. \nVisningen är gratis och ca 45 min lång.
URL:https://brorhjorthshus.se/evenemang/guidad-visning-bror-hjorths-konst-och-hem-21/2023-09-03/
LOCATION:Bror Hjorths Hus\, Norbyvägen 26\, Uppsala\, 752 39\, SE
CATEGORIES:Visning
ATTACH;FMTTYPE=image/jpeg:https://brorhjorthshus.se/wp-content/uploads/2023/08/BH_visning_son_14.jpg
END:VEVENT
BEGIN:VEVENT
DTSTART;TZID=Europe/Stockholm:20230903T141500
DTEND;TZID=Europe/Stockholm:20230903T153000
DTSTAMP:20260422T162839
CREATED:20230816T112448Z
LAST-MODIFIED:20230816T113821Z
UID:7126-1693750500-1693755000@brorhjorthshus.se
SUMMARY:Familjevisning med verkstad : Skulptur
DESCRIPTION:Familjevisning med skapande verkstad\när ett trevligt sätt för hela familjen att uppleva museet och att prova en konstnärlig teknik. \nVi tittar först kort på några skulpturer i museet.\nDärefter går vi till museets verkstad för att göra egna skulpturer i lera.\nVerkstaden leds av en konstpedagog som hjälper dig att komma igång. Inga förkunskaper krävs. \nFamiljevisning med skapande verkstad är tänkt för barn tillsammans med en vuxen.\nLämpligt från 4 år och uppåt. \nSöndag 3 september – Skulptur\nkl 12.30-13.45 och kl 14.15-15.30 \nBiljetter\nBegränsat antal platser. Max 15 personer (inkl vuxna) per tillfälle.\nFamiljevisning kostar 40 kr/verkstadsdeltagare.\nBiljetter köps via Tickster eller i museet (fr o m 14 juni).\nObs! Museets verkstad ligger i källaren en trappa ned. Ingen hiss eller ramp finns.
URL:https://brorhjorthshus.se/evenemang/7126/
LOCATION:Bror Hjorths Hus\, Norbyvägen 26\, Uppsala\, 752 39\, SE
CATEGORIES:Barn & Familj,Verkstad/kurs,Visning
ATTACH;FMTTYPE=image/jpeg:https://brorhjorthshus.se/wp-content/uploads/2023/08/Familj_1sep_Hemsida_16_9.jpg
END:VEVENT
BEGIN:VEVENT
DTSTART;TZID=Europe/Stockholm:20230907T140000
DTEND;TZID=Europe/Stockholm:20230907T144500
DTSTAMP:20260422T162839
CREATED:20230829T072922Z
LAST-MODIFIED:20230829T072923Z
UID:7178-1694095200-1694097900@brorhjorthshus.se
SUMMARY:Guidad visning: Bror Hjorths konst och hem
DESCRIPTION:Guidad visning av Bror Hjorths konst och hem. Vi tittar på konstverk i olika material och tekniker från hela Bror Hjorths konstnärskap och berättar om hans liv genom bilderna. Du får också veta hur huset och museet kom till och har förändrats genom åren. \nVisningen är gratis och ca 45 min lång.
URL:https://brorhjorthshus.se/evenemang/guidad-visning-bror-hjorths-konst-och-hem-19/
LOCATION:Bror Hjorths Hus\, Norbyvägen 26\, Uppsala\, 752 39\, SE
CATEGORIES:Visning
ATTACH;FMTTYPE=image/jpeg:https://brorhjorthshus.se/wp-content/uploads/2023/08/BH_visning_7_sep.jpg
END:VEVENT
BEGIN:VEVENT
DTSTART;TZID=Europe/Stockholm:20230908T140000
DTEND;TZID=Europe/Stockholm:20230908T144500
DTSTAMP:20260422T162840
CREATED:20230829T073015Z
LAST-MODIFIED:20230829T073015Z
UID:7180-1694181600-1694184300@brorhjorthshus.se
SUMMARY:Guidad visning: Bror Hjorths konst och hem
DESCRIPTION:Guidad visning av Bror Hjorths konst och hem. Vi tittar på konstverk i olika material och tekniker från hela Bror Hjorths konstnärskap och berättar om hans liv genom bilderna. Du får också veta hur huset och museet kom till och har förändrats genom åren. \nVisningen är gratis och ca 45 min lång.
URL:https://brorhjorthshus.se/evenemang/guidad-visning-bror-hjorths-konst-och-hem-20/
LOCATION:Bror Hjorths Hus\, Norbyvägen 26\, Uppsala\, 752 39\, SE
CATEGORIES:Visning
ATTACH;FMTTYPE=image/jpeg:https://brorhjorthshus.se/wp-content/uploads/2023/08/BH_visning_8_sep.jpg
END:VEVENT
BEGIN:VEVENT
DTSTART;TZID=Europe/Stockholm:20230909T120000
DTEND;TZID=Europe/Stockholm:20230909T160000
DTSTAMP:20260422T162840
CREATED:20230829T094953Z
LAST-MODIFIED:20230829T094953Z
UID:7255-1694260800-1694275200@brorhjorthshus.se
SUMMARY:Skulpturverkstad för små och stora (utomhus)
DESCRIPTION:Bror Hjorth skulpterade personer som han tyckte om.\nVem vill du hedra med en skulptur?\nSkapa en egen skulptur i lera av någon du tycker om. \nInspireras av Bror Hjorths konst. Familjevisning kl 12.30-13.00. \nGratis.\nDrop-in kl 12-16.\nInga förkunskaper krävs.\nVid bra väder är verkstaden utomhus. \nOBS! Vi har många platser utomhus\, men inte ett obegränsat antal\, så kö kan uppstå.\nVi sämre väder kommer kösystem att tillämpas inomhus. \nProgrammet ges i samarbete med Bror Hjorthföreningen
URL:https://brorhjorthshus.se/evenemang/skulpturverkstad-for-sma-och-stora-utomhus/
LOCATION:Bror Hjorths Hus\, Norbyvägen 26\, Uppsala\, 752 39\, SE
CATEGORIES:Barn & Familj,Verkstad/kurs
ATTACH;FMTTYPE=image/jpeg:https://brorhjorthshus.se/wp-content/uploads/2023/05/kulturnatten_2023_verkstad.jpg
END:VEVENT
BEGIN:VEVENT
DTSTART;TZID=Europe/Stockholm:20230909T120000
DTEND;TZID=Europe/Stockholm:20230909T200000
DTSTAMP:20260422T162840
CREATED:20230525T141544Z
LAST-MODIFIED:20230829T124358Z
UID:6908-1694260800-1694289600@brorhjorthshus.se
SUMMARY:Kulturnatten i Bror Hjorths Hus
DESCRIPTION:Öppet kl 12-20\nFri entré \nKl 12.30-13.00       Familjevisning: Vad gillade Bror Hjorth?\nFamiljevisning av Bror Hjorths konst ca 20 min. Följs av skulpturverkstad för små och stora (drop-in). Gratis. \nKl 12.00-16.00       Verkstad: Lera! – Skulpturverkstad för barn och vuxna (Ute vid bra väder)\nBror Hjorth skulpterade personer som han tyckte om. Vem vill du hedra med en skulptur? Inspireras av Bror Hjorths konst och skapa en egen skulptur i lera av någon du tycker om.\nGratis. Drop-in. Inga förkunskaper krävs. Vid bra väder är verkstaden utomhus. \nKl 13.00-13.30       Guided tour: Bror Hjorth’s art and life\nLearn more about the artist Bror Hjorth\, his art and the museum. \nKl 14.00-14.30       Invigning av utställning: Jonathan Josefsson OLLIO – Evigt sökande\nUtställningen med Jonathan Josefsson invigs. \nKl 15.00-15.30       Visning: Bror Hjorth konst och hem\nEn introduktion till konsten i museet. \nKl 16.00-16.30       Visning: Jonathan Josefsson\nKonstnären visar sin utställning. \nKl 17.00-17.30       Visning: Färg! – Bror Hjorth och färgen\nOm hur Bror Hjorth använde färg i sin konst\, i måleriet och på skulpturer. \nKl 17.30-19.30       Verkstad: Graffitiworkshop med OLLIO! (Utomhus i museets trädgård)\nGraffitikonstnären OLLIO leder workshop för vuxna och ungdomar från 14 år.\nBegränsat antal. Förbokning krävs. Pris: 150 kr/pers.\nLäs mer här \nKl 18.00-18.30       Visning: Musik!  – Bror Hjorth och musiken\nVad diggade Bror Hjorth? Om konstnärens förhållande till musiken (med musikaliska exempel). \nKl 19.00-19.30      Visning: Kropp! – Bror Hjorth och människan\nOm hur Bror Hjorth avbildat den nakna mänskliga kroppen. \n\nNäckens polska vid Resecentrum  (utomhus)\nKl 18.30\, 19.00\, 19.30 och 20.00 Visning: Näckens polska\nVisning av Bror Hjorths skulptur Näckens polska vid Resecentrum (ca 15-20 min). Om tillkomst\, mottagande och tolkningar av motivet. \nProgrammet ges i samarbete med Bror Hjorthföreningen \nKulturnattens hemsida
URL:https://brorhjorthshus.se/evenemang/kulturnatten-i-bror-hjorths-hus-4/
CATEGORIES:Barn & Familj,Föredrag & Konsert,Verkstad/kurs,Visning
ATTACH;FMTTYPE=image/jpeg:https://brorhjorthshus.se/wp-content/uploads/2023/05/kulturnatten_2023_event.jpg
ORGANIZER;CN="Bror Hjorths Hus":MAILTO:info@brorhjorthshus.se
END:VEVENT
BEGIN:VEVENT
DTSTART;TZID=Europe/Stockholm:20230909T123000
DTEND;TZID=Europe/Stockholm:20230909T130000
DTSTAMP:20260422T162840
CREATED:20230829T094438Z
LAST-MODIFIED:20230829T094438Z
UID:7253-1694262600-1694264400@brorhjorthshus.se
SUMMARY:Familjevisning: Vad gillade Bror Hjorth?
DESCRIPTION:Familjevisning av Bror Hjorths konst (ca 20 min).\nVad inspirerade Bror Hjorth och vad gillade han? \nKanske blir du själv inspirerad att skapa något.\nI trädgården ges en skulpturverkstad för små och stora (drop-in kl 12-16). \nProgrammet ges i samarbete med Bror Hjorthföreningen
URL:https://brorhjorthshus.se/evenemang/familjevisning-vad-gillade-bror-hjorth-2/
LOCATION:Bror Hjorths Hus\, Norbyvägen 26\, Uppsala\, 752 39\, SE
CATEGORIES:Barn & Familj,Visning
ATTACH;FMTTYPE=image/jpeg:https://brorhjorthshus.se/wp-content/uploads/2023/05/kulturnatten_2023_familjevisning.jpg
END:VEVENT
BEGIN:VEVENT
DTSTART;TZID=Europe/Stockholm:20230909T130000
DTEND;TZID=Europe/Stockholm:20230909T133000
DTSTAMP:20260422T162840
CREATED:20230829T093530Z
LAST-MODIFIED:20230829T093530Z
UID:7246-1694264400-1694266200@brorhjorthshus.se
SUMMARY:Guided tour: Bror Hjorth's art and life
DESCRIPTION:Short guided tour in English. An introduction.\nLearn more about the artist Bror Hjorth\, his art and the museum.\nThe tour is appr. 20-30 min.\nFree.
URL:https://brorhjorthshus.se/evenemang/guided-tour-bror-hjorths-art-and-life/
LOCATION:Bror Hjorths Hus\, Norbyvägen 26\, Uppsala\, 752 39\, SE
CATEGORIES:Visning
ATTACH;FMTTYPE=image/jpeg:https://brorhjorthshus.se/wp-content/uploads/2023/05/kulturnatten_2023_guided_tour.jpg
END:VEVENT
BEGIN:VEVENT
DTSTART;TZID=Europe/Stockholm:20230909T140000
DTEND;TZID=Europe/Stockholm:20230909T143000
DTSTAMP:20260422T162840
CREATED:20230829T091545Z
LAST-MODIFIED:20230831T084501Z
UID:7222-1694268000-1694269800@brorhjorthshus.se
SUMMARY:Invigning: Jonathan Josefsson OLLIO
DESCRIPTION:Utställningen invigs med ett samtal mellan museichef Tomas Järliden och konstnären Jonathan Josefsson OLLIO. \nJonathan Josefsson (född 1978) har sin bakgrund som graffitimålare. Under tagen OLLIO har han arbetat med stora ytor runt om i Sverige och övriga världen\, fascinerad av formatet och målningarnas tillfälliga karaktär. Uttrycket har utvecklats genom experiment med nya material och tekniker. Sedan utbildningen på HDK Valand har Jonathan Josefsson också gjort tuftade mattor. Mattorna\, liksom hans målningar\, är ofta färgstarka i organiska former. I utställningen ”Evigt sökande” blandas textil och måleri. Dessutom gör OLLIO en målning direkt på museets konsthallsvägg. \nJonathan Josefsson har ställt ut flitigt runt om i Sverige och gjort ett stort antal offentliga gestaltningar.
URL:https://brorhjorthshus.se/evenemang/invigning-jonathan-josefsson-ollio/
LOCATION:Bror Hjorths Hus\, Norbyvägen 26\, Uppsala\, 752 39\, SE
CATEGORIES:Föredrag & Konsert,Visning
ATTACH;FMTTYPE=image/jpeg:https://brorhjorthshus.se/wp-content/uploads/2023/08/Invigning_OLLIO_Multi_6_16_9.jpg
END:VEVENT
BEGIN:VEVENT
DTSTART;TZID=Europe/Stockholm:20230909T150000
DTEND;TZID=Europe/Stockholm:20230909T153000
DTSTAMP:20260422T162840
CREATED:20230829T093133Z
LAST-MODIFIED:20230829T093133Z
UID:7226-1694271600-1694273400@brorhjorthshus.se
SUMMARY:Guidade visningar: Hem! Färg! Musik! Kropp!
DESCRIPTION:Kortare guidade visningar på olika teman under Kulturnatten.\nVisningarna är ca 20-30 min. \nKl 15.00-15.30       Visning: Hem! Bror Hjorth konst och hem\nEn introduktion till konsten i museet. \nKl 17.00-17.30       Visning: Färg! – Bror Hjorth och färgen\nOm hur Bror Hjorth använde färg i sin konst\, i måleriet och på skulpturer. \nKl 18.00-18.30       Visning: Musik!  – Bror Hjorth och musiken\nVad diggade Bror Hjorth? Om konstnärens förhållande till musiken (med musikaliska exempel). \nKl 19.00-19.30      Visning: Kropp! – Bror Hjorth och människan\nOm hur Bror Hjorth avbildat den nakna mänskliga kroppen. \nProgrammet ges i samarbete med Bror Hjorthföreningen \n 
URL:https://brorhjorthshus.se/evenemang/guidade-visningar-hem-farg-musik-kropp/
LOCATION:Bror Hjorths Hus\, Norbyvägen 26\, Uppsala\, 752 39\, SE
CATEGORIES:Visning
ATTACH;FMTTYPE=image/jpeg:https://brorhjorthshus.se/wp-content/uploads/2023/05/kulturnatten_2023_temavisningar.jpg
END:VEVENT
BEGIN:VEVENT
DTSTART;TZID=Europe/Stockholm:20230909T160000
DTEND;TZID=Europe/Stockholm:20230909T163000
DTSTAMP:20260422T162840
CREATED:20230829T094023Z
LAST-MODIFIED:20230829T094023Z
UID:7251-1694275200-1694277000@brorhjorthshus.se
SUMMARY:Guidad visning: OLLIO visar sin utställning
DESCRIPTION:Konstnären Jonathan Josefsson\, också känd under tagen OLLIO\, visar själv sin utställning ”Evigt sökande”. \nJonathan Josefsson (född 1978) har sin bakgrund som graffitimålare och har arbetat med stora ytor runt om i Sverige och övriga världen\, fascinerad av formatet och målningarnas tillfälliga karaktär. Uttrycket har utvecklats genom experiment med nya material och tekniker. Sedan utbildningen på HDK Valand har han också gjort tuftade mattor. Mattorna\, liksom hans målningar\, är ofta färgstarka i organiska former. I utställningen ”Evigt sökande” blandas textil\, måleri och väggmålning. \nJonathan Josefsson har ställt ut flitigt runt om i Sverige och gjort ett stort antal offentliga gestaltningar på skolor\, förskolor\, sjukhus m. m.
URL:https://brorhjorthshus.se/evenemang/guidad-visning-ollio-visar-sin-utstallning/
LOCATION:Bror Hjorths Hus\, Norbyvägen 26\, Uppsala\, 752 39\, SE
CATEGORIES:Föredrag & Konsert,Visning
ATTACH;FMTTYPE=image/jpeg:https://brorhjorthshus.se/wp-content/uploads/2023/05/kulturnatten_2023_OLLIO_visning.jpg
END:VEVENT
BEGIN:VEVENT
DTSTART;TZID=Europe/Stockholm:20230909T173000
DTEND;TZID=Europe/Stockholm:20230909T193000
DTSTAMP:20260422T162840
CREATED:20230829T100328Z
LAST-MODIFIED:20230829T105326Z
UID:7259-1694280600-1694287800@brorhjorthshus.se
SUMMARY:Graffitiworkshop med OLLIO
DESCRIPTION:Graffitikonstnären OLLIO leder workshop för vuxna och ungdomar från 14 år. \nJonathan Josefsson\, OLLIO\, är en välkänd graffitikonstnär bosatt i Göteborg.\nJust nu visar hans utställning ”Evigt sökande” på Bror Hjorths Hus (invigs 9 sep kl 14).\nPå Kulturnatten ges ett unikt tillfälle att få skapa under hans ledning.\nSkissarbete sker i museets verkstad. En vägg för graffitimålning finns i trädgården. \nOömma kläder rekommenderas.\nAnpassa kläder efter väderleken eftersom spraymålandet kommer ske utomhus. \nBegränsat antal. Förköp möjligt.\nOBS! Från 14 år. \nPris: 150 kr/pers.\nBiljetter köps på Tickster.com eller i museet under öppettid.\n\nKulturnattsprogrammet i Bror Hjorths Hus i samarbete med Bror Hjorthföreningen \nKulturnattens hemsida
URL:https://brorhjorthshus.se/evenemang/graffitiworkshop-med-ollio/
LOCATION:Bror Hjorths Hus\, Norbyvägen 26\, Uppsala\, 752 39\, SE
CATEGORIES:Verkstad/kurs
ATTACH;FMTTYPE=image/jpeg:https://brorhjorthshus.se/wp-content/uploads/2023/08/Graffitiverkstad_hemsida_16_9.jpg
END:VEVENT
BEGIN:VEVENT
DTSTART;TZID=Europe/Stockholm:20230909T183000
DTEND;TZID=Europe/Stockholm:20230909T203000
DTSTAMP:20260422T162840
CREATED:20230829T095552Z
LAST-MODIFIED:20230829T095552Z
UID:7257-1694284200-1694291400@brorhjorthshus.se
SUMMARY:Näckens polska - visningar vid Resecentrum
DESCRIPTION:Visningar vid Resecentrum\nKl 18.30\, 19.00\, 19.30 och 20.00: Skulpturen Näckens polska.\nGratis. \nHur kom Bror Hjorths skulptur till? Varför ser skulpturen ut som den gör? Varför väckte den så mycket debatt innan den kom på plats? I de guidade visningarna försöker vi svara på några av ovanstående frågor\, samt ger några möjliga tolkningar av skulpturen. \nVisningarna är ca 15-20 min. \nKulturnattsprogrammet i Bror Hjorths Hus i samarbete med Bror Hjorthföreningen \nKulturnattens hemsida
URL:https://brorhjorthshus.se/evenemang/nackens-polska-visningar-vid-resecentrum/
LOCATION:Näckens polska\, Olof Palmes plats\, Uppsala\, 75321\, Sverige
CATEGORIES:Visning
ATTACH;FMTTYPE=image/jpeg:https://brorhjorthshus.se/wp-content/uploads/2023/05/kulturnatten_2023_nackens_polska.jpg
GEO:59.858506;17.645898
X-APPLE-STRUCTURED-LOCATION;VALUE=URI;X-ADDRESS=Näckens polska Olof Palmes plats Uppsala 75321 Sverige;X-APPLE-RADIUS=500;X-TITLE=Olof Palmes plats:geo:17.645898,59.858506
END:VEVENT
BEGIN:VEVENT
DTSTART;TZID=Europe/Stockholm:20230910T130000
DTEND;TZID=Europe/Stockholm:20230910T133000
DTSTAMP:20260422T162840
CREATED:20230829T074846Z
LAST-MODIFIED:20230829T074846Z
UID:7213-1694350800-1694352600@brorhjorthshus.se
SUMMARY:Guidad visning: Jonathan Josefsson OLLIO
DESCRIPTION:Guidad visning av Jonathan Josefsson OLLIOs utställningen ”Evigt sökande”.\nVisningen är ca 30 min och gratis. \nJonathan Josefsson (född 1978) har sin bakgrund som graffitimålare. Under tagen OLLIO har han arbetat med stora ytor runt om i Sverige och övriga världen. Sedan utbildningen på HDK Valand har han också gjort tuftade mattor. I utställningen blandas textil och måleri.\nLäs mer
URL:https://brorhjorthshus.se/evenemang/guidad-visning-jonathan-josefsson-ollio/2023-09-10/
LOCATION:Bror Hjorths Hus\, Norbyvägen 26\, Uppsala\, 752 39\, SE
CATEGORIES:Visning
ATTACH;FMTTYPE=image/jpeg:https://brorhjorthshus.se/wp-content/uploads/2023/08/OLLIO_visning_son_13.jpg
END:VEVENT
BEGIN:VEVENT
DTSTART;TZID=Europe/Stockholm:20230914T140000
DTEND;TZID=Europe/Stockholm:20230914T144500
DTSTAMP:20260422T162840
CREATED:20230829T073948Z
LAST-MODIFIED:20230829T073948Z
UID:7200-1694700000-1694702700@brorhjorthshus.se
SUMMARY:Guidad visning: OLLIO / Hjorth
DESCRIPTION:Kombinerad visning av utställningen med Jonathan Josefsson OLLIO och Bror Hjorth konst och hem.\nVisningen är ca 45 min och gratis. \nVi börjar i konsthallen med en introducerande visning av den aktuella utställningen. Jonathan Josefsson (född 1978) har sin bakgrund som graffitimålare. Under tagen OLLIO har han arbetat med stora ytor runt om i Sverige och övriga världen. Sedan utbildningen på HDK Valand har han också gjort tuftade mattor. I utställningen blandas textil och måleri. \nDärefter fortsätter vi in i Bror Hjorths hem och ateljé och tittar på konstverk i olika material och tekniker från hela Bror Hjorths konstnärskap och berättar om hans liv genom bilderna.
URL:https://brorhjorthshus.se/evenemang/guidad-visning-ollio-hjorth/2023-09-14/
LOCATION:Bror Hjorths Hus\, Norbyvägen 26\, Uppsala\, 752 39\, SE
CATEGORIES:Visning
ATTACH;FMTTYPE=image/jpeg:https://brorhjorthshus.se/wp-content/uploads/2023/08/Guidad_visning_OLLIO_Hjorth.jpg
END:VEVENT
BEGIN:VEVENT
DTSTART;TZID=Europe/Stockholm:20230914T180000
DTEND;TZID=Europe/Stockholm:20230914T200000
DTSTAMP:20260422T162840
CREATED:20230904T092833Z
LAST-MODIFIED:20230904T092834Z
UID:7289-1694714400-1694721600@brorhjorthshus.se
SUMMARY:Kvällsöppet
DESCRIPTION:Se Jonathan Josefsson OLLIOs utställningen och Bror Hjorths konst och hem. \nUpplev en hemtrevlig kväll i museet!\nIntroduktionsvisningar av utställning och Bror Hjorths konst. I teckningsrummet visar vi Karstens Wedels film om och med Bror Hjorth (15 min). Under kvällen bjuder vi på kaffe/te och saft vid köp av något i kaféet eller museibutiken. \nIntroduktionsvisning\nOLLIOs utställning  kl 18.30\nBror Hjorths konst och hem kl 19.15.\nVisningarna är ca 15-20 min. \nFri entré
URL:https://brorhjorthshus.se/evenemang/kvallsoppet-4/
LOCATION:Bror Hjorths Hus\, Norbyvägen 26\, Uppsala\, 752 39\, SE
CATEGORIES:Visning
ATTACH;FMTTYPE=image/jpeg:https://brorhjorthshus.se/wp-content/uploads/2023/09/Kvallsoppet_14_sep_2023_16_9.jpg
END:VEVENT
BEGIN:VEVENT
DTSTART;TZID=Europe/Stockholm:20230927T190000
DTEND;TZID=Europe/Stockholm:20230927T200000
DTSTAMP:20260422T162840
CREATED:20230831T095935Z
LAST-MODIFIED:20230831T095935Z
UID:7281-1695841200-1695844800@brorhjorthshus.se
SUMMARY:Möt konstnären: Jonathan Josefsson OLLIO
DESCRIPTION:Jonathan Josefsson\, också känd under tagen OLLIO\, berättar om sitt konstnärskap i anslutning till utställningen Evigt sökande i Bror Hjorths Hus. \nJonathan Josefsson (född 1978) har sin bakgrund som graffitimålare. Under tagen OLLIO har han arbetat med stora ytor runt om i Sverige och övriga världen\, fascinerad av formatet och målningarnas tillfälliga karaktär. Uttrycket har utvecklats genom experiment med nya material och tekniker. Sedan utbildningen på HDK Valand har Jonathan Josefsson också gjort tuftade mattor. Mattorna\, liksom hans målningar\, är ofta färgstarka i organiska former. I utställningen ”Evigt sökande” blandas textil och måleri. Dessutom gör OLLIO en målning direkt på museets konsthallsvägg. \nJonathan Josefsson har ställt ut flitigt runt om i Sverige och gjort ett stort antal offentliga gestaltningar. \nBiljetter\nPris: 60 kr\nFri entré för Bror Hjorthföreningens medlemmar (Obs! ”Köp” biljett på Tickster)\nBiljetter köps på Tickster.com eller i museet under öppettid.\nFöredraget ges med stöd från Bror Hjorthföreningen \n 
URL:https://brorhjorthshus.se/evenemang/mot-konstnaren-jonathan-josefsson-ollio/
LOCATION:Bror Hjorths Hus\, Norbyvägen 26\, Uppsala\, 752 39\, SE
CATEGORIES:Föredrag & Konsert
ATTACH;FMTTYPE=image/jpeg:https://brorhjorthshus.se/wp-content/uploads/2023/08/Mot_OLLIO_16_9.jpg
END:VEVENT
END:VCALENDAR