BEGIN:VCALENDAR
VERSION:2.0
PRODID:-//Bror Hjorths Hus - ECPv6.15.20//NONSGML v1.0//EN
CALSCALE:GREGORIAN
METHOD:PUBLISH
X-ORIGINAL-URL:https://brorhjorthshus.se
X-WR-CALDESC:Händelser för Bror Hjorths Hus
REFRESH-INTERVAL;VALUE=DURATION:PT1H
X-Robots-Tag:noindex
X-PUBLISHED-TTL:PT1H
BEGIN:VTIMEZONE
TZID:Europe/Stockholm
BEGIN:DAYLIGHT
TZOFFSETFROM:+0100
TZOFFSETTO:+0200
TZNAME:CEST
DTSTART:20220327T010000
END:DAYLIGHT
BEGIN:STANDARD
TZOFFSETFROM:+0200
TZOFFSETTO:+0100
TZNAME:CET
DTSTART:20221030T010000
END:STANDARD
BEGIN:DAYLIGHT
TZOFFSETFROM:+0100
TZOFFSETTO:+0200
TZNAME:CEST
DTSTART:20230326T010000
END:DAYLIGHT
BEGIN:STANDARD
TZOFFSETFROM:+0200
TZOFFSETTO:+0100
TZNAME:CET
DTSTART:20231029T010000
END:STANDARD
BEGIN:DAYLIGHT
TZOFFSETFROM:+0100
TZOFFSETTO:+0200
TZNAME:CEST
DTSTART:20240331T010000
END:DAYLIGHT
BEGIN:STANDARD
TZOFFSETFROM:+0200
TZOFFSETTO:+0100
TZNAME:CET
DTSTART:20241027T010000
END:STANDARD
END:VTIMEZONE
BEGIN:VEVENT
DTSTART;TZID=Europe/Stockholm:20230806T123000
DTEND;TZID=Europe/Stockholm:20230806T134500
DTSTAMP:20260422T175916
CREATED:20230613T103516Z
LAST-MODIFIED:20230613T111718Z
UID:6998-1691325000-1691329500@brorhjorthshus.se
SUMMARY:Familjevisning med verkstad : Måleri
DESCRIPTION:Familjevisning med skapande verkstad\när ett trevligt sätt för hela familjen att uppleva museet och att prova en konstnärlig teknik. \nVi tittar först kort på några målningar i museet.\nDärefter går vi till museets verkstad för att göra egna bilder.\nVerkstaden leds av en konstpedagog som hjälper dig att komma igång. Inga förkunskaper krävs. \nFamiljevisning med skapande verkstad är tänkt för barn tillsammans med en vuxen.\nLämpligt från 4 år och uppåt. \nSöndag 6 augusti – Måleri\nkl 12.30-13.45 och kl 14.15-15.30 \nBiljetter\nBegränsat antal platser. Max 15 personer (inkl vuxna) per tillfälle.\nFamiljevisning kostar 40 kr/verkstadsdeltagare.\nBiljetter köps via Tickster eller i museet (fr o m 20 juli).\nObs! Museets verkstad ligger i källaren en trappa ned. Ingen hiss eller ramp finns.
URL:https://brorhjorthshus.se/evenemang/familjevisning-med-verkstad-skulptur-3/2023-08-06/
LOCATION:Bror Hjorths Hus\, Norbyvägen 26\, Uppsala\, 752 39\, SE
CATEGORIES:Barn & Familj,Verkstad/kurs,Visning
ATTACH;FMTTYPE=image/jpeg:https://brorhjorthshus.se/wp-content/uploads/2023/06/Familjevisning_6aug_2023_Hemsida_16_9.jpg
END:VEVENT
BEGIN:VEVENT
DTSTART;TZID=Europe/Stockholm:20230806T141500
DTEND;TZID=Europe/Stockholm:20230806T153000
DTSTAMP:20260422T175916
CREATED:20230613T111850Z
LAST-MODIFIED:20230613T112008Z
UID:7005-1691331300-1691335800@brorhjorthshus.se
SUMMARY:Familjevisning med verkstad : Måleri
DESCRIPTION:Familjevisning med skapande verkstad\när ett trevligt sätt för hela familjen att uppleva museet och att prova en konstnärlig teknik. \nVi tittar först kort på några målningar i museet.\nDärefter går vi till museets verkstad för att göra egna bilder.\nVerkstaden leds av en konstpedagog som hjälper dig att komma igång. Inga förkunskaper krävs. \nFamiljevisning med skapande verkstad är tänkt för barn tillsammans med en vuxen.\nLämpligt från 4 år och uppåt. \nSöndag 6 augusti – Måleri\nkl 12.30-13.45 och kl 14.15-15.30 \nBiljetter\nBegränsat antal platser. Max 15 personer (inkl vuxna) per tillfälle.\nFamiljevisning kostar 40 kr/verkstadsdeltagare.\nBiljetter köps via Tickster eller i museet (fr o m 20 juli).\nObs! Museets verkstad ligger i källaren en trappa ned. Ingen hiss eller ramp finns.
URL:https://brorhjorthshus.se/evenemang/familjevisning-med-verkstad-maleri/
LOCATION:Bror Hjorths Hus\, Norbyvägen 26\, Uppsala\, 752 39\, SE
CATEGORIES:Barn & Familj,Verkstad/kurs,Visning
ATTACH;FMTTYPE=image/jpeg:https://brorhjorthshus.se/wp-content/uploads/2023/06/Familjevisning_6aug_2023_Hemsida_16_9.jpg
END:VEVENT
BEGIN:VEVENT
DTSTART;TZID=Europe/Stockholm:20230823T190000
DTEND;TZID=Europe/Stockholm:20230823T200000
DTSTAMP:20260422T175916
CREATED:20230609T123341Z
LAST-MODIFIED:20230609T123355Z
UID:6986-1692817200-1692820800@brorhjorthshus.se
SUMMARY:Möt konstnären: Gittan Jönsson
DESCRIPTION:Gittan Jönsson berättar om sitt konstnärskap i anslutning till utställningen Nu eller alltid i Bror Hjorths Hus. \nGittan Jönsson (f 1948) är en av den feministiska konstens pionjärer i Sverige. Utställningen gör nedslag i hennes långa och omfattande konstnärskap med fokus på måleri från de senaste fem åren. \nKonsekvent har Gittan Jönsson arbetat med samhällsfrågor som rör makt\, jämställdhet och sociala orättvisor. Skapandet är mångfacetterat: hon målar\, tecknar\, skriver\, skulpterar\, gör film och installationer. I alla hennes verk utgör den egna känslan\, upplevelsen och iakttagelsen klangbotten. Hennes alter ego ”Dammsugerskan”\, som ibland lånar karaktärsdrag från andra betydelsefulla kvinnor i historien\, syns i många bilder och porslinsfiguriner. \nBiljetter\nPris: 60 kr\nFri entré för Bror Hjorthföreningens medlemmar (Obs! ”Köp” biljett på Tickster)\nBiljetter köps på Tickster.com eller i museet under öppettid.\nFöredraget ges med stöd från Bror Hjorthföreningen
URL:https://brorhjorthshus.se/evenemang/mot-konstnaren-gittan-jonsson/
LOCATION:Bror Hjorths Hus\, Norbyvägen 26\, Uppsala\, 752 39\, SE
CATEGORIES:Föredrag & Konsert
ATTACH;FMTTYPE=image/jpeg:https://brorhjorthshus.se/wp-content/uploads/2023/06/Mot_konstnaren_Gittan_Jonsson_16_9.jpg
END:VEVENT
BEGIN:VEVENT
DTSTART;TZID=Europe/Stockholm:20230831T140000
DTEND;TZID=Europe/Stockholm:20230831T144500
DTSTAMP:20260422T175916
CREATED:20230829T072702Z
LAST-MODIFIED:20230829T072702Z
UID:7164-1693490400-1693493100@brorhjorthshus.se
SUMMARY:Guidad visning: Bror Hjorths konst och hem
DESCRIPTION:Guidad visning av Bror Hjorths konst och hem. Vi tittar på konstverk i olika material och tekniker från hela Bror Hjorths konstnärskap och berättar om hans liv genom bilderna. Du får också veta hur huset och museet kom till och har förändrats genom åren. \nVisningen är gratis och ca 45 min lång.
URL:https://brorhjorthshus.se/evenemang/guidad-visning-bror-hjorths-konst-och-hem-17/
LOCATION:Bror Hjorths Hus\, Norbyvägen 26\, Uppsala\, 752 39\, SE
CATEGORIES:Visning
ATTACH;FMTTYPE=image/jpeg:https://brorhjorthshus.se/wp-content/uploads/2023/08/BH_visning_31_aug.jpg
END:VEVENT
END:VCALENDAR