BEGIN:VCALENDAR
VERSION:2.0
PRODID:-//Bror Hjorths Hus - ECPv6.15.20//NONSGML v1.0//EN
CALSCALE:GREGORIAN
METHOD:PUBLISH
X-ORIGINAL-URL:https://brorhjorthshus.se
X-WR-CALDESC:Händelser för Bror Hjorths Hus
REFRESH-INTERVAL;VALUE=DURATION:PT1H
X-Robots-Tag:noindex
X-PUBLISHED-TTL:PT1H
BEGIN:VTIMEZONE
TZID:Europe/Stockholm
BEGIN:DAYLIGHT
TZOFFSETFROM:+0100
TZOFFSETTO:+0200
TZNAME:CEST
DTSTART:20220327T010000
END:DAYLIGHT
BEGIN:STANDARD
TZOFFSETFROM:+0200
TZOFFSETTO:+0100
TZNAME:CET
DTSTART:20221030T010000
END:STANDARD
BEGIN:DAYLIGHT
TZOFFSETFROM:+0100
TZOFFSETTO:+0200
TZNAME:CEST
DTSTART:20230326T010000
END:DAYLIGHT
BEGIN:STANDARD
TZOFFSETFROM:+0200
TZOFFSETTO:+0100
TZNAME:CET
DTSTART:20231029T010000
END:STANDARD
BEGIN:DAYLIGHT
TZOFFSETFROM:+0100
TZOFFSETTO:+0200
TZNAME:CEST
DTSTART:20240331T010000
END:DAYLIGHT
BEGIN:STANDARD
TZOFFSETFROM:+0200
TZOFFSETTO:+0100
TZNAME:CET
DTSTART:20241027T010000
END:STANDARD
END:VTIMEZONE
BEGIN:VEVENT
DTSTART;TZID=Europe/Stockholm:20230505T150000
DTEND;TZID=Europe/Stockholm:20230505T153000
DTSTAMP:20260422T210420
CREATED:20230424T110205Z
LAST-MODIFIED:20230424T124521Z
UID:6838-1683298800-1683300600@brorhjorthshus.se
SUMMARY:Читаем сказки на русском // Sagoläsning på ryska
DESCRIPTION:Читаем сказки на русском \nЧитаем сказки об Акселе Оберге в доме-музее Брура Юрта. На выставке оригинальных иллюстраций Гуниллы Бергстрём Люба прочитает вам об Акселе. \nДобро пожаловать к нам в пятницу 5 мая в 15:00!\nПредварительно записываться не нужно. \nПодходит для детей 3-9 лет вместе со взрослым.\nБесплатный вход в музей и на чтение сказок! \nМузей открыт с четверга по воскресенье с 12:00 до 16:00.\nВыставка иллюстраций Гуниллы Бергстрём проходит до 6 июня. \n\nSagoläsning på ryska \nSagoläsning av Alfons Åberg på Bror Hjorths Hus. Liuba Socican läser mitt i den färgglada utställningen där Gunilla Bergströms originalbilder från Alfonsböckerna hänger på väggarna. \nPassar för barn i ålder 3-9 år tillsammans med vuxen.\nFri entré till utställningen och sagoläsningen. \nMuseet är öppet torsdag- söndag kl 12-16.\nUtställningen Gunilla Bergström – Originalillustrationer pågår t o m 6 juni. \nBild: Gunilla Bergström\, ur God natt\, Alfons Åberg (1972)\n© Bok-Makaren AB
URL:https://brorhjorthshus.se/evenemang/%d1%87%d0%b8%d1%82%d0%b0%d0%b5%d0%bc-%d1%81%d0%ba%d0%b0%d0%b7%d0%ba%d0%b8-%d0%bd%d0%b0-%d1%80%d1%83%d1%81%d1%81%d0%ba%d0%be%d0%bc-sagolasning-pa-ryska/
LOCATION:Bror Hjorths Hus\, Norbyvägen 26\, Uppsala\, 752 39\, SE
CATEGORIES:Barn & Familj,Föredrag & Konsert,Visning
ATTACH;FMTTYPE=image/jpeg:https://brorhjorthshus.se/wp-content/uploads/2023/04/Sagolasning_ryska_16_9.jpg
END:VEVENT
BEGIN:VEVENT
DTSTART;TZID=Europe/Stockholm:20230507T123000
DTEND;TZID=Europe/Stockholm:20230507T134500
DTSTAMP:20260422T210420
CREATED:20230309T115853Z
LAST-MODIFIED:20230311T122734Z
UID:6557-1683462600-1683467100@brorhjorthshus.se
SUMMARY:Familjevisning med verkstad
DESCRIPTION:Familjevisning med skapande verkstad\när ett trevligt sätt för hela familjen att uppleva museet och att prova en konstnärlig teknik. \nVi tittar först kort på utställningen och hämtar inspiration från Gunilla Bergströms skapande och berättelser om Alfons Åberg. I verkstan får du själv skapa med måleri och färgglatt kollagematerial.\nVerkstaden leds av en konstpedagog som hjälper dig att komma igång. Inga förkunskaper krävs. \nFamiljevisning med skapande verkstad är tänkt för barn tillsammans med en vuxen. \nSöndag 7 maj – Alfons Åberg\nkl 12.30-13.30 och kl 14.15-15.15 \nBiljetter\nBegränsat antal platser. Max 15 personer (inkl vuxna) per tillfälle.\nFamiljevisning kostar 40 kr/verkstadsdeltagare.\nBiljetter köps via Tickster eller i museet.\nObs! Museets verkstad ligger i källaren en trappa ned. Ingen hiss eller ramp finns. \n© Bok-Makaren AB\nBild: Gunilla Bergström\, ur Ajabaja\, Alfons Åberg (1972). \n 
URL:https://brorhjorthshus.se/evenemang/familjevisning-med-verkstad-15-2023-05-07/
LOCATION:Bror Hjorths Hus\, Norbyvägen 26\, Uppsala\, 752 39\, SE
CATEGORIES:Barn & Familj,Verkstad/kurs,Visning
ATTACH;FMTTYPE=image/jpeg:https://brorhjorthshus.se/wp-content/uploads/2023/03/GB_Familj_7maj_Hemsida_16_9.jpg
END:VEVENT
BEGIN:VEVENT
DTSTART;TZID=Europe/Stockholm:20230507T141500
DTEND;TZID=Europe/Stockholm:20230507T153000
DTSTAMP:20260422T210420
CREATED:20230309T115853Z
LAST-MODIFIED:20230311T122714Z
UID:6558-1683468900-1683473400@brorhjorthshus.se
SUMMARY:Familjevisning med verkstad
DESCRIPTION:Familjevisning med skapande verkstad\när ett trevligt sätt för hela familjen att uppleva museet och att prova en konstnärlig teknik. \nVi tittar först kort på utställningen och hämtar inspiration från Gunilla Bergströms skapande och berättelser om Alfons Åberg. I verkstan får du själv skapa med måleri och färgglatt kollagematerial.\nVerkstaden leds av en konstpedagog som hjälper dig att komma igång. Inga förkunskaper krävs. \nFamiljevisning med skapande verkstad är tänkt för barn tillsammans med en vuxen. \nSöndag 7 maj – Alfons Åberg\nkl 12.30-13.30 och kl 14.15-15.15 \nBiljetter\nBegränsat antal platser. Max 15 personer (inkl vuxna) per tillfälle.\nFamiljevisning kostar 40 kr/verkstadsdeltagare.\nBiljetter köps via Tickster eller i museet.\nObs! Museets verkstad ligger i källaren en trappa ned. Ingen hiss eller ramp finns. \n© Bok-Makaren AB\nBild: Gunilla Bergström\, ur Ajabaja\, Alfons Åberg (1972). \n 
URL:https://brorhjorthshus.se/evenemang/familjevisning-med-verkstad-15-2023-05-07-2/
LOCATION:Bror Hjorths Hus\, Norbyvägen 26\, Uppsala\, 752 39\, SE
CATEGORIES:Barn & Familj,Verkstad/kurs,Visning
ATTACH;FMTTYPE=image/jpeg:https://brorhjorthshus.se/wp-content/uploads/2023/03/GB_Familj_7maj_Hemsida_16_9.jpg
END:VEVENT
BEGIN:VEVENT
DTSTART;TZID=Europe/Stockholm:20230511T180000
DTEND;TZID=Europe/Stockholm:20230511T200000
DTSTAMP:20260422T210420
CREATED:20230427T134102Z
LAST-MODIFIED:20230427T134538Z
UID:6863-1683828000-1683835200@brorhjorthshus.se
SUMMARY:Kvällsöppet
DESCRIPTION:Se utställningen med Gunilla Bergströms originalillustrationer till Alfons Åberg och Bror Hjorths konst och hem. \nUpplev museet på kvällen!\nI konstnärshemmet spelas folkmusik\, i teckningsrummet visar vi Karstens Wedels film om och med Bror Hjorth (15 min) och i utställningen finns\, förutom bilderna\, böcker att läsa\, bildjakt att lösa och finn-5-fel att klura på.\nUnder kvällen bjuder vi på kaffe/te och saft vid köp av något i kaféet eller museibutiken. \nIntroduktionsvisning\nGunilla Bergströms utställning  kl 18.30\nBror Hjorths konst och hem kl 19.15.\nVisningarna är ca 15-20 min. \nFri entré \n© Bok-Makaren AB\nBild (detalj): Gunilla Bergström\, ur Aja baja\, Alfons Åberg (1973).
URL:https://brorhjorthshus.se/evenemang/kvallsoppet-3/
LOCATION:Bror Hjorths Hus\, Norbyvägen 26\, Uppsala\, 752 39\, SE
CATEGORIES:Barn & Familj,Visning
ATTACH;FMTTYPE=image/jpeg:https://brorhjorthshus.se/wp-content/uploads/2023/04/Kvallsoppet_11_maj_2023_16_9.jpg
END:VEVENT
BEGIN:VEVENT
DTSTART;TZID=Europe/Stockholm:20230512T150000
DTEND;TZID=Europe/Stockholm:20230512T153000
DTSTAMP:20260422T210421
CREATED:20230425T131518Z
LAST-MODIFIED:20230425T131518Z
UID:6848-1683903600-1683905400@brorhjorthshus.se
SUMMARY:Satuhetki suomeksi // Sagoläsning på finska
DESCRIPTION:Satuhetki suomeksi \nBror Hjorths Hus tarjoaa satuhetken Mikko Mallikkaan seurassa. Keskellä värikästä näyttelyä\, missä Gunilla Bergtrömin alkuperäiskuvat Mikko Mallikkaan kirjoista riippuvat seinillä\, Marian Niskala lukee Mikko Mallikas-sadun suomeksi. \nSopii lapsille 3-9 vuotta vanhemman seurassa.\nVapaa sisäänkäynti näyttelyyn ja satuhetkeen. \nMuseo on avoinna torstai-sunnuntai klo 12-16.\nNäyttely ”Gunilla Bergström – Originalillustrationer” jatkuu kesäkuun kuudenteen saakka. \n\nSagoläsning på finska \nSagoläsning av Alfons Åberg på Bror Hjorths Hus. Marian Niskala läser mitt i den färgglada utställningen där Gunilla Bergströms originalbilder från Alfonsböckerna hänger på väggarna. \nPassar för barn i ålder 3-9 år tillsammans med vuxen.\nFri entré till utställningen och sagoläsningen. \nMuseet är öppet torsdag- söndag kl 12-16.\nUtställningen Gunilla Bergström – Originalillustrationer pågår t o m 6 juni. \nBild: Gunilla Bergström\, ur God natt\, Alfons Åberg (1972)\n© Bok-Makaren AB\n 
URL:https://brorhjorthshus.se/evenemang/satuhetki-suomeksi-sagolasning-pa-finska/
LOCATION:Bror Hjorths Hus\, Norbyvägen 26\, Uppsala\, 752 39\, SE
CATEGORIES:Barn & Familj,Föredrag & Konsert,Visning
ATTACH;FMTTYPE=image/jpeg:https://brorhjorthshus.se/wp-content/uploads/2023/04/Sagolasning_finska_16_9.jpg
END:VEVENT
BEGIN:VEVENT
DTSTART;TZID=Europe/Stockholm:20230526T150000
DTEND;TZID=Europe/Stockholm:20230526T153000
DTSTAMP:20260422T210421
CREATED:20230502T101538Z
LAST-MODIFIED:20230502T102130Z
UID:6850-1685113200-1685115000@brorhjorthshus.se
SUMMARY:Storytelling in English / Sagoläsning på engelska
DESCRIPTION:Storytelling in English \nStorytime with Alfie Atkins at Bror Hjorths Hus\nImmerse yourselves in the colourful and original illustrations of Alfie Atkins as Ting Adolphus reads in English from a selection of Gunilla Bergstöm’s books \nSuitable for children between the ages of 3 to 9 years of age accompanied by an adult.\nFree entry to the exhibition and story time. \nOpening times: Thursday to Sunday 12-16\nThe exhibition of Gunilla Bergström’s original illustrations continues till the 6th of June. \n\nSagoläsning på engelska \nSagoläsning om Alfons Åberg på Bror Hjorths Hus. Ting Adolphus läser mitt i den färgglada utställningen där Gunilla Bergströms originalbilder från Alfonsböckerna hänger på väggarna. \nPassar för barn i ålder 3-9 år tillsammans med vuxen.\nFri entré till utställningen och sagoläsningen. \nMuseet är öppet torsdag- söndag kl 12-16.\nUtställningen Gunilla Bergström – Originalillustrationer pågår t o m 6 juni. \nBild: Gunilla Bergström\, ur God natt\, Alfons Åberg (1972) \n© Bok-Makaren AB
URL:https://brorhjorthshus.se/evenemang/storytelling-in-english-sagolasning-pa-engelska/
LOCATION:Bror Hjorths Hus\, Norbyvägen 26\, Uppsala\, 752 39\, SE
CATEGORIES:Barn & Familj,Föredrag & Konsert,Visning
ATTACH;FMTTYPE=image/jpeg:https://brorhjorthshus.se/wp-content/uploads/2023/05/Sagolasning_engelska_16_9.jpg
END:VEVENT
BEGIN:VEVENT
DTSTART;TZID=Europe/Stockholm:20230526T190000
DTEND;TZID=Europe/Stockholm:20230526T200000
DTSTAMP:20260422T210421
CREATED:20230427T150845Z
LAST-MODIFIED:20230508T092303Z
UID:6871-1685127600-1685131200@brorhjorthshus.se
SUMMARY:Konsert: Ellika Frisell & Rafael Sida
DESCRIPTION:Rafael Sida\, en rytmernas allkonstnär känd för sitt mångsidiga sväng\, möter fiolspelmannen Ellika Frisell\, den nyfikna folkmusikern rotad i både spelmanstraditionen och den experimentella folkmusikscenen.  \nTvå världar möts utan att krocka. Här hörs släktskapet mellan den skandinaviska folkmusiken och den afroamerikanska rytmtraditionen. Ett nära och personligt mästarmöte mellan två skilda musikaliska språk som hela tiden behöver förstå vad den andra menar. Ett samspel mellan två starka artister som från olika håll djupdyker och utmanar låtar och sväng. Detta är en spelmansduo á 2000-talet. \nEllika Frisell och Rafael Sida är aktuella med albumet ’Färg och Tid’\, som släpps på det flerfaldigt prisade skivbolaget Supertraditional. \n\nOm musikerna \nEllika Frisell är spelman på fiol och altfiol. Som veteran på den svenska folk- och världsmusikscenen har hon fördjupat och vidareutvecklat arvet efter sina lärare Gustav Päkkos och Nils Agenmark och  breddat sitt spel i studier för den Indiska violinisten K.Shivakumar. Ellika har spelat i band som Filarfolket\, Den Fule och Rosenbergs sjua och har i 20 år turnerat över världen med kora-spelmannen Solo Cissokho och Rafael Sida. \nRafael Sida är slagverkare och trumslagare inom afro-\, latin-\, jazz- och folkmusik. Rafael växte upp i Mexiko och började tidigt spela trumset på den dynamiska mexikanska musikscenen under 60-talet. Sedan 70-talet är han ett tungt namn inom både jazz- och världsmusik i Sverige. Rafael turnerar bland annat med Ale Möller Band\, Jonas Knutsson Quartet\, Egba och tidigare med trion Ellika Solo Rafael. \nLyssna: Ellika Frisell & Rafael Sida – Färg och Tid (Spotify) \nBiljetter köps via Tickster eller i museets reception under öppettid (från 5 maj).\nSittplats: 160 kr.\nBror Hjorthföreningens medlemmar: 100 kr (med rabattkod för medlemmar).\nKonserten arrangeras av Bror Hjorths Hus i samarbete med studieförbundet Bilda! och med stöd från Bror Hjorthföreningen.
URL:https://brorhjorthshus.se/evenemang/konsert-ellika-frisell-rafael-sida/
LOCATION:Bror Hjorths Hus\, Norbyvägen 26\, Uppsala\, 752 39\, SE
CATEGORIES:Föredrag & Konsert
ATTACH;FMTTYPE=image/jpeg:https://brorhjorthshus.se/wp-content/uploads/2023/04/ellika_rafael_16_9_konsert.jpg
END:VEVENT
BEGIN:VEVENT
DTSTART;TZID=Europe/Stockholm:20230527T143000
DTEND;TZID=Europe/Stockholm:20230527T150000
DTSTAMP:20260422T210421
CREATED:20230427T083650Z
LAST-MODIFIED:20230502T102410Z
UID:6843-1685197800-1685199600@brorhjorthshus.se
SUMMARY:Sagoläsning på arabiska / قراءة القصة باللغة العربية
DESCRIPTION:قراءة القصة باللغة العربية \nسنقرأ قصة برهان في معرض متدلي بالألوان الجميلة وتتجمل جدرانه بالصور الأصلية من قصص برهان والتي هي من رسم عونيللا بيرعستروم \nمناسب للأطفال التي تتراوح أعمارهم ما بين الثالثة والتاسعة مع مرافقة أحد الوالدي ن \n.الدخول الى المعرض والإستماع إلى قراءة القصة باللغة العربية مجاني \nالمتحف مفتوح من يوم الخميس إلى يوم الأحد من الساعة الثانية عشر لحتى غاية الساعة الرابعة بعد الظ هر\nسيستمر معرض عونيللا بيرعستروم ء الرسوم التوضيحية الأصلية حتى السادس من حزيران لهذا العا م \n  \nSagoläsning på arabiska \nSagoläsning av Alfons Åberg på Bror Hjorths Hus. Vi läser mitt i den färgglada utställningen där Gunilla Bergströms originalbilder från Alfonsböckerna hänger på väggarna. \nPassar för barn i ålder 3-9 år tillsammans med vuxen.\nFri entré till utställningen och sagoläsningen.\nMuseet är öppet torsdag- söndag kl 12-16. \nUtställningen Gunilla Bergström – Originalillustrationer pågår t o m 6 juni. \nBild: Gunilla Bergström\, ur God natt\, Alfons Åberg (1972)\n© Bok-Makaren AB
URL:https://brorhjorthshus.se/evenemang/%d9%82%d8%b1%d8%a7%d8%a1%d8%a9-%d8%a7%d9%84%d9%82%d8%b5%d8%a9-%d8%a8%d8%a7%d9%84%d9%84%d8%ba%d8%a9-%d8%a7%d9%84%d8%b9%d8%b1%d8%a8%d9%8a%d8%a9-sagolasning-pa-arabiska/
LOCATION:Bror Hjorths Hus\, Norbyvägen 26\, Uppsala\, 752 39\, SE
CATEGORIES:Barn & Familj,Föredrag & Konsert,Visning
ATTACH;FMTTYPE=image/jpeg:https://brorhjorthshus.se/wp-content/uploads/2023/04/Sagolasning_arabiska_16_9.jpg
END:VEVENT
BEGIN:VEVENT
DTSTART;TZID=Europe/Stockholm:20230528T123000
DTEND;TZID=Europe/Stockholm:20230528T134500
DTSTAMP:20260422T210421
CREATED:20230419T102955Z
LAST-MODIFIED:20230510T132249Z
UID:6825-1685277000-1685281500@brorhjorthshus.se
SUMMARY:Familjevisning med verkstad
DESCRIPTION:Familjevisning med skapande verkstad\när ett trevligt sätt för hela familjen att uppleva museet och att prova en konstnärlig teknik. \nVi tittar först kort på utställningen och hämtar inspiration från Gunilla Bergströms skapande och berättelser om Alfons Åberg. I verkstan får du själv skapa med måleri och färgglatt kollagematerial.\nVerkstaden leds av en konstpedagog som hjälper dig att komma igång. Inga förkunskaper krävs. \nFamiljevisning med skapande verkstad är tänkt för barn tillsammans med en vuxen. \nSöndag 28 maj – Alfons Åberg\nkl 12.30-13.45 och kl 14.15-15.30 \nBiljetter\nBegränsat antal platser. Max 15 personer (inkl vuxna) per tillfälle.\nFamiljevisning kostar 40 kr/verkstadsdeltagare.\nBiljetter köps via Tickster eller i museet.\nObs! Museets verkstad ligger i källaren en trappa ned. Ingen hiss eller ramp finns. \n© Bok-Makaren AB\nBild: Gunilla Bergström\, ur Aja baja\, Alfons Åberg (1972). \n 
URL:https://brorhjorthshus.se/evenemang/familjevisning-med-verkstad-18/2023-05-28/
LOCATION:Bror Hjorths Hus\, Norbyvägen 26\, Uppsala\, 752 39\, SE
CATEGORIES:Barn & Familj,Verkstad/kurs,Visning
ATTACH;FMTTYPE=image/jpeg:https://brorhjorthshus.se/wp-content/uploads/2023/04/GB_Familj_28maj_Hemsida_16_9-1.jpg
END:VEVENT
BEGIN:VEVENT
DTSTART;TZID=Europe/Stockholm:20230528T141500
DTEND;TZID=Europe/Stockholm:20230528T153000
DTSTAMP:20260422T210421
CREATED:20230419T102706Z
LAST-MODIFIED:20230510T132302Z
UID:6831-1685283300-1685287800@brorhjorthshus.se
SUMMARY:Familjevisning med verkstad
DESCRIPTION:Familjevisning med skapande verkstad\när ett trevligt sätt för hela familjen att uppleva museet och att prova en konstnärlig teknik. \nVi tittar först kort på utställningen och hämtar inspiration från Gunilla Bergströms skapande och berättelser om Alfons Åberg. I verkstan får du själv skapa med måleri och färgglatt kollagematerial.\nVerkstaden leds av en konstpedagog som hjälper dig att komma igång. Inga förkunskaper krävs. \nFamiljevisning med skapande verkstad är tänkt för barn tillsammans med en vuxen. \nSöndag 28 maj – Alfons Åberg\nkl 12.30-13.45 och kl 14.15-15.30 \nBiljetter\nBegränsat antal platser. Max 15 personer (inkl vuxna) per tillfälle.\nFamiljevisning kostar 40 kr/verkstadsdeltagare.\nBiljetter köps via Tickster eller i museet.\nObs! Museets verkstad ligger i källaren en trappa ned. Ingen hiss eller ramp finns. \n© Bok-Makaren AB\nBild: Gunilla Bergström\, ur Aja baja\, Alfons Åberg (1972). \n 
URL:https://brorhjorthshus.se/evenemang/familjevisning-med-verkstad-17-2023-05-28/
LOCATION:Bror Hjorths Hus\, Norbyvägen 26\, Uppsala\, 752 39\, SE
CATEGORIES:Barn & Familj,Verkstad/kurs,Visning
ATTACH;FMTTYPE=image/jpeg:https://brorhjorthshus.se/wp-content/uploads/2023/04/GB_Familj_28maj_Hemsida_16_9-1.jpg
END:VEVENT
END:VCALENDAR