BEGIN:VCALENDAR
VERSION:2.0
PRODID:-//Bror Hjorths Hus - ECPv6.15.20//NONSGML v1.0//EN
CALSCALE:GREGORIAN
METHOD:PUBLISH
X-WR-CALNAME:Bror Hjorths Hus
X-ORIGINAL-URL:https://brorhjorthshus.se
X-WR-CALDESC:Händelser för Bror Hjorths Hus
REFRESH-INTERVAL;VALUE=DURATION:PT1H
X-Robots-Tag:noindex
X-PUBLISHED-TTL:PT1H
BEGIN:VTIMEZONE
TZID:Europe/Stockholm
BEGIN:DAYLIGHT
TZOFFSETFROM:+0100
TZOFFSETTO:+0200
TZNAME:CEST
DTSTART:20220327T010000
END:DAYLIGHT
BEGIN:STANDARD
TZOFFSETFROM:+0200
TZOFFSETTO:+0100
TZNAME:CET
DTSTART:20221030T010000
END:STANDARD
BEGIN:DAYLIGHT
TZOFFSETFROM:+0100
TZOFFSETTO:+0200
TZNAME:CEST
DTSTART:20230326T010000
END:DAYLIGHT
BEGIN:STANDARD
TZOFFSETFROM:+0200
TZOFFSETTO:+0100
TZNAME:CET
DTSTART:20231029T010000
END:STANDARD
BEGIN:DAYLIGHT
TZOFFSETFROM:+0100
TZOFFSETTO:+0200
TZNAME:CEST
DTSTART:20240331T010000
END:DAYLIGHT
BEGIN:STANDARD
TZOFFSETFROM:+0200
TZOFFSETTO:+0100
TZNAME:CET
DTSTART:20241027T010000
END:STANDARD
END:VTIMEZONE
BEGIN:VEVENT
DTSTART;TZID=Europe/Stockholm:20231001T123000
DTEND;TZID=Europe/Stockholm:20231001T134500
DTSTAMP:20260421T182311
CREATED:20230914T113143Z
LAST-MODIFIED:20230914T113422Z
UID:10520-1696163400-1696167900@brorhjorthshus.se
SUMMARY:Familjevisning med verkstad : Teckning
DESCRIPTION:Familjevisning med skapande verkstad\när ett trevligt sätt för hela familjen att uppleva museet och att prova en konstnärlig teknik. \nVi tittar först kort på Jonathan Josefsson OLLIOs utställning med tuftade mattor\, måleri och unika väggmålning.\nDärefter går vi till museets verkstad för att teckna med inspiration från utställningen.\nVerkstaden leds av en konstpedagog som hjälper dig att komma igång. Inga förkunskaper krävs. \nFamiljevisning med skapande verkstad är tänkt för barn tillsammans med en vuxen.\nLämpligt från 4 år och uppåt. \nSöndag 1 oktober – Teckning med inspiration från OLLIO \nkl 12.30-13.45 och kl 14.15-15.30 \nBiljetter\nBegränsat antal platser. Max 15 personer (inkl vuxna) per tillfälle.\nFamiljevisning kostar 40 kr/verkstadsdeltagare.\nBiljetter köps via Tickster eller i museet under öppettid.\nObs! Museets verkstad ligger i källaren en trappa ned. Ingen hiss eller ramp finns.
URL:https://brorhjorthshus.se/evenemang/familjevisning-med-verkstad-teckning-2/
LOCATION:Bror Hjorths Hus\, Norbyvägen 26\, Uppsala\, 752 39\, SE
CATEGORIES:Barn & Familj,Verkstad/kurs,Visning
ATTACH;FMTTYPE=image/jpeg:https://brorhjorthshus.se/wp-content/uploads/2023/09/Familjevisning_1okt_12_16_9.jpg
END:VEVENT
BEGIN:VEVENT
DTSTART;TZID=Europe/Stockholm:20231001T141500
DTEND;TZID=Europe/Stockholm:20231001T153000
DTSTAMP:20260421T182311
CREATED:20230914T113248Z
LAST-MODIFIED:20230914T113426Z
UID:10526-1696169700-1696174200@brorhjorthshus.se
SUMMARY:Familjevisning med verkstad : Teckning
DESCRIPTION:Familjevisning med skapande verkstad\när ett trevligt sätt för hela familjen att uppleva museet och att prova en konstnärlig teknik. \nVi tittar först kort på Jonathan Josefsson OLLIOs utställning med tuftade mattor\, måleri och unika väggmålning.\nDärefter går vi till museets verkstad för att teckna med inspiration från utställningen.\nVerkstaden leds av en konstpedagog som hjälper dig att komma igång. Inga förkunskaper krävs. \nFamiljevisning med skapande verkstad är tänkt för barn tillsammans med en vuxen.\nLämpligt från 4 år och uppåt. \nSöndag 1 oktober – Teckning med inspiration från OLLIO \nkl 12.30-13.45 och kl 14.15-15.30 \nBiljetter\nBegränsat antal platser. Max 15 personer (inkl vuxna) per tillfälle.\nFamiljevisning kostar 40 kr/verkstadsdeltagare.\nBiljetter köps via Tickster eller i museet under öppettid.\nObs! Museets verkstad ligger i källaren en trappa ned. Ingen hiss eller ramp finns.
URL:https://brorhjorthshus.se/evenemang/familjevisning-med-verkstad-teckning-3/
LOCATION:Bror Hjorths Hus\, Norbyvägen 26\, Uppsala\, 752 39\, SE
CATEGORIES:Barn & Familj,Verkstad/kurs,Visning
ATTACH;FMTTYPE=image/jpeg:https://brorhjorthshus.se/wp-content/uploads/2023/09/Familjevisning_1okt_14_16_9.jpg
END:VEVENT
BEGIN:VEVENT
DTSTART;TZID=Europe/Stockholm:20231011T181500
DTEND;TZID=Europe/Stockholm:20231011T211500
DTSTAMP:20260421T182311
CREATED:20230914T112747Z
LAST-MODIFIED:20230914T112747Z
UID:10516-1697048100-1697058900@brorhjorthshus.se
SUMMARY:Oljemålerikurs för vuxna
DESCRIPTION:På den här kursen får du\, tillsammans med konstnären Cornelia Tell\, en introduktion till oljemåleri.\nVi går igenom grunderna\, lite färglära och tekniker och använder sedan detta i porträttmåleri. \nInga förkunskaper krävs\, bara en nyfikenhet på form och skapande.\nFör vuxna från 18 år. \nKursledare är konstnären\, tillika museets konstpedagog\, Cornelia Tell. \nKurstider\nOns 11 okt\, 18 okt och 25 okt kl 18.15-21.15.\nAllt material och fika ingår. \nObs! Museets verkstad ligger i källaren en trappa ner. Ramp och hiss saknas. \nPris: 1200 kr inkl allt material och fika.\nDatum: 11 okt\, 18 okt och 25 okt kl 18.15-21.15.\nKöp biljett på Tickster.com eller i museet under öppettid.\nFrågor? Mejla konstskola@brorhjorthshus.se eller ring 018-567030 
URL:https://brorhjorthshus.se/evenemang/oljemalerikurs-for-vuxna/
LOCATION:Bror Hjorths Hus\, Norbyvägen 26\, Uppsala\, 752 39\, SE
CATEGORIES:Verkstad/kurs
ATTACH;FMTTYPE=image/jpeg:https://brorhjorthshus.se/wp-content/uploads/2023/09/Oljemaleri_vuxna_ht23_16x9.jpg
END:VEVENT
BEGIN:VEVENT
DTSTART;TZID=Europe/Stockholm:20231012T181500
DTEND;TZID=Europe/Stockholm:20231012T194500
DTSTAMP:20260421T182311
CREATED:20230914T112021Z
LAST-MODIFIED:20231003T080743Z
UID:10508-1697134500-1697139900@brorhjorthshus.se
SUMMARY:Verkstad för vuxna
DESCRIPTION:Unna dig en rolig och kreativ stund i museet!\nVi tittar kort på Jonathan Josefsson OLLIOs utställningen med tuftade mattor\, måleri och unika väggmålning. Hans intuitiva arbetssätt och abstrakta formspråk blir utgångpunkten för en rolig street-art-inspirerad uppgift i verkstaden. Du behöver inte ha några förkunskaper. \nVerkstaden leds av museets konstpedagog Malin Koort\, konstnär.\nUnder arbetet bjuds du på kaffe/te. \nVerkstaden börjar kl 18.15\, pågår ca 1\,5 timmen och är avsedd för personer från 16 år.\nDen är en del av kvällsöppet 12 okt kl 18-20. \nBiljett till verkstaden\nPris: 80 kr/pers (inkl kaffe/te)\nKöp biljett på Tickster.com eller i museet under öppettid.\nAntalet deltagare i verkstaden är begränsat till 12 personer. Obs! Från 16 år.\nVi har förkläden\, men tänk på att inte ta på dina bästa finkläder.\nObs! Museets verkstad ligger i källaren en trappa ned. Ingen hiss eller ramp finns.
URL:https://brorhjorthshus.se/evenemang/verkstad-for-vuxna-231012/
LOCATION:Bror Hjorths Hus\, Norbyvägen 26\, Uppsala\, 752 39\, SE
CATEGORIES:Verkstad/kurs
ATTACH;FMTTYPE=image/jpeg:https://brorhjorthshus.se/wp-content/uploads/2023/09/Verkstad_vuxna_12okt_2023_hemsida_16_9.jpg
END:VEVENT
BEGIN:VEVENT
DTSTART;TZID=Europe/Stockholm:20231031T090000
DTEND;TZID=Europe/Stockholm:20231031T140000
DTSTAMP:20260421T182311
CREATED:20230914T120722Z
LAST-MODIFIED:20231030T114255Z
UID:10573-1698742800-1698760800@brorhjorthshus.se
SUMMARY:Höstlov: Måleriverkstad för barn 8-12 år
DESCRIPTION:Konstskola – Måleri\nSLUTSÅLT!\nTisdag 31 oktober kl 9.00 – 14.00\nFör barn och unga 8-12 år \nLovkonstskolan på Bror Hjorths Hus bjuder på en färgkick. Hertha Hansons målningar är abstrakta och föreställer ingenting eller vad som helst. Vi låter oss inspireras och målar själva i stort format genom att lägga på lagar på lager med akrylfärg och arbetar med skrapor\, penslar och svampar. \nMuseets erfarna konstpedagoger Malin Koort och Cornelia Tell finns på plats hela tiden och berättar om teknik och material och hjälper till att komma igång. Inga förkunskaper krävs\, bara en nyfikenhet på bildskapande. \nEndagsaktivitet.\nMedtag egen lunch som inte behöver värmas.\nMellanmål ingår i priset.\nMax 12 deltagare per dag. \nPris: 250 kr\nKöp biljett på Tickster.com eller i museet under öppettid (släpps 29 september)\nFrågor? Mejla konstskola@brorhjorthshus.se eller ring 018-567030 
URL:https://brorhjorthshus.se/evenemang/hostlov-maleriverkstad-for-barn-8-12-ar-2/
LOCATION:Bror Hjorths Hus\, Norbyvägen 26\, Uppsala\, 752 39\, SE
CATEGORIES:Barn & Familj,Verkstad/kurs
ATTACH;FMTTYPE=image/jpeg:https://brorhjorthshus.se/wp-content/uploads/2023/09/Hostlov_2023_konstskola_31_okt_16_9.jpg
END:VEVENT
END:VCALENDAR