BEGIN:VCALENDAR
VERSION:2.0
PRODID:-//Bror Hjorths Hus - ECPv6.15.20//NONSGML v1.0//EN
CALSCALE:GREGORIAN
METHOD:PUBLISH
X-ORIGINAL-URL:https://brorhjorthshus.se
X-WR-CALDESC:Händelser för Bror Hjorths Hus
REFRESH-INTERVAL;VALUE=DURATION:PT1H
X-Robots-Tag:noindex
X-PUBLISHED-TTL:PT1H
BEGIN:VTIMEZONE
TZID:Europe/Stockholm
BEGIN:DAYLIGHT
TZOFFSETFROM:+0100
TZOFFSETTO:+0200
TZNAME:CEST
DTSTART:20220327T010000
END:DAYLIGHT
BEGIN:STANDARD
TZOFFSETFROM:+0200
TZOFFSETTO:+0100
TZNAME:CET
DTSTART:20221030T010000
END:STANDARD
BEGIN:DAYLIGHT
TZOFFSETFROM:+0100
TZOFFSETTO:+0200
TZNAME:CEST
DTSTART:20230326T010000
END:DAYLIGHT
BEGIN:STANDARD
TZOFFSETFROM:+0200
TZOFFSETTO:+0100
TZNAME:CET
DTSTART:20231029T010000
END:STANDARD
BEGIN:DAYLIGHT
TZOFFSETFROM:+0100
TZOFFSETTO:+0200
TZNAME:CEST
DTSTART:20240331T010000
END:DAYLIGHT
BEGIN:STANDARD
TZOFFSETFROM:+0200
TZOFFSETTO:+0100
TZNAME:CET
DTSTART:20241027T010000
END:STANDARD
END:VTIMEZONE
BEGIN:VEVENT
DTSTART;TZID=Europe/Stockholm:20230903T123000
DTEND;TZID=Europe/Stockholm:20230903T134500
DTSTAMP:20260421T200837
CREATED:20230816T112336Z
LAST-MODIFIED:20230816T113739Z
UID:7122-1693744200-1693748700@brorhjorthshus.se
SUMMARY:Familjevisning med verkstad : Skulptur
DESCRIPTION:Familjevisning med skapande verkstad\när ett trevligt sätt för hela familjen att uppleva museet och att prova en konstnärlig teknik. \nVi tittar först kort på några skulpturer i museet.\nDärefter går vi till museets verkstad för att göra egna skulpturer i lera.\nVerkstaden leds av en konstpedagog som hjälper dig att komma igång. Inga förkunskaper krävs. \nFamiljevisning med skapande verkstad är tänkt för barn tillsammans med en vuxen.\nLämpligt från 4 år och uppåt. \nSöndag 3 september – Skulptur\nkl 12.30-13.45 och kl 14.15-15.30 \nBiljetter\nBegränsat antal platser. Max 15 personer (inkl vuxna) per tillfälle.\nFamiljevisning kostar 40 kr/verkstadsdeltagare.\nBiljetter köps via Tickster eller i museet (fr o m 14 juni).\nObs! Museets verkstad ligger i källaren en trappa ned. Ingen hiss eller ramp finns.
URL:https://brorhjorthshus.se/evenemang/familjevisning-med-verkstad-skulptur-5/
LOCATION:Bror Hjorths Hus\, Norbyvägen 26\, Uppsala\, 752 39\, SE
CATEGORIES:Barn & Familj,Verkstad/kurs,Visning
ATTACH;FMTTYPE=image/jpeg:https://brorhjorthshus.se/wp-content/uploads/2023/08/Familj_1sep_Hemsida_16_9.jpg
END:VEVENT
BEGIN:VEVENT
DTSTART;TZID=Europe/Stockholm:20230903T141500
DTEND;TZID=Europe/Stockholm:20230903T153000
DTSTAMP:20260421T200837
CREATED:20230816T112448Z
LAST-MODIFIED:20230816T113821Z
UID:7126-1693750500-1693755000@brorhjorthshus.se
SUMMARY:Familjevisning med verkstad : Skulptur
DESCRIPTION:Familjevisning med skapande verkstad\när ett trevligt sätt för hela familjen att uppleva museet och att prova en konstnärlig teknik. \nVi tittar först kort på några skulpturer i museet.\nDärefter går vi till museets verkstad för att göra egna skulpturer i lera.\nVerkstaden leds av en konstpedagog som hjälper dig att komma igång. Inga förkunskaper krävs. \nFamiljevisning med skapande verkstad är tänkt för barn tillsammans med en vuxen.\nLämpligt från 4 år och uppåt. \nSöndag 3 september – Skulptur\nkl 12.30-13.45 och kl 14.15-15.30 \nBiljetter\nBegränsat antal platser. Max 15 personer (inkl vuxna) per tillfälle.\nFamiljevisning kostar 40 kr/verkstadsdeltagare.\nBiljetter köps via Tickster eller i museet (fr o m 14 juni).\nObs! Museets verkstad ligger i källaren en trappa ned. Ingen hiss eller ramp finns.
URL:https://brorhjorthshus.se/evenemang/7126/
LOCATION:Bror Hjorths Hus\, Norbyvägen 26\, Uppsala\, 752 39\, SE
CATEGORIES:Barn & Familj,Verkstad/kurs,Visning
ATTACH;FMTTYPE=image/jpeg:https://brorhjorthshus.se/wp-content/uploads/2023/08/Familj_1sep_Hemsida_16_9.jpg
END:VEVENT
BEGIN:VEVENT
DTSTART;TZID=Europe/Stockholm:20230909T120000
DTEND;TZID=Europe/Stockholm:20230909T160000
DTSTAMP:20260421T200837
CREATED:20230829T094953Z
LAST-MODIFIED:20230829T094953Z
UID:7255-1694260800-1694275200@brorhjorthshus.se
SUMMARY:Skulpturverkstad för små och stora (utomhus)
DESCRIPTION:Bror Hjorth skulpterade personer som han tyckte om.\nVem vill du hedra med en skulptur?\nSkapa en egen skulptur i lera av någon du tycker om. \nInspireras av Bror Hjorths konst. Familjevisning kl 12.30-13.00. \nGratis.\nDrop-in kl 12-16.\nInga förkunskaper krävs.\nVid bra väder är verkstaden utomhus. \nOBS! Vi har många platser utomhus\, men inte ett obegränsat antal\, så kö kan uppstå.\nVi sämre väder kommer kösystem att tillämpas inomhus. \nProgrammet ges i samarbete med Bror Hjorthföreningen
URL:https://brorhjorthshus.se/evenemang/skulpturverkstad-for-sma-och-stora-utomhus/
LOCATION:Bror Hjorths Hus\, Norbyvägen 26\, Uppsala\, 752 39\, SE
CATEGORIES:Barn & Familj,Verkstad/kurs
ATTACH;FMTTYPE=image/jpeg:https://brorhjorthshus.se/wp-content/uploads/2023/05/kulturnatten_2023_verkstad.jpg
END:VEVENT
BEGIN:VEVENT
DTSTART;TZID=Europe/Stockholm:20230909T120000
DTEND;TZID=Europe/Stockholm:20230909T200000
DTSTAMP:20260421T200838
CREATED:20230525T141544Z
LAST-MODIFIED:20230829T124358Z
UID:6908-1694260800-1694289600@brorhjorthshus.se
SUMMARY:Kulturnatten i Bror Hjorths Hus
DESCRIPTION:Öppet kl 12-20\nFri entré \nKl 12.30-13.00       Familjevisning: Vad gillade Bror Hjorth?\nFamiljevisning av Bror Hjorths konst ca 20 min. Följs av skulpturverkstad för små och stora (drop-in). Gratis. \nKl 12.00-16.00       Verkstad: Lera! – Skulpturverkstad för barn och vuxna (Ute vid bra väder)\nBror Hjorth skulpterade personer som han tyckte om. Vem vill du hedra med en skulptur? Inspireras av Bror Hjorths konst och skapa en egen skulptur i lera av någon du tycker om.\nGratis. Drop-in. Inga förkunskaper krävs. Vid bra väder är verkstaden utomhus. \nKl 13.00-13.30       Guided tour: Bror Hjorth’s art and life\nLearn more about the artist Bror Hjorth\, his art and the museum. \nKl 14.00-14.30       Invigning av utställning: Jonathan Josefsson OLLIO – Evigt sökande\nUtställningen med Jonathan Josefsson invigs. \nKl 15.00-15.30       Visning: Bror Hjorth konst och hem\nEn introduktion till konsten i museet. \nKl 16.00-16.30       Visning: Jonathan Josefsson\nKonstnären visar sin utställning. \nKl 17.00-17.30       Visning: Färg! – Bror Hjorth och färgen\nOm hur Bror Hjorth använde färg i sin konst\, i måleriet och på skulpturer. \nKl 17.30-19.30       Verkstad: Graffitiworkshop med OLLIO! (Utomhus i museets trädgård)\nGraffitikonstnären OLLIO leder workshop för vuxna och ungdomar från 14 år.\nBegränsat antal. Förbokning krävs. Pris: 150 kr/pers.\nLäs mer här \nKl 18.00-18.30       Visning: Musik!  – Bror Hjorth och musiken\nVad diggade Bror Hjorth? Om konstnärens förhållande till musiken (med musikaliska exempel). \nKl 19.00-19.30      Visning: Kropp! – Bror Hjorth och människan\nOm hur Bror Hjorth avbildat den nakna mänskliga kroppen. \n\nNäckens polska vid Resecentrum  (utomhus)\nKl 18.30\, 19.00\, 19.30 och 20.00 Visning: Näckens polska\nVisning av Bror Hjorths skulptur Näckens polska vid Resecentrum (ca 15-20 min). Om tillkomst\, mottagande och tolkningar av motivet. \nProgrammet ges i samarbete med Bror Hjorthföreningen \nKulturnattens hemsida
URL:https://brorhjorthshus.se/evenemang/kulturnatten-i-bror-hjorths-hus-4/
CATEGORIES:Barn & Familj,Föredrag & Konsert,Verkstad/kurs,Visning
ATTACH;FMTTYPE=image/jpeg:https://brorhjorthshus.se/wp-content/uploads/2023/05/kulturnatten_2023_event.jpg
ORGANIZER;CN="Bror Hjorths Hus":MAILTO:info@brorhjorthshus.se
END:VEVENT
BEGIN:VEVENT
DTSTART;TZID=Europe/Stockholm:20230909T173000
DTEND;TZID=Europe/Stockholm:20230909T193000
DTSTAMP:20260421T200838
CREATED:20230829T100328Z
LAST-MODIFIED:20230829T105326Z
UID:7259-1694280600-1694287800@brorhjorthshus.se
SUMMARY:Graffitiworkshop med OLLIO
DESCRIPTION:Graffitikonstnären OLLIO leder workshop för vuxna och ungdomar från 14 år. \nJonathan Josefsson\, OLLIO\, är en välkänd graffitikonstnär bosatt i Göteborg.\nJust nu visar hans utställning ”Evigt sökande” på Bror Hjorths Hus (invigs 9 sep kl 14).\nPå Kulturnatten ges ett unikt tillfälle att få skapa under hans ledning.\nSkissarbete sker i museets verkstad. En vägg för graffitimålning finns i trädgården. \nOömma kläder rekommenderas.\nAnpassa kläder efter väderleken eftersom spraymålandet kommer ske utomhus. \nBegränsat antal. Förköp möjligt.\nOBS! Från 14 år. \nPris: 150 kr/pers.\nBiljetter köps på Tickster.com eller i museet under öppettid.\n\nKulturnattsprogrammet i Bror Hjorths Hus i samarbete med Bror Hjorthföreningen \nKulturnattens hemsida
URL:https://brorhjorthshus.se/evenemang/graffitiworkshop-med-ollio/
LOCATION:Bror Hjorths Hus\, Norbyvägen 26\, Uppsala\, 752 39\, SE
CATEGORIES:Verkstad/kurs
ATTACH;FMTTYPE=image/jpeg:https://brorhjorthshus.se/wp-content/uploads/2023/08/Graffitiverkstad_hemsida_16_9.jpg
END:VEVENT
END:VCALENDAR