BEGIN:VCALENDAR
VERSION:2.0
PRODID:-//Bror Hjorths Hus - ECPv6.15.20//NONSGML v1.0//EN
CALSCALE:GREGORIAN
METHOD:PUBLISH
X-WR-CALNAME:Bror Hjorths Hus
X-ORIGINAL-URL:https://brorhjorthshus.se
X-WR-CALDESC:Händelser för Bror Hjorths Hus
REFRESH-INTERVAL;VALUE=DURATION:PT1H
X-Robots-Tag:noindex
X-PUBLISHED-TTL:PT1H
BEGIN:VTIMEZONE
TZID:Europe/Stockholm
BEGIN:DAYLIGHT
TZOFFSETFROM:+0100
TZOFFSETTO:+0200
TZNAME:CEST
DTSTART:20220327T010000
END:DAYLIGHT
BEGIN:STANDARD
TZOFFSETFROM:+0200
TZOFFSETTO:+0100
TZNAME:CET
DTSTART:20221030T010000
END:STANDARD
BEGIN:DAYLIGHT
TZOFFSETFROM:+0100
TZOFFSETTO:+0200
TZNAME:CEST
DTSTART:20230326T010000
END:DAYLIGHT
BEGIN:STANDARD
TZOFFSETFROM:+0200
TZOFFSETTO:+0100
TZNAME:CET
DTSTART:20231029T010000
END:STANDARD
BEGIN:DAYLIGHT
TZOFFSETFROM:+0100
TZOFFSETTO:+0200
TZNAME:CEST
DTSTART:20240331T010000
END:DAYLIGHT
BEGIN:STANDARD
TZOFFSETFROM:+0200
TZOFFSETTO:+0100
TZNAME:CET
DTSTART:20241027T010000
END:STANDARD
END:VTIMEZONE
BEGIN:VEVENT
DTSTART;TZID=Europe/Stockholm:20230603T200000
DTEND;TZID=Europe/Stockholm:20230603T235900
DTSTAMP:20260422T012450
CREATED:20230510T134146Z
LAST-MODIFIED:20230510T134146Z
UID:6882-1685822400-1685836740@brorhjorthshus.se
SUMMARY:Museinatten / Museums at Night
DESCRIPTION:MUSEINATTEN I UPPSALA\n/ MUSEUMS AT NIGHT IN UPPSALA\nLördag 3 juni / Saturday 3 June\n\nBror Hjorths Hus öppet/open kl 20-24\nFri entré / Free entry \nVerkstad\n20-22: Måleriverkstad / Painting workshop\nDrop-in. Pris/Price: 40 kr/pers. Betala i kassan / Pay at entrance.\nVår konstpedagog Madelene Mhanna hjälper dig att komma igång. Inga förkunskaper krävs. För alla åldrar.\nVid bra väder är verkstaden utomhus\, annars i museets källare.\n\nWorkshop\n20-22: Open painting workshop. Drop-in.\nPrice: 40 SEK/pers. Pay at the entrance.\nOur art educator Madelene Mhanna will help you get started. No previous knowledge required. For all ages.\nIn good weather\, the workshop is outdoors\, otherwise in the museum’s basement. \nVisningar på engelska / Guided tours in english\nShort tours\, appr. 20-30 min.\n20.30: Mystical! Bror Hjorth and folklore\n21.30: Illustrative! The Alfie Atkins exhibition\n22.30: Sexy! Bror Hjorth and eroticism \nTeckningsutmaningar! \nUnna dig en mysig och kreativ stund. Vi ger dig roliga teckningsövningar i Bror Hjorths hem och ateljé. Vår personal förser dig med material och hjälper dig komma igång. Gratis. \nDrawing Challenges!\nTreat yourself to a cozy and creative moment. We give you fun drawing exercises in Bror Hjorth’s home and studio. Our staff will provide you with materials and help you get started. Free. \nMusik i museet / Music in the museum\nFilm i teckningsrummet / Film in the Drawings room\nBildjakt och Finn-5-fel / Spot the difference – find errors \nLäs mer om andra museers program på Uppsalasmuseer.se och Facebook.com/Uppsalasmuseer  \n 
URL:https://brorhjorthshus.se/evenemang/museinatten-museums-at-night/
LOCATION:Bror Hjorths Hus\, Norbyvägen 26\, Uppsala\, 752 39\, SE
CATEGORIES:Verkstad/kurs,Visning
ATTACH;FMTTYPE=image/jpeg:https://brorhjorthshus.se/wp-content/uploads/2023/05/Museinatten_2023_ENG_Svart_multi_16_9.jpg
END:VEVENT
BEGIN:VEVENT
DTSTART;TZID=Europe/Stockholm:20230604T123000
DTEND;TZID=Europe/Stockholm:20230604T134500
DTSTAMP:20260422T012450
CREATED:20230309T115853Z
LAST-MODIFIED:20230510T132337Z
UID:6559-1685881800-1685886300@brorhjorthshus.se
SUMMARY:Familjevisning med verkstad
DESCRIPTION:Familjevisning med skapande verkstad\när ett trevligt sätt för hela familjen att uppleva museet och att prova en konstnärlig teknik. \nVi tittar först kort på utställningen och hämtar inspiration från Gunilla Bergströms skapande och berättelser om Alfons Åberg. I verkstan får du själv skapa med måleri och färgglatt kollagematerial.\nVerkstaden leds av en konstpedagog som hjälper dig att komma igång. Inga förkunskaper krävs. \nFamiljevisning med skapande verkstad är tänkt för barn tillsammans med en vuxen. \nSöndag 4 juni – Alfons Åberg\nkl 12.30-13.45 och kl 14.15-15.30 \nBiljetter\nBegränsat antal platser. Max 15 personer (inkl vuxna) per tillfälle.\nFamiljevisning kostar 40 kr/verkstadsdeltagare.\nBiljetter köps via Tickster eller i museet.\nObs! Museets verkstad ligger i källaren en trappa ned. Ingen hiss eller ramp finns. \n© Bok-Makaren AB\nBild: Gunilla Bergström\, ur Ajabaja\, Alfons Åberg (1972). \n 
URL:https://brorhjorthshus.se/evenemang/familjevisning-med-verkstad-15-2023-06-04/
LOCATION:Bror Hjorths Hus\, Norbyvägen 26\, Uppsala\, 752 39\, SE
CATEGORIES:Barn & Familj,Verkstad/kurs,Visning
ATTACH;FMTTYPE=image/jpeg:https://brorhjorthshus.se/wp-content/uploads/2023/03/GB_Familj_4juni_Hemsida_16_9.jpg
END:VEVENT
BEGIN:VEVENT
DTSTART;TZID=Europe/Stockholm:20230604T141500
DTEND;TZID=Europe/Stockholm:20230604T153000
DTSTAMP:20260422T012450
CREATED:20230309T115853Z
LAST-MODIFIED:20230510T132324Z
UID:6560-1685888100-1685892600@brorhjorthshus.se
SUMMARY:Familjevisning med verkstad
DESCRIPTION:Familjevisning med skapande verkstad\när ett trevligt sätt för hela familjen att uppleva museet och att prova en konstnärlig teknik. \nVi tittar först kort på utställningen och hämtar inspiration från Gunilla Bergströms skapande och berättelser om Alfons Åberg. I verkstan får du själv skapa med måleri och färgglatt kollagematerial.\nVerkstaden leds av en konstpedagog som hjälper dig att komma igång. Inga förkunskaper krävs. \nFamiljevisning med skapande verkstad är tänkt för barn tillsammans med en vuxen. \nSöndag 4 juni – Alfons Åberg\nkl 12.30-13.45 och kl 14.15-15.30 \nBiljetter\nBegränsat antal platser. Max 15 personer (inkl vuxna) per tillfälle.\nFamiljevisning kostar 40 kr/verkstadsdeltagare.\nBiljetter köps via Tickster eller i museet.\nObs! Museets verkstad ligger i källaren en trappa ned. Ingen hiss eller ramp finns. \n© Bok-Makaren AB\nBild: Gunilla Bergström\, ur Ajabaja\, Alfons Åberg (1972). \n 
URL:https://brorhjorthshus.se/evenemang/familjevisning-med-verkstad-15-2023-06-04-2/
LOCATION:Bror Hjorths Hus\, Norbyvägen 26\, Uppsala\, 752 39\, SE
CATEGORIES:Barn & Familj,Verkstad/kurs,Visning
ATTACH;FMTTYPE=image/jpeg:https://brorhjorthshus.se/wp-content/uploads/2023/03/GB_Familj_4juni_Hemsida_16_9.jpg
END:VEVENT
END:VCALENDAR