BEGIN:VCALENDAR
VERSION:2.0
PRODID:-//Bror Hjorths Hus - ECPv6.15.20//NONSGML v1.0//EN
CALSCALE:GREGORIAN
METHOD:PUBLISH
X-WR-CALNAME:Bror Hjorths Hus
X-ORIGINAL-URL:https://brorhjorthshus.se
X-WR-CALDESC:Händelser för Bror Hjorths Hus
REFRESH-INTERVAL;VALUE=DURATION:PT1H
X-Robots-Tag:noindex
X-PUBLISHED-TTL:PT1H
BEGIN:VTIMEZONE
TZID:Europe/Stockholm
BEGIN:DAYLIGHT
TZOFFSETFROM:+0100
TZOFFSETTO:+0200
TZNAME:CEST
DTSTART:20220327T010000
END:DAYLIGHT
BEGIN:STANDARD
TZOFFSETFROM:+0200
TZOFFSETTO:+0100
TZNAME:CET
DTSTART:20221030T010000
END:STANDARD
BEGIN:DAYLIGHT
TZOFFSETFROM:+0100
TZOFFSETTO:+0200
TZNAME:CEST
DTSTART:20230326T010000
END:DAYLIGHT
BEGIN:STANDARD
TZOFFSETFROM:+0200
TZOFFSETTO:+0100
TZNAME:CET
DTSTART:20231029T010000
END:STANDARD
BEGIN:DAYLIGHT
TZOFFSETFROM:+0100
TZOFFSETTO:+0200
TZNAME:CEST
DTSTART:20240331T010000
END:DAYLIGHT
BEGIN:STANDARD
TZOFFSETFROM:+0200
TZOFFSETTO:+0100
TZNAME:CET
DTSTART:20241027T010000
END:STANDARD
END:VTIMEZONE
BEGIN:VEVENT
DTSTART;TZID=Europe/Stockholm:20230402T123000
DTEND;TZID=Europe/Stockholm:20230402T134500
DTSTAMP:20260422T051957
CREATED:20230309T115853Z
LAST-MODIFIED:20230419T104143Z
UID:6539-1680438600-1680443100@brorhjorthshus.se
SUMMARY:Familjevisning med verkstad
DESCRIPTION:Familjevisning med skapande verkstad\när ett trevligt sätt för hela familjen att uppleva museet och att prova en konstnärlig teknik. \nVi tittar först kort på utställningen och hämtar inspiration från Gunilla Bergströms skapande och berättelser om Alfons Åberg. I verkstan får du själv skapa med måleri och färgglatt kollagematerial.\nVerkstaden leds av en konstpedagog som hjälper dig att komma igång. Inga förkunskaper krävs. \nFamiljevisning med skapande verkstad är tänkt för barn tillsammans med en vuxen. \nSöndag 2 april – Alfons Åberg\nkl 12.30-13.30 och kl 14.15-15.15 \nBiljetter\nBegränsat antal platser. Max 15 personer (inkl vuxna) per tillfälle.\nFamiljevisning kostar 40 kr/verkstadsdeltagare.\nBiljetter köps via Tickster eller i museet.\nObs! Museets verkstad ligger i källaren en trappa ned. Ingen hiss eller ramp finns. \n© Bok-Makaren AB\nBild: Gunilla Bergström\, ur Aja baja\, Alfons Åberg (1972). \n 
URL:https://brorhjorthshus.se/evenemang/familjevisning-med-verkstad-15/2023-04-02/
LOCATION:Bror Hjorths Hus\, Norbyvägen 26\, Uppsala\, 752 39\, SE
CATEGORIES:Barn & Familj,Verkstad/kurs,Visning
ATTACH;FMTTYPE=image/jpeg:https://brorhjorthshus.se/wp-content/uploads/2023/03/GB_Familj_2april_hemsida_16_9.jpg
END:VEVENT
BEGIN:VEVENT
DTSTART;TZID=Europe/Stockholm:20230402T141500
DTEND;TZID=Europe/Stockholm:20230402T153000
DTSTAMP:20260422T051957
CREATED:20230311T122304Z
LAST-MODIFIED:20230311T122417Z
UID:6675-1680444900-1680449400@brorhjorthshus.se
SUMMARY:Familjevisning med verkstad
DESCRIPTION:Familjevisning med skapande verkstad\när ett trevligt sätt för hela familjen att uppleva museet och att prova en konstnärlig teknik. \nVi tittar först kort på utställningen och hämtar inspiration från Gunilla Bergströms skapande och berättelser om Alfons Åberg. I verkstan får du själv skapa med måleri och färgglatt kollagematerial.\nVerkstaden leds av en konstpedagog som hjälper dig att komma igång. Inga förkunskaper krävs. \nFamiljevisning med skapande verkstad är tänkt för barn tillsammans med en vuxen. \nSöndag 2 april – Alfons Åberg\nkl 12.30-13.30 och kl 14.15-15.15 \nBiljetter\nBegränsat antal platser. Max 15 personer (inkl vuxna) per tillfälle.\nFamiljevisning kostar 40 kr/verkstadsdeltagare.\nBiljetter köps via Tickster eller i museet.\nObs! Museets verkstad ligger i källaren en trappa ned. Ingen hiss eller ramp finns. \n© Bok-Makaren AB\nBild: Gunilla Bergström\, ur Ajabaja\, Alfons Åberg (1972).
URL:https://brorhjorthshus.se/evenemang/familjevisning-med-verkstad-16/
LOCATION:Bror Hjorths Hus\, Norbyvägen 26\, Uppsala\, 752 39\, SE
CATEGORIES:Barn & Familj,Verkstad/kurs,Visning
ATTACH;FMTTYPE=image/jpeg:https://brorhjorthshus.se/wp-content/uploads/2023/03/GB_Familj_2april_hemsida_16_9.jpg
END:VEVENT
BEGIN:VEVENT
DTSTART;TZID=Europe/Stockholm:20230403T090000
DTEND;TZID=Europe/Stockholm:20230403T140000
DTSTAMP:20260422T051957
CREATED:20230309T121521Z
LAST-MODIFIED:20230316T211012Z
UID:6564-1680512400-1680530400@brorhjorthshus.se
SUMMARY:Påsklov: Konstskola för barn 8-12 år
DESCRIPTION:3 och 4 april kl 9-14\nFör barn 8-12 år \nBilderboksverkstad\nVi tittar kort på utställningen med Gunilla Bergströms originalillustrationer till böckerna om Alfons Åberg och inspireras av hur hon klippt och klistrat\, ritat och målat bilderna.\nVi skapar därefter bokomslag/uppslag med egna sagofigurer med hjälp av kollageteknik\, tuschpennor och andra material. Vi kommer också att skapa trådteckningar i garn med inspiration från boken Bara knyt\, Alfons! \nMuseets erfarna konstpedagoger Agneta Forslund och Madelene Mhanna finns på plats hela tiden och berättar om teknik och material och hjälper till att komma igång. Inga förkunskaper krävs\, bara en nyfikenhet på bildskapande. \nEndagsaktivitet.\nMedtag egen lunch som inte behöver värmas.\nMellanmål ingår i priset.\nMax 15 deltagare per dag. \nPris: 250 kr\nKöp biljett på Tickster.com\n© Bok-Makaren AB\nBild: Gunilla Bergström\, ur Alfons och odjuret (1978).
URL:https://brorhjorthshus.se/evenemang/pasklov-konstskola-for-barn-8-12-ar/2023-04-03/
LOCATION:Bror Hjorths Hus\, Norbyvägen 26\, Uppsala\, 752 39\, SE
CATEGORIES:Barn & Familj,Verkstad/kurs,Visning
ATTACH;FMTTYPE=image/jpeg:https://brorhjorthshus.se/wp-content/uploads/2023/03/Pasklov_konstskola_hemsida_16_9.jpg
END:VEVENT
BEGIN:VEVENT
DTSTART;TZID=Europe/Stockholm:20230406T123000
DTEND;TZID=Europe/Stockholm:20230406T153000
DTSTAMP:20260422T051957
CREATED:20230309T120831Z
LAST-MODIFIED:20230321T185945Z
UID:6561-1680784200-1680795000@brorhjorthshus.se
SUMMARY:Påsklovsverkstad för små och stora
DESCRIPTION:Påsklovsverkstad\n \nGratis drop-in-verkstad och familjevisningar \nDu får skapa med inspiration av Gunilla Bergströms bilder till böckerna om Alfons Åberg och göra egna teckningar med tuschpennor och kollagematerial. Det är ett begränsat antal platser i verkstan\, du kan behöva vänta en stund på din tur. \nEn bildjakt\, utforskarväskan och annat material finns alltid för att utforska utställningen och museet på egen hand. \n6 april kl 12.30: Familjevisning av utställningen med Gunilla Bergströms Alfons Åbergbilder.\n6 april kl 13.00-15.30: Drop-in-verkstad i museets källare. \n10 april kl 12.30: Familjevisning av utställningen med Gunilla Bergströms Alfons Åbergbilder.\n10 april kl 13.00: Familjevisning av utställningen med Gunilla Bergströms Alfons Åbergbilder.\n10 april kl 13.00-15.30: Drop-in-verkstad i museets källare. \nInga förkunskaper krävs. Ingen föranmälan möjlig. Gratis. \nObs! Museets verkstad ligger i källaren en trappa ned. Ingen hiss eller ramp finns. \n\n© Bok-Makaren AB\nBild: Gunilla Bergström\, ur Bara knyt\, Alfons! (1988).
URL:https://brorhjorthshus.se/evenemang/pasklovsverkstad-for-sma-och-stora/2023-04-06/
LOCATION:Bror Hjorths Hus\, Norbyvägen 26\, Uppsala\, 752 39\, SE
CATEGORIES:Barn & Familj,Verkstad/kurs,Visning
ATTACH;FMTTYPE=image/jpeg:https://brorhjorthshus.se/wp-content/uploads/2023/03/Pasklov_verkstad_hemsida_16_9.jpg
END:VEVENT
BEGIN:VEVENT
DTSTART;TZID=Europe/Stockholm:20230413T180000
DTEND;TZID=Europe/Stockholm:20230413T200000
DTSTAMP:20260422T051957
CREATED:20230322T135408Z
LAST-MODIFIED:20230322T135408Z
UID:6774-1681408800-1681416000@brorhjorthshus.se
SUMMARY:Kvällsöppet
DESCRIPTION:Upplev museet på kvällen!\nSe utställningen med Gunilla Bergströms originalillustrationer till Alfons Åberg och Bror Hjorths konst och hem. \nIntroduktionsvisning\nGunilla Bergströms utställning  kl 18.30\nBror Hjorths konst och hem kl 19.15.\nVisningarna är ca 15-20 min. \nFri entré \nVerkstad för vuxna\nUnna dig en rolig och kreativ stund i museets verkstad.\nVi inspireras av Gunilla Bergströms originalillustrationer och skapar egna verk. \nVerkstaden leds av museets konstpedagog Ting Adolphus\, konstnär.\nDu behöver inte ha några förkunskaper. Från 16 år.\nLäs mer här
URL:https://brorhjorthshus.se/evenemang/kvallsoppet-2/
LOCATION:Bror Hjorths Hus\, Norbyvägen 26\, Uppsala\, 752 39\, SE
CATEGORIES:Verkstad/kurs,Visning
ATTACH;FMTTYPE=image/jpeg:https://brorhjorthshus.se/wp-content/uploads/2023/03/Kvallsoppet_13_april_2023_16_9.jpg
END:VEVENT
BEGIN:VEVENT
DTSTART;TZID=Europe/Stockholm:20230413T181500
DTEND;TZID=Europe/Stockholm:20230413T194500
DTSTAMP:20260422T051957
CREATED:20230322T134753Z
LAST-MODIFIED:20230322T134753Z
UID:6767-1681409700-1681415100@brorhjorthshus.se
SUMMARY:Verkstad för vuxna
DESCRIPTION:Unna dig en rolig och kreativ stund i museet!\nVi tittar kort på utställningen med Gunilla Bergströms originalillustrationer till böckerna om Alfons Åberg och inspireras av hennes arbetssätt. Bilderna är uppbyggda som kollage i flera lager med tusch på transparent plast och former klippta ur färgad plast och bilder från böcker och tidskrifter. \nVerkstaden leds av museets konstpedagog Ting Adolphus konstnär.\nDu behöver inte ha några förkunskaper. \nVerkstaden börjar kl 18.15\, pågår ca 1\,5 timmen och är avsedd för personer från 16 år.\nDen är en del av kvällsöppet 13 april kl 18-20. \nBiljett till verkstaden\nPris: 80 kr/pers (inkl kaffe/te)\nAnmälan: Köp biljett på Tickster.com eller i museet under öppettid.\nAntalet deltagare i verkstaden är begränsat till 12 personer. Obs! Från 16 år.\nVi har förkläden\, men tänk på att inte ta på dina bästa finkläder.\nObs! Museets verkstad ligger i källaren en trappa ned. Ingen hiss eller ramp finns.
URL:https://brorhjorthshus.se/evenemang/verkstad-for-vuxna-2/
LOCATION:Bror Hjorths Hus\, Norbyvägen 26\, Uppsala\, 752 39\, SE
CATEGORIES:Verkstad/kurs
ATTACH;FMTTYPE=image/jpeg:https://brorhjorthshus.se/wp-content/uploads/2023/03/Verkstad_vuxna_13_april_Tickster_16_9.jpg
END:VEVENT
BEGIN:VEVENT
DTSTART;TZID=Europe/Stockholm:20230423T123000
DTEND;TZID=Europe/Stockholm:20230423T134500
DTSTAMP:20260422T051957
CREATED:20230419T102706Z
LAST-MODIFIED:20230419T104049Z
UID:6821-1682253000-1682257500@brorhjorthshus.se
SUMMARY:Familjevisning med verkstad
DESCRIPTION:Familjevisning med skapande verkstad\när ett trevligt sätt för hela familjen att uppleva museet och att prova en konstnärlig teknik. \nVi tittar först kort på utställningen och hämtar inspiration från Gunilla Bergströms skapande och berättelser om Alfons Åberg. I verkstan får du själv skapa med måleri och färgglatt kollagematerial.\nVerkstaden leds av en konstpedagog som hjälper dig att komma igång. Inga förkunskaper krävs. \nFamiljevisning med skapande verkstad är tänkt för barn tillsammans med en vuxen. \nSöndag 23 april – Alfons Åberg\nkl 12.30-13.30 och kl 14.15-15.15 \nBiljetter\nBegränsat antal platser. Max 15 personer (inkl vuxna) per tillfälle.\nFamiljevisning kostar 40 kr/verkstadsdeltagare.\nBiljetter köps via Tickster eller i museet.\nObs! Museets verkstad ligger i källaren en trappa ned. Ingen hiss eller ramp finns. \n© Bok-Makaren AB\nBild: Gunilla Bergström\, ur Aja baja\, Alfons Åberg (1972). \n 
URL:https://brorhjorthshus.se/evenemang/familjevisning-med-verkstad-17/2023-04-23/
LOCATION:Bror Hjorths Hus\, Norbyvägen 26\, Uppsala\, 752 39\, SE
CATEGORIES:Barn & Familj,Verkstad/kurs,Visning
ATTACH;FMTTYPE=image/jpeg:https://brorhjorthshus.se/wp-content/uploads/2023/04/GB_Familj_23april_Hemsida_16_9.jpg
END:VEVENT
BEGIN:VEVENT
DTSTART;TZID=Europe/Stockholm:20230423T141500
DTEND;TZID=Europe/Stockholm:20230423T153000
DTSTAMP:20260422T051957
CREATED:20230309T115853Z
LAST-MODIFIED:20230419T104313Z
UID:6832-1682259300-1682263800@brorhjorthshus.se
SUMMARY:Familjevisning med verkstad
DESCRIPTION:Familjevisning med skapande verkstad\när ett trevligt sätt för hela familjen att uppleva museet och att prova en konstnärlig teknik. \nVi tittar först kort på utställningen och hämtar inspiration från Gunilla Bergströms skapande och berättelser om Alfons Åberg. I verkstan får du själv skapa med måleri och färgglatt kollagematerial.\nVerkstaden leds av en konstpedagog som hjälper dig att komma igång. Inga förkunskaper krävs. \nFamiljevisning med skapande verkstad är tänkt för barn tillsammans med en vuxen. \nSöndag 23 april – Alfons Åberg\nkl 12.30-13.30 och kl 14.15-15.15 \nBiljetter\nBegränsat antal platser. Max 15 personer (inkl vuxna) per tillfälle.\nFamiljevisning kostar 40 kr/verkstadsdeltagare.\nBiljetter köps via Tickster eller i museet.\nObs! Museets verkstad ligger i källaren en trappa ned. Ingen hiss eller ramp finns. \n© Bok-Makaren AB\nBild: Gunilla Bergström\, ur Aja baja\, Alfons Åberg (1972). \n 
URL:https://brorhjorthshus.se/evenemang/familjevisning-med-verkstad-15-2023-04-23/
LOCATION:Bror Hjorths Hus\, Norbyvägen 26\, Uppsala\, 752 39\, SE
CATEGORIES:Barn & Familj,Verkstad/kurs,Visning
ATTACH;FMTTYPE=image/jpeg:https://brorhjorthshus.se/wp-content/uploads/2023/04/GB_Familj_23april_Hemsida_16_9.jpg
END:VEVENT
END:VCALENDAR