BEGIN:VCALENDAR
VERSION:2.0
PRODID:-//Bror Hjorths Hus - ECPv6.15.20//NONSGML v1.0//EN
CALSCALE:GREGORIAN
METHOD:PUBLISH
X-WR-CALNAME:Bror Hjorths Hus
X-ORIGINAL-URL:https://brorhjorthshus.se
X-WR-CALDESC:Händelser för Bror Hjorths Hus
REFRESH-INTERVAL;VALUE=DURATION:PT1H
X-Robots-Tag:noindex
X-PUBLISHED-TTL:PT1H
BEGIN:VTIMEZONE
TZID:Europe/Stockholm
BEGIN:DAYLIGHT
TZOFFSETFROM:+0100
TZOFFSETTO:+0200
TZNAME:CEST
DTSTART:20220327T010000
END:DAYLIGHT
BEGIN:STANDARD
TZOFFSETFROM:+0200
TZOFFSETTO:+0100
TZNAME:CET
DTSTART:20221030T010000
END:STANDARD
BEGIN:DAYLIGHT
TZOFFSETFROM:+0100
TZOFFSETTO:+0200
TZNAME:CEST
DTSTART:20230326T010000
END:DAYLIGHT
BEGIN:STANDARD
TZOFFSETFROM:+0200
TZOFFSETTO:+0100
TZNAME:CET
DTSTART:20231029T010000
END:STANDARD
BEGIN:DAYLIGHT
TZOFFSETFROM:+0100
TZOFFSETTO:+0200
TZNAME:CEST
DTSTART:20240331T010000
END:DAYLIGHT
BEGIN:STANDARD
TZOFFSETFROM:+0200
TZOFFSETTO:+0100
TZNAME:CET
DTSTART:20241027T010000
END:STANDARD
END:VTIMEZONE
BEGIN:VEVENT
DTSTART;TZID=Europe/Stockholm:20230305T123000
DTEND;TZID=Europe/Stockholm:20230305T134500
DTSTAMP:20260422T070007
CREATED:20230210T172248Z
LAST-MODIFIED:20230210T172421Z
UID:6464-1678019400-1678023900@brorhjorthshus.se
SUMMARY:Familjevisning med verkstad
DESCRIPTION:Familjevisning med skapande verkstad\när ett trevligt sätt för hela familjen att uppleva museet och att prova en konstnärlig teknik. \nVi tittar först kort på Jacob Dahlgrens utställning i konsthallen. Därefter går vi till museets verkstad för att skulptera exotiska frukter som skulle kunna passa Jacob Dahlgrens träd.\nVerkstaden leds av en konstpedagog som hjälper dig att komma igång. Inga förkunskaper krävs. \nFamiljevisning med skapande verkstad är tänkt för barn tillsammans med en vuxen. \nSöndag 5 mars – Skulptur\nkl 12.30-13.30 och kl 14.15-15.15 \nBiljetter\nBegränsat antal platser. Max 15 personer (inkl vuxna) per tillfälle.\nFamiljevisning kostar 40 kr/verkstadsdeltagare.\nBiljetter köps via Tickster eller i museet.\nObs! Museets verkstad ligger i källaren en trappa ned. Ingen hiss eller ramp finns. \nBild: Manipulation av foto av en skulptur av Jacob Dahlgren
URL:https://brorhjorthshus.se/evenemang/familjevisning-med-verkstad-14/2023-03-05/
LOCATION:Bror Hjorths Hus\, Norbyvägen 26\, Uppsala\, 752 39\, SE
CATEGORIES:Barn & Familj,Verkstad/kurs,Visning
ATTACH;FMTTYPE=image/jpeg:https://brorhjorthshus.se/wp-content/uploads/2023/02/Fam_visn_230305_hemsida_16_9.jpg
END:VEVENT
BEGIN:VEVENT
DTSTART;TZID=Europe/Stockholm:20230309T180000
DTEND;TZID=Europe/Stockholm:20230309T200000
DTSTAMP:20260422T070007
CREATED:20230214T193816Z
LAST-MODIFIED:20230221T090647Z
UID:6483-1678384800-1678392000@brorhjorthshus.se
SUMMARY:Kvällsöppet - Open late
DESCRIPTION:Upplev museet på kvällen!\nSe Jacob Dahlgrens utställning Constructing A New World [Under Construction] och Bror Hjorths konst och hem.\nKanske blir det lite musik också. \nIntroduktionsvisning på engelska\nJacob Dahlgrens utställning kl 18.30\nBror Hjorths konst kl 19.15.\nVisningarna är ca 15-20 min. \nFri entré \nVerkstad för vuxna – Abstraktioner\nJacob Dahlgren har alltid intresserat sig för och samlat på abstraktioner.\nI denna verkstad får du skapa egna abstrakta trädformer i flera olika material. \nVerkstaden leds av museets konstpedagog Malin Koort\, illustratör.\nDu behöver inte ha några förkunskaper.\nLäs mer här
URL:https://brorhjorthshus.se/evenemang/kvallsoppet-open-late/
LOCATION:Bror Hjorths Hus\, Norbyvägen 26\, Uppsala\, 752 39\, SE
CATEGORIES:Verkstad/kurs,Visning
ATTACH;FMTTYPE=image/jpeg:https://brorhjorthshus.se/wp-content/uploads/2023/02/Kvallsoppet_SV_9_mars.jpg
END:VEVENT
BEGIN:VEVENT
DTSTART;TZID=Europe/Stockholm:20230309T180000
DTEND;TZID=Europe/Stockholm:20230309T200000
DTSTAMP:20260422T070007
CREATED:20230215T124635Z
LAST-MODIFIED:20230215T124636Z
UID:6490-1678384800-1678392000@brorhjorthshus.se
SUMMARY:Open Late - Kvällsöppet
DESCRIPTION:Experience the museum in the evening!\nSee Jacob Dahlgren’s exhibition Constructing A New World [Under Construction] and Bror Hjorth’s art and home.\nThere might be some music as well. \nShort guided tours in English\nJacob Dahlgren’s exhibition at 18.30\nBror Hjorth’s art at 19.15.\nThe tours are appr. 15-20 min. \nFree entrance \n\nCreative Workshop – Abstractions\n18.15-19.45\nJacob Dahlgren has always been interested in and collected abstractions.\nIn this workshop\, you get to create your own abstract tree shapes in several different materials. \nThe workshop is led by the museum’s art educator Malin Koort\, illustrator.\nYou don’t need any prior knowledge.\nThe workshop is for adults. \nBuy your ticket at Tickster.com (in Swedish)\nPrice: 80 SEK incl. coffee/tea\nLimited availability. Max 12 participants.\n 
URL:https://brorhjorthshus.se/evenemang/open-late-kvallsoppet/
LOCATION:Bror Hjorths Hus\, Norbyvägen 26\, Uppsala\, 752 39\, SE
CATEGORIES:Verkstad/kurs,Visning
ATTACH;FMTTYPE=image/jpeg:https://brorhjorthshus.se/wp-content/uploads/2023/02/Kvallsoppet_EN_9_March.jpg
END:VEVENT
BEGIN:VEVENT
DTSTART;TZID=Europe/Stockholm:20230309T181500
DTEND;TZID=Europe/Stockholm:20230309T194500
DTSTAMP:20260422T070007
CREATED:20230210T172150Z
LAST-MODIFIED:20230210T172150Z
UID:6470-1678385700-1678391100@brorhjorthshus.se
SUMMARY:Verkstad för vuxna
DESCRIPTION:Verkstad för vuxna – Abstraktioner\nJacob Dahlgren har alltid intresserat sig för och samlat på abstraktioner.\nI denna verkstad får du skapa egna abstrakta trädformer i flera olika material. \nVerkstaden leds av museets konstpedagog Malin Koort\, illustratör.\nDu behöver inte ha några förkunskaper. \nVerkstaden börjar kl 18.15\, pågår ca 1\,5 timmen och är avsedd för personer från 16 år.\nDen är en del av kvällsöppet 9 mars kl 18-20. \nBiljett till verkstaden\nPris: 80 kr/pers (inkl kaffe/te)\nAnmälan: Köp biljett på Tickster.com eller i museet under öppettid.\nAntalet deltagare i verkstaden är begränsat till 12 personer. Obs! Från 16 år.\nVi har förkläden\, men tänk på att inte ta på dina bästa finkläder.\nObs! Museets verkstad ligger i källaren en trappa ned. Ingen hiss eller ramp finns.
URL:https://brorhjorthshus.se/evenemang/verkstad-for-vuxna/
LOCATION:Bror Hjorths Hus\, Norbyvägen 26\, Uppsala\, 752 39\, SE
CATEGORIES:Verkstad/kurs
ATTACH;FMTTYPE=image/jpeg:https://brorhjorthshus.se/wp-content/uploads/2023/02/Verkstad_vuxna_230309_hemsida_16_9.jpg
END:VEVENT
END:VCALENDAR