BEGIN:VCALENDAR
VERSION:2.0
PRODID:-//Bror Hjorths Hus - ECPv6.15.20//NONSGML v1.0//EN
CALSCALE:GREGORIAN
METHOD:PUBLISH
X-WR-CALNAME:Bror Hjorths Hus
X-ORIGINAL-URL:https://brorhjorthshus.se
X-WR-CALDESC:Händelser för Bror Hjorths Hus
REFRESH-INTERVAL;VALUE=DURATION:PT1H
X-Robots-Tag:noindex
X-PUBLISHED-TTL:PT1H
BEGIN:VTIMEZONE
TZID:Europe/Stockholm
BEGIN:DAYLIGHT
TZOFFSETFROM:+0100
TZOFFSETTO:+0200
TZNAME:CEST
DTSTART:20240331T010000
END:DAYLIGHT
BEGIN:STANDARD
TZOFFSETFROM:+0200
TZOFFSETTO:+0100
TZNAME:CET
DTSTART:20241027T010000
END:STANDARD
BEGIN:DAYLIGHT
TZOFFSETFROM:+0100
TZOFFSETTO:+0200
TZNAME:CEST
DTSTART:20250330T010000
END:DAYLIGHT
BEGIN:STANDARD
TZOFFSETFROM:+0200
TZOFFSETTO:+0100
TZNAME:CET
DTSTART:20251026T010000
END:STANDARD
BEGIN:DAYLIGHT
TZOFFSETFROM:+0100
TZOFFSETTO:+0200
TZNAME:CEST
DTSTART:20260329T010000
END:DAYLIGHT
BEGIN:STANDARD
TZOFFSETFROM:+0200
TZOFFSETTO:+0100
TZNAME:CET
DTSTART:20261025T010000
END:STANDARD
END:VTIMEZONE
BEGIN:VEVENT
DTSTART;TZID=Europe/Stockholm:20251105T190000
DTEND;TZID=Europe/Stockholm:20251105T200000
DTSTAMP:20260422T031920
CREATED:20251001T125803Z
LAST-MODIFIED:20251006T104541Z
UID:18845-1762369200-1762372800@brorhjorthshus.se
SUMMARY:Möt konstnären : Emilia Sundqvist
DESCRIPTION:Emilia Sundqvist berättar om sitt konstnärskap\ni den pågående utställningen \nEmilia Sundqvist (f. 1993) arbetar i noga utvalda textila material och skapar fyllda figurativa skulpturer med synliga handgjorda sömmar. Sundqvists verk utforskar vuxenlivets krav och förväntningar\, både samhällets och de egna eller andras förmodade krav\, med ett lekfullt och humoristiskt men samtidig allvarligt uppriktigt förhållningssätt. \n\n \nPris: 80 kr\nBror Hjorthföreningens medlemmar går gratis (använd kod för att låsa upp medlemsbiljett)\nDet är möjligt att förköpa fika som serveras kl 18.30-19.00 i museets reception. \nObservera att föredraget hålls i utställningen. Möjligheterna att se utställningen under kvällen är därför något begränsade. \nFöredraget ges med stöd från Bror Hjorthföreningen
URL:https://brorhjorthshus.se/evenemang/mot-konstnaren-emilia-sundqvist/
CATEGORIES:Föredrag & Konsert
ATTACH;FMTTYPE=image/jpeg:https://brorhjorthshus.se/wp-content/uploads/2025/10/251105_Mot_Emilia_Sundqvist_16x9.jpg
END:VEVENT
BEGIN:VEVENT
DTSTART;TZID=Europe/Stockholm:20251109T120000
DTEND;TZID=Europe/Stockholm:20251109T160000
DTSTAMP:20260422T031920
CREATED:20251014T092809Z
LAST-MODIFIED:20251023T135954Z
UID:18903-1762689600-1762704000@brorhjorthshus.se
SUMMARY:Museidagen i Bror Hjorths Hus
DESCRIPTION:Museidagen i Uppsala 2025!\nTema Luft\nPå Museidagen visar Uppsalas museer upp sin bredd och variationsrikedom. 2025 är temat Luft – det är andra året med tema “de fyra elementen”. \nProgrammet i Bror Hjorths Hus:\nDet ligger i luften\n\nFyll vår mobil med flygfän\, ge Bror Hjorths bilder nya himlar\, följ med på visning\, testa finn 5 fel\, tävla i konstbingo eller upptäck museet själv!\nÖppet kl 12-16. Fri entré. \n12.00–16.00: Nytt konstbingo! Finn-5-fel. Upptäckarväska. Roliga uppgifter för nyfikna konstspanare i alla åldrar. \n12.30–15.30: Flygande konst – fyll vår mobil. Familjeverkstad i källaren. Drop-in. Gratis. \n13.00: Visning av Emilia Sundqvists utställning ”Vakenvila” med textila skulpturer \n14.00: Det ligger i luften – temavisning av Bror Hjorths konst \n19.00: Musikalisk visning / konsert om Bror Hjorths konst med Catti Brandelius och Eric Palmqwist. Förköp. 180 kr. Insläpp från 18.30. \n\n \nMuseidagen i Uppsala arrangeras av Uppsalamuseernas informationsförening.\nLäs hela programmet här
URL:https://brorhjorthshus.se/evenemang/museidagen-i-bror-hjorths-hus-2025/
LOCATION:Bror Hjorths Hus\, Norbyvägen 26\, Uppsala\, 752 39\, SE
CATEGORIES:Barn & Familj,Föredrag & Konsert,Verkstad/kurs,Visning
ATTACH;FMTTYPE=image/jpeg:https://brorhjorthshus.se/wp-content/uploads/2025/10/Museidagen_2025_Mork_Overtoning_16_9.jpg
END:VEVENT
BEGIN:VEVENT
DTSTART;TZID=Europe/Stockholm:20251109T190000
DTEND;TZID=Europe/Stockholm:20251109T200000
DTSTAMP:20260422T031920
CREATED:20251001T110419Z
LAST-MODIFIED:20251028T135450Z
UID:18811-1762714800-1762718400@brorhjorthshus.se
SUMMARY:Musikalisk visning: Catti Brandelius och Eric Palmqwist
DESCRIPTION:Catti Brandelius och Eric Palmqwist\nger en musikaliska visning av Bror Hjorth\nSöndag 9 november kl 19.00\ni Bror Hjorths ateljé\n(Obs! Musikalisk visning ges även onsdag 12 november kl 19.00)\n \nCatti Brandelius och Eric Palmqwist bjuder på en avskalad och stark musikupplevelse som kombinerar värme\, allvar och lekfullhet. Med utgångspunkt i Bror Hjorths målningar och skulpturer framförs nykomponerade låtar för att låta berättelser ur Bror Hjorths liv och konst träda fram. \n”Vår visning innehåller musik\, tankar om konsten och är en unik performance skräddarsydd för platsen där visningen äger rum. Vi aktiverar också publiken att tänka till och kanske sjunga med. Vår förhoppning är att vår musikaliska visning ger nya ingångar och dimensioner till konsten och förstärker konstupplevelsen”\, säger Catti Brandelius.  \nCatti Brandelius har själv (ibland som Miss Universum) och tillsammans med Eric Palmqwist tidigare gjort visningar på bland annat Moderna Museet\, Bonniers Konsthall\, Sagerska palatset och Supermarket\, med nya låtar till konstverk av Valeria Montti Colque\, Truls Melin\, Maria Friberg\, Marie-Louise Ekman\, med flera. \nCatti Brandelius uppskattar Bror Hjorth för hans humor\, de starka färgerna och linjen.\nCatti Brandelius är en konstnär som arbetar med flera uttryck\, t ex performance\, textil och teckning. Hon har antagit många olika skepnader\, som Miss Universum har hon vänt på begreppen på hur en skönhetsmiss ska vara. Hon har också varit Evert Taube och Elitakrobaten. Humor och egna tillkortakommanden spelar ofta en stor roll. Hon var tidigare medlem i musikgruppen Doktor Kosmos. \nEric Palmqwist är artist\, låtskrivare\, musiker och konstnär.\n”Bror Hjorth har gjort ett stort avtryck på min egen konst med sin egensinniga och lekfulla stil. Det är en konstnär som jag ofta återvänder till för inspiration”\, säger han.\nEric Palmqwist fick sitt musikaliska genombrott 2019 med albumet En halv gris kan inte gå – en temaskiva om vägen ut ur ett missbruk. Han har sedan dess släppt flera album\, bland annat Hej då (2020) och Värmen (2021).\nEric studerar keramik och glas på Konstfack och är en hängiven konstnär som ivrigt utforskar bildkonsten. \n\n \nFoto: Ida Sjödin/Bonniers Konsthall \nDe musikaliska visningarna ges i samarbete med Studieförbundet Bilda! och med stöd från Bror Hjorthföreningen \n  \n 
URL:https://brorhjorthshus.se/evenemang/musikalisk-visning-catti-brandelius-och-eric-palmqwist-251109/2025-11-09/
LOCATION:Bror Hjorths Hus\, Norbyvägen 26\, Uppsala\, 752 39\, SE
CATEGORIES:Föredrag & Konsert,Visning
ATTACH;FMTTYPE=image/jpeg:https://brorhjorthshus.se/wp-content/uploads/2025/10/251109_Catti_Eric_16_9_konsert.jpg
END:VEVENT
BEGIN:VEVENT
DTSTART;TZID=Europe/Stockholm:20251112T190000
DTEND;TZID=Europe/Stockholm:20251112T200000
DTSTAMP:20260422T031920
CREATED:20251001T110357Z
LAST-MODIFIED:20251028T135403Z
UID:18817-1762974000-1762977600@brorhjorthshus.se
SUMMARY:Musikalisk visning: Catti Brandelius och Eric Palmqwist
DESCRIPTION:Catti Brandelius och Eric Palmqwist\nger en musikaliska visning av Bror Hjorth\nOnsdag 12 november kl 19.00\ni Bror Hjorths ateljé\n(Obs! Musikalisk visning ges även söndag 9 november kl 19.00) \nCatti Brandelius och Eric Palmqwist bjuder på en avskalad och stark musikupplevelse som kombinerar värme\, allvar och lekfullhet. Med utgångspunkt i Bror Hjorths målningar och skulpturer framförs nykomponerade låtar för att låta berättelser ur Bror Hjorths liv och konst träda fram. \n”Vår visning innehåller musik\, tankar om konsten och är en unik performance skräddarsydd för platsen där visningen äger rum. Vi aktiverar också publiken att tänka till och kanske sjunga med. Vår förhoppning är att vår musikaliska visning ger nya ingångar och dimensioner till konsten och förstärker konstupplevelsen”\, säger Catti Brandelius.  \nCatti Brandelius har själv (ibland som Miss Universum) och tillsammans med Eric Palmqwist tidigare gjort visningar på bland annat Moderna Museet\, Bonniers Konsthall\, Sagerska palatset och Supermarket\, med nya låtar till konstverk av Valeria Montti Colque\, Truls Melin\, Maria Friberg\, Marie-Louise Ekman\, med flera. \nCatti Brandelius uppskattar Bror Hjorth för hans humor\, de starka färgerna och linjen.\nCatti Brandelius är en konstnär som arbetar med flera uttryck\, t ex performance\, textil och teckning. Hon har antagit många olika skepnader\, som Miss Universum har hon vänt på begreppen på hur en skönhetsmiss ska vara. Hon har också varit Evert Taube och Elitakrobaten. Humor och egna tillkortakommanden spelar ofta en stor roll. Hon var tidigare medlem i musikgruppen Doktor Kosmos. \nEric Palmqwist är artist\, låtskrivare\, musiker och konstnär.\n”Bror Hjorth har gjort ett stort avtryck på min egen konst med sin egensinniga och lekfulla stil. Det är en konstnär som jag ofta återvänder till för inspiration”\, säger han.\nEric Palmqwist fick sitt musikaliska genombrott 2019 med albumet En halv gris kan inte gå – en temaskiva om vägen ut ur ett missbruk. Han har sedan dess släppt flera album\, bland annat Hej då (2020) och Värmen (2021). Eric studerar keramik och glas på Konstfack och är en hängiven konstnär som ivrigt utforskar bildkonsten. \n\n \nFoto: Ida Sjödin/Bonniers Konsthall \nDe musikaliska visningarna ges i samarbete med Studieförbundet Bilda! och med stöd från Bror Hjorthföreningen
URL:https://brorhjorthshus.se/evenemang/musikalisk-visning-catti-brandelius-och-eric-palmqwist-251112/
CATEGORIES:Föredrag & Konsert,Visning
ATTACH;FMTTYPE=image/jpeg:https://brorhjorthshus.se/wp-content/uploads/2025/10/251112_Catti_Eric_16_9_konsert.jpg
END:VEVENT
END:VCALENDAR