BEGIN:VCALENDAR
VERSION:2.0
PRODID:-//Bror Hjorths Hus - ECPv6.15.20//NONSGML v1.0//EN
CALSCALE:GREGORIAN
METHOD:PUBLISH
X-WR-CALNAME:Bror Hjorths Hus
X-ORIGINAL-URL:https://brorhjorthshus.se
X-WR-CALDESC:Händelser för Bror Hjorths Hus
REFRESH-INTERVAL;VALUE=DURATION:PT1H
X-Robots-Tag:noindex
X-PUBLISHED-TTL:PT1H
BEGIN:VTIMEZONE
TZID:Europe/Stockholm
BEGIN:DAYLIGHT
TZOFFSETFROM:+0100
TZOFFSETTO:+0200
TZNAME:CEST
DTSTART:20240331T010000
END:DAYLIGHT
BEGIN:STANDARD
TZOFFSETFROM:+0200
TZOFFSETTO:+0100
TZNAME:CET
DTSTART:20241027T010000
END:STANDARD
BEGIN:DAYLIGHT
TZOFFSETFROM:+0100
TZOFFSETTO:+0200
TZNAME:CEST
DTSTART:20250330T010000
END:DAYLIGHT
BEGIN:STANDARD
TZOFFSETFROM:+0200
TZOFFSETTO:+0100
TZNAME:CET
DTSTART:20251026T010000
END:STANDARD
BEGIN:DAYLIGHT
TZOFFSETFROM:+0100
TZOFFSETTO:+0200
TZNAME:CEST
DTSTART:20260329T010000
END:DAYLIGHT
BEGIN:STANDARD
TZOFFSETFROM:+0200
TZOFFSETTO:+0100
TZNAME:CET
DTSTART:20261025T010000
END:STANDARD
END:VTIMEZONE
BEGIN:VEVENT
DTSTART;TZID=Europe/Stockholm:20251017T190000
DTEND;TZID=Europe/Stockholm:20251017T200000
DTSTAMP:20260422T013341
CREATED:20250918T154300Z
LAST-MODIFIED:20250922T101700Z
UID:18736-1760727600-1760731200@brorhjorthshus.se
SUMMARY:Konsert: Tonskalv
DESCRIPTION:TONSKALV\när en kvartett som med djärvhet och nyfikenhet spelar samtida nordisk folkmusik med blicken riktad mot sina kvinnliga föregångare. \nBandet bildades 2020 av fyra färgstarka musiker\, med en gemensam vilja att utforska nya vägar inom den svenska folkmusiken och att berätta de historier som sällan fått höras. Med sin unika sättning har de skapat ett säreget sound där stråkarna gärna får knarra lite extra och funken ta plats i polskorna. \n”Tonskalv visar att de är ett av landets mest intressanta folkmusikband” – Lira Musikmagasin \n”Tonskalv vågar tänja på traditionen och plöja nya fåror.” – Spelmannen \nMusiker:\nElbas – Daniella Eriksson Dahlström\nTvärflöjt/sång – Daniela Söderlund\nFiol – Alvina Herbinger Rygne\nFiol/altfiol/sång – Alice Evensen Landström \nFoto: Amanda Lindgren \nLyssna här \n\n \nKonserten arrangeras i samarbete med Studieförbundet Bilda! och med stöd från Bror Hjorthföreningen \n 
URL:https://brorhjorthshus.se/evenemang/konsert-tonskalv/
LOCATION:Bror Hjorths Hus\, Norbyvägen 26\, Uppsala\, 752 39\, SE
CATEGORIES:Föredrag & Konsert
ATTACH;FMTTYPE=image/jpeg:https://brorhjorthshus.se/wp-content/uploads/2025/09/251017_Tonskalv_16_9_konsert.jpg
END:VEVENT
BEGIN:VEVENT
DTSTART;TZID=Europe/Stockholm:20251018T140000
DTEND;TZID=Europe/Stockholm:20251018T140000
DTSTAMP:20260422T013341
CREATED:20251013T211422Z
LAST-MODIFIED:20251013T212628Z
UID:18899-1760796000-1760796000@brorhjorthshus.se
SUMMARY:Invigning: Emilia Sundqvist - Vakenvila
DESCRIPTION:Utställning med Emilia Sundqvist invigs\nUtställningen med Emilia Sundqvist invigs med ett kortare samtal mellan konstnären och Tomas Järliden\, museichef i Bror Hjorths Hus. \nMuseet är öppet kl 12-16. Fri entré. \nTextil i olika form är Emilia Sundqvists material. Hon syr\, stoppar med vadd\, bygger upp figurer med nåltovade ansikten och detaljer. Materialet består ofta av återvunna\, handgjorda textilier. Textilier som bär på ett rikt arv av arbete\, minnen och tid och alltid med en vördnad för den som en gång suttit med nålen i hand. Hennes konstnärskap kretsar kring kroppslighet\, sårbarhet och transformation och skulpturerna bär spår av omsorg\, tröst\, sömn och oro – erfarenheter hämtade från det vardagliga men också från det existentiella.\n\n\n\nI utställningen utforskar Emilia Sundqvist (född 1993 i Uppsala) gränslandet mellan dröm och verklighet\, vakenhet och vila. Hon undersöker hur det vackra och hoppfulla kan förskjutas till något läskigt och skrämmande. När tankarna söker trygghet men översköljs av fantasins icke-kontroll. När vuxenlivets ansvar och sömnbrist tar över. Med konstnärens egna ord: ”Det handlar om vuxenlivets projektioner\, förväntningar och förhoppningar som glider över i drömska visioner och ibland i skräcksköna drömmar.” \n\nEmilia Sundqvist\, född 1993 i Uppsala\, bor och arbetar i Stockholm. Hon tog sin masterexamen i textil på Konstfack i Stockholm (2018–2020) och sin kandidatexamen vid Konsthögskolan i Wien (2015–2018).\n\n\nUtställningen pågår 18 oktober – 23 november.\n\nLÄS MER OM UTSTÄLLNINGEN
URL:https://brorhjorthshus.se/evenemang/invigning-emilia-sundqvist-vakenvila/
LOCATION:Bror Hjorths Hus\, Norbyvägen 26\, Uppsala\, 752 39\, SE
CATEGORIES:Föredrag & Konsert,Visning
ATTACH;FMTTYPE=image/jpeg:https://brorhjorthshus.se/wp-content/uploads/2025/10/251018_Invigning_Emilia_Sundqvist_16_9.jpg
END:VEVENT
END:VCALENDAR