BEGIN:VCALENDAR
VERSION:2.0
PRODID:-//Bror Hjorths Hus - ECPv6.15.20//NONSGML v1.0//EN
CALSCALE:GREGORIAN
METHOD:PUBLISH
X-ORIGINAL-URL:https://brorhjorthshus.se
X-WR-CALDESC:Händelser för Bror Hjorths Hus
REFRESH-INTERVAL;VALUE=DURATION:PT1H
X-Robots-Tag:noindex
X-PUBLISHED-TTL:PT1H
BEGIN:VTIMEZONE
TZID:Europe/Stockholm
BEGIN:DAYLIGHT
TZOFFSETFROM:+0100
TZOFFSETTO:+0200
TZNAME:CEST
DTSTART:20240331T010000
END:DAYLIGHT
BEGIN:STANDARD
TZOFFSETFROM:+0200
TZOFFSETTO:+0100
TZNAME:CET
DTSTART:20241027T010000
END:STANDARD
BEGIN:DAYLIGHT
TZOFFSETFROM:+0100
TZOFFSETTO:+0200
TZNAME:CEST
DTSTART:20250330T010000
END:DAYLIGHT
BEGIN:STANDARD
TZOFFSETFROM:+0200
TZOFFSETTO:+0100
TZNAME:CET
DTSTART:20251026T010000
END:STANDARD
BEGIN:DAYLIGHT
TZOFFSETFROM:+0100
TZOFFSETTO:+0200
TZNAME:CEST
DTSTART:20260329T010000
END:DAYLIGHT
BEGIN:STANDARD
TZOFFSETFROM:+0200
TZOFFSETTO:+0100
TZNAME:CET
DTSTART:20261025T010000
END:STANDARD
END:VTIMEZONE
BEGIN:VEVENT
DTSTART;TZID=Europe/Stockholm:20250905T190000
DTEND;TZID=Europe/Stockholm:20250905T200000
DTSTAMP:20260421T233922
CREATED:20250716T092112Z
LAST-MODIFIED:20250918T153632Z
UID:18478-1757098800-1757102400@brorhjorthshus.se
SUMMARY:Konsert: Óskar Freyr Guðnason - folkmusikstipendiat 2025
DESCRIPTION:Bror Hjorthföreningens folkmusikstipendium 2025 tilldelas sångaren Óskar Freyr Guðnason. Juryns motivering lyder: ”Med förankring i\, och förståelse för\, traditionen framför Óskar sin musik självklart och lekande lätt\, och på ett sätt som gör sångernas berättel­ser livs levande för lyss­naren.” \n\nÓskar Freyr Guðnason är sångare och tonsättare uppvuxen i Oviken i västra Jämtland som på kort tid etablerat sig som en av de mest spännande namnen på den skandinaviska folkmusikscenen. Han har nyligen slutfört sina kandidatstudier på Kungliga Musikhögskolan i Stockholm\, där han haft ett särskilt fokus på mikrotonalitet i äldre svensk folkmusik. Óskar är verksam sångare\, tonsättare\, DJ och musikalisk rådgivare för Skansens Visstuga och den musikaliska röda tråden är snarare blå\, krokig och mörk. Räkna med att att Óskars intresse för Lapp-Nils\, kaukning\, dödskoraler och parallella kvinter kommer höras i konserten. \nBror Hjorthföreningens folkmusikstipendium delas ut vartannat år till minne av konstnären Bror Hjorth\, som var mycket intresserad\, och en stor tillskyndare\, av svensk folkmusik. Med stipendiet vill Bror Hjorthföreningen uppmuntra unga spelmän och folkmusiker och visa den svenska folkmusikens betydelse som musikaliskt uttryck för solospel på instrument och för sång. Inför varje beslutstillfälle inbjuds de musikhögskolor som har musikerutbildning med inriktning på svensk folkmusik att föreslå högst tre kandidater. Svensk folkmusik kan också ingå som inriktning inom individuell studiegång inom musikerutbildning i Göteborg\, Malmö och Stockholm. \nJuryn bestod i år av Ditte Andersson\, Sonia Sahlström samt Olov Johansson\, samtliga verksamma folkmusiker. \nKonserten arrangeras i nära samarbete med Bror Hjorthföreningen
URL:https://brorhjorthshus.se/evenemang/konsert-oskar-freyr-gudnason-folkmusikstipendiat-2025/
LOCATION:Bror Hjorths Hus\, Norbyvägen 26\, Uppsala\, 752 39\, SE
CATEGORIES:Föredrag & Konsert
ATTACH;FMTTYPE=image/jpeg:https://brorhjorthshus.se/wp-content/uploads/2025/07/250905_Konsert_Oskar_Freyr_Gudnason_16_9_konsert.jpg
END:VEVENT
BEGIN:VEVENT
DTSTART;TZID=Europe/Stockholm:20250906T140000
DTEND;TZID=Europe/Stockholm:20250906T143000
DTSTAMP:20260421T233922
CREATED:20250828T112503Z
LAST-MODIFIED:20250828T112503Z
UID:18566-1757167200-1757169000@brorhjorthshus.se
SUMMARY:Invigning: Henric Westlund
DESCRIPTION:Utställning med Henric Westlund invigs\nUtställningen med Henric Westlund invigs med ett kortare samtal mellan konstnären och Tomas Järliden\, museichef i Bror Hjorths Hus. \nMuseet är öppet kl 12-16. Fri entré. \n2003 tilldelades Henric Westlund (född 1969) Bror Hjorthföreningens teckningsstipendium. Drygt tjugo år senare återkommer han och nu arbetar han både två- och tredimensionellt\, med skulptur\, grafik och måleri. Träd\, moln och landskap tar form i etsningar och gips- eller träskulpturer.  Han intresserar sig fortfarande för möten och gränsskikt i sin konst\, men kanske i en mer andlig mening nu än då. I horisontala och vertikala gränsskikt kan det uppstå djupare möten mellan oss människor och den större helhet vi är en del av. Det horisontala rör våra relationer här på jorden\, det vertikala vår relation till något bortom det synligt fysiska.\n\nÅterkomstutställningen i Bror Hjorths Hus pågår 6 september – 12 oktober och är ett aktuellt nedslag i Henric Westlunds konstnärskap.\n\nLÄS MER OM UTSTÄLLNINGEN
URL:https://brorhjorthshus.se/evenemang/invigning-henric-westlund/
LOCATION:Bror Hjorths Hus\, Norbyvägen 26\, Uppsala\, 752 39\, SE
CATEGORIES:Föredrag & Konsert,Visning
ATTACH;FMTTYPE=image/jpeg:https://brorhjorthshus.se/wp-content/uploads/2025/08/250906_Invigning_Henric_Westlund_16_9.jpg
END:VEVENT
BEGIN:VEVENT
DTSTART;TZID=Europe/Stockholm:20250928T163000
DTEND;TZID=Europe/Stockholm:20250928T173000
DTSTAMP:20260421T233922
CREATED:20250901T151639Z
LAST-MODIFIED:20250902T143900Z
UID:18652-1759077000-1759080600@brorhjorthshus.se
SUMMARY:Möt konstnären : Henric Westlund
DESCRIPTION:Henric Westlund berättar om sitt konstnärskap\ni den pågående utställningen  \nFördjupning i den aktuella utställningen. \n2003 tilldelades Henric Westlund (född 1969) Bror Hjorthföreningens teckningsstipendium. Drygt tjugo år senare återkommer han och nu arbetar han både två- och tredimensionellt\, med skulptur\, grafik och måleri. Träd\, moln och landskap tar form i etsningar och gips- eller träskulpturer.  Han intresserar sig fortfarande för möten och gränsskikt i sin konst\, men kanske i en mer andlig mening nu än då. I horisontala och vertikala gränsskikt kan det uppstå djupare möten mellan oss människor och den större helhet vi är en del av. Det horisontala rör våra relationer här på jorden\, det vertikala vår relation till något bortom det fysiskt synliga.\n\n\nPris: 80 kr\nBror Hjorthföreningens medlemmar går gratis (använd kod för att låsa upp medlemsbiljett)\nDet är möjligt att förköpa för servering kl 15.30-16.30.  \nFöredraget ges med stöd från Bror Hjorthföreningen
URL:https://brorhjorthshus.se/evenemang/mot-konstnaren-henric-westlund/
LOCATION:Bror Hjorths Hus\, Norbyvägen 26\, Uppsala\, 752 39\, SE
CATEGORIES:Föredrag & Konsert
ATTACH;FMTTYPE=image/jpeg:https://brorhjorthshus.se/wp-content/uploads/2025/09/250928_Henric_Westlund_16x9.jpg
END:VEVENT
END:VCALENDAR