BEGIN:VCALENDAR
VERSION:2.0
PRODID:-//Bror Hjorths Hus - ECPv6.15.20//NONSGML v1.0//EN
CALSCALE:GREGORIAN
METHOD:PUBLISH
X-ORIGINAL-URL:https://brorhjorthshus.se
X-WR-CALDESC:Händelser för Bror Hjorths Hus
REFRESH-INTERVAL;VALUE=DURATION:PT1H
X-Robots-Tag:noindex
X-PUBLISHED-TTL:PT1H
BEGIN:VTIMEZONE
TZID:Europe/Stockholm
BEGIN:DAYLIGHT
TZOFFSETFROM:+0100
TZOFFSETTO:+0200
TZNAME:CEST
DTSTART:20240331T010000
END:DAYLIGHT
BEGIN:STANDARD
TZOFFSETFROM:+0200
TZOFFSETTO:+0100
TZNAME:CET
DTSTART:20241027T010000
END:STANDARD
BEGIN:DAYLIGHT
TZOFFSETFROM:+0100
TZOFFSETTO:+0200
TZNAME:CEST
DTSTART:20250330T010000
END:DAYLIGHT
BEGIN:STANDARD
TZOFFSETFROM:+0200
TZOFFSETTO:+0100
TZNAME:CET
DTSTART:20251026T010000
END:STANDARD
BEGIN:DAYLIGHT
TZOFFSETFROM:+0100
TZOFFSETTO:+0200
TZNAME:CEST
DTSTART:20260329T010000
END:DAYLIGHT
BEGIN:STANDARD
TZOFFSETFROM:+0200
TZOFFSETTO:+0100
TZNAME:CET
DTSTART:20261025T010000
END:STANDARD
END:VTIMEZONE
BEGIN:VEVENT
DTSTART;TZID=Europe/Stockholm:20250409T190000
DTEND;TZID=Europe/Stockholm:20250409T200000
DTSTAMP:20260421T151519
CREATED:20250221T191538Z
LAST-MODIFIED:20250221T193417Z
UID:17836-1744225200-1744228800@brorhjorthshus.se
SUMMARY:Konsert: VÅGSPEL
DESCRIPTION:VÅGSPEL\nMed rötterna stadigt i den västgötska låtskatten spelar Vågspel både egenskrivna låtar och trad. Med två fioler får duon musiken att fara som en ångvält genom landskapet där dåtid och nutid möts. Alice Klint och Kristin Kennemark spelar uppkäftigt och lyriskt på samma gång\, med ett samspel och sväng som kan sätta vad som helst i rörelse. I kompositionerna kombineras djärva tongångar med eggande rytmer. Låtarna har en egen färg och speglar ofta sin samtid – både dess sorger och lyckorus. Vänskapen musikerna emellan är grunden i det sammansvetsade stämspelet. Tillsammans tar de sig an de stora känslorna!\nDuon är högaktuella med sitt tredje album Det finns någonting annat som släpps i mitten av april. \nAlice Klint – fiol\nKristin Kennemark – fiol \nDebutalbumet Vågspel släpptes 2017 och året därpå korades duon till Årets nykomling på Folk- och Världsmusikgalan i Norrköping. Våren 2022 utsågs Vågspel till Ensemble in Residence hos Musik i Syd. Deras andra album I nöd och lust utsågs till Årets Trad 2022 av Lira Musikmagasin och nominerades till Grammis i Årets Folkmusik 2023. Nu är de aktuella med sitt tredje album Det finns någonting annat (släpps i mitten av april). \n”På uppföljaren ’I nöd och lust’ visar Alice Klint och Kristin Kennemark – duon Vågspel alltså – upp ett vitt spektrum av djupaste musikalitet\, där deras klassiska skolning lyser igenom men grunden och uttrycket vilar säkert i tradmusikens mylla.\nSkivan formligen sprudlar och sprakar av energi\, lust\, driv och dramatik. Skickligt fiolspel och intimt samspel vilket på sina håll förstärks av fotstamp och utrop.” Lira – Årets trad 2022 \nFoto: Siri Wallentén \nBiljetter köps via Tickster.com eller i museets reception under öppettid.\nSittplats: 180 kr.\nBror Hjorthföreningens medlemmar: 100 kr (med rabattkod för medlemmar).\nKonserten arrangeras av Bror Hjorths Hus i samarbete med Studieförbundet Bilda! och med stöd från Bror Hjorthföreningen.
URL:https://brorhjorthshus.se/evenemang/konsert-vagspel/
LOCATION:Bror Hjorths Hus\, Norbyvägen 26\, Uppsala\, 752 39\, SE
CATEGORIES:Föredrag & Konsert
ATTACH;FMTTYPE=image/jpeg:https://brorhjorthshus.se/wp-content/uploads/2025/02/250409_Vagspel_16_9_konsert.jpg
END:VEVENT
END:VCALENDAR