BEGIN:VCALENDAR
VERSION:2.0
PRODID:-//Bror Hjorths Hus - ECPv6.15.20//NONSGML v1.0//EN
CALSCALE:GREGORIAN
METHOD:PUBLISH
X-WR-CALNAME:Bror Hjorths Hus
X-ORIGINAL-URL:https://brorhjorthshus.se
X-WR-CALDESC:Händelser för Bror Hjorths Hus
REFRESH-INTERVAL;VALUE=DURATION:PT1H
X-Robots-Tag:noindex
X-PUBLISHED-TTL:PT1H
BEGIN:VTIMEZONE
TZID:Europe/Stockholm
BEGIN:DAYLIGHT
TZOFFSETFROM:+0100
TZOFFSETTO:+0200
TZNAME:CEST
DTSTART:20240331T010000
END:DAYLIGHT
BEGIN:STANDARD
TZOFFSETFROM:+0200
TZOFFSETTO:+0100
TZNAME:CET
DTSTART:20241027T010000
END:STANDARD
BEGIN:DAYLIGHT
TZOFFSETFROM:+0100
TZOFFSETTO:+0200
TZNAME:CEST
DTSTART:20250330T010000
END:DAYLIGHT
BEGIN:STANDARD
TZOFFSETFROM:+0200
TZOFFSETTO:+0100
TZNAME:CET
DTSTART:20251026T010000
END:STANDARD
BEGIN:DAYLIGHT
TZOFFSETFROM:+0100
TZOFFSETTO:+0200
TZNAME:CEST
DTSTART:20260329T010000
END:DAYLIGHT
BEGIN:STANDARD
TZOFFSETFROM:+0200
TZOFFSETTO:+0100
TZNAME:CET
DTSTART:20261025T010000
END:STANDARD
END:VTIMEZONE
BEGIN:VEVENT
DTSTART;TZID=Europe/Stockholm:20250305T190000
DTEND;TZID=Europe/Stockholm:20250305T200000
DTSTAMP:20260421T134216
CREATED:20250211T165200Z
LAST-MODIFIED:20250211T165254Z
UID:17830-1741201200-1741204800@brorhjorthshus.se
SUMMARY:Konsert: MOJNA
DESCRIPTION:MOJNA\nMOJNAs musik är en fängslande blandning av nyskriven folkmusik\, kontrapunkt och improvisation. Med hardingfela\, basklarinett och gitarr skapar trion en ljudvärld där gränsen mellan verklighet och dröm suddas ut och tiden tycks stanna. Intrikata melodier och subtila groove lockar till lyssning med full närvaro. \nThomas Eriksson – komposition/gitarr\nAnna Malmström – klarinett/basklarinett\nTuva Færden – hardingfela \nTrion släppte sitt andra album ”Väntenätter” sommaren 2024 och norska NRK gav det ett sällsynt toppbetyg\, ”Tärningskast 6”. Utsågs till Årets instrumentalband av Lira Musikmagasin i samband med första albumet ”För sola skin’ på tak” 2022. \n”Det är stämningsfullt med stark kraft och energi. Trions musik bryter ny mark inom folkmusiken\, tack vare den stora friheten i deras uttryck och deras förmåga att röra sig med improvisatorisk lätthet genom olika musikaliska landskap.” – opulens.se \n”Så gott som inga toner känns överflödiga på albumet\, och de tre musikerna framstår som oerhört samspelta i hur de utvecklar låtarna.” – NRK \nFoto: Frederick Kihle \nBiljetter köps via Tickster.com eller i museets reception under öppettid.\nSittplats: 180 kr.\nBror Hjorthföreningens medlemmar: 100 kr (med rabattkod för medlemmar).\nKonserten arrangeras av Bror Hjorths Hus i samarbete med Studieförbundet Bilda! och med stöd från Bror Hjorthföreningen.
URL:https://brorhjorthshus.se/evenemang/konsert-mojna/
LOCATION:Bror Hjorths Hus\, Norbyvägen 26\, Uppsala\, 752 39\, SE
CATEGORIES:Föredrag & Konsert
ATTACH;FMTTYPE=image/jpeg:https://brorhjorthshus.se/wp-content/uploads/2025/02/250305_Mojna_16_9_konsert.jpg
END:VEVENT
BEGIN:VEVENT
DTSTART;TZID=Europe/Stockholm:20250312T190000
DTEND;TZID=Europe/Stockholm:20250312T200000
DTSTAMP:20260421T134216
CREATED:20250124T173931Z
LAST-MODIFIED:20250127T121342Z
UID:17715-1741806000-1741809600@brorhjorthshus.se
SUMMARY:Möt konstnären: Kent Iwemyr
DESCRIPTION:Kent Iwemyr berättar om sitt konstnärskap   \ni den pågående utställningen ”Från en dag till en annan tid” \nFördjupning i den aktuella utställningen.  \nKent Iwemyr (född 1944) målar sina bilder så som han alltid gjort. Det är en bildvärld fylld av fantasieggande berättelser\, där humor blandas med allvar. \nI sin ungdom tecknade Kent Iwemyr mycket. Men det är först de senaste trettio åren som han ägnat sig åt konsten på heltid. Efter en bildlärarutbildning på Konstfack hittade han tillbaka till sin ungdoms uttryck i bilderna. Och där har han blivit kvar. Miljöerna hämtade från Bergslagen och Norrland har följt med under hela hans konstnärskap och skapar den bildvärld som är helt hans egen. \nHans målningar har alla sina egna historier\, ofta en blandning av självupplevda händelser och rena påhitt. De noga valda titlarna leder betraktaren in i bilden utan att för den skull berätta allt. Ofta åtföljs bilden av en kort berättelse i ord. \nFoto: Nora Bencivenni \n\nBiljetter köps på Tickster eller i museet (fr o m 1 feb)\nPris: 80 kr\nBror Hjorthföreningens medlemmar går gratis (använd utskickad rabattkod för köp på Tickster). \n\nFöredraget ges med stöd från Bror Hjorthföreningen
URL:https://brorhjorthshus.se/evenemang/mot-konstnaren-kent-iwemyr/
LOCATION:Bror Hjorths Hus\, Norbyvägen 26\, Uppsala\, 752 39\, SE
CATEGORIES:Föredrag & Konsert
ATTACH;FMTTYPE=image/jpeg:https://brorhjorthshus.se/wp-content/uploads/2025/01/250312_Kent_Iwemyr_16_9.jpg
END:VEVENT
BEGIN:VEVENT
DTSTART;TZID=Europe/Stockholm:20250329T140000
DTEND;TZID=Europe/Stockholm:20250329T143000
DTSTAMP:20260421T134216
CREATED:20250319T152533Z
LAST-MODIFIED:20250322T202741Z
UID:18003-1743256800-1743258600@brorhjorthshus.se
SUMMARY:Invigning: Jan Lööf
DESCRIPTION:Utställning med Jan Lööf öppnar\nUtställningen med Jan Lööfs originalillustrationer invigs med ett samtal mellan utställningens kommissarie Maria Malmberg Wallin\, museilektor i Bror Hjorths Hus\, och illustratören Jan Lööf. \nMuseet är öppet kl 12-16. Fri entré. \nI utställningen visas originalillustrationer till flera av Jan Lööfs bilderböcker\, bland annat Ta fast Fabian\, Pelle i djungeln\, Viktor bygger en bro och Bergtrollens nya hem. Bilderna visas i ett utställningsrum som gestaltats med inspiration av Jan Lööfs miljöer och som inbjuder till ett närmare betraktande\, läsning\, lek och eget skapande. \nAtt läsa Jan Lööfs (f. 1940) berättelser är som att gå in i en annan värld\, befolkad av karaktärer som apor\, enstöriga gubbar och pojkar med keps. Bilderna bjuder på miljöer som myllrar av detaljer antingen de avbildar stadsmiljöer\, djungeln eller en hög metallskrot. Det känns att Jan Lööf har roligt när han gör sina berättelser och den glädjen smittar av sig på betraktaren. \nLÄS MER OM UTSTÄLLNINGEN
URL:https://brorhjorthshus.se/evenemang/invigning-jan-loof/
LOCATION:Bror Hjorths Hus\, Norbyvägen 26\, Uppsala\, 752 39\, SE
CATEGORIES:Föredrag & Konsert,Visning
ATTACH;FMTTYPE=image/jpeg:https://brorhjorthshus.se/wp-content/uploads/2025/03/250329_Invigning_Jan_Loof_16_9.jpg
END:VEVENT
END:VCALENDAR