BEGIN:VCALENDAR
VERSION:2.0
PRODID:-//Bror Hjorths Hus - ECPv6.15.20//NONSGML v1.0//EN
CALSCALE:GREGORIAN
METHOD:PUBLISH
X-ORIGINAL-URL:https://brorhjorthshus.se
X-WR-CALDESC:Händelser för Bror Hjorths Hus
REFRESH-INTERVAL;VALUE=DURATION:PT1H
X-Robots-Tag:noindex
X-PUBLISHED-TTL:PT1H
BEGIN:VTIMEZONE
TZID:Europe/Stockholm
BEGIN:DAYLIGHT
TZOFFSETFROM:+0100
TZOFFSETTO:+0200
TZNAME:CEST
DTSTART:20240331T010000
END:DAYLIGHT
BEGIN:STANDARD
TZOFFSETFROM:+0200
TZOFFSETTO:+0100
TZNAME:CET
DTSTART:20241027T010000
END:STANDARD
BEGIN:DAYLIGHT
TZOFFSETFROM:+0100
TZOFFSETTO:+0200
TZNAME:CEST
DTSTART:20250330T010000
END:DAYLIGHT
BEGIN:STANDARD
TZOFFSETFROM:+0200
TZOFFSETTO:+0100
TZNAME:CET
DTSTART:20251026T010000
END:STANDARD
BEGIN:DAYLIGHT
TZOFFSETFROM:+0100
TZOFFSETTO:+0200
TZNAME:CEST
DTSTART:20260329T010000
END:DAYLIGHT
BEGIN:STANDARD
TZOFFSETFROM:+0200
TZOFFSETTO:+0100
TZNAME:CET
DTSTART:20261025T010000
END:STANDARD
END:VTIMEZONE
BEGIN:VEVENT
DTSTART;TZID=Europe/Stockholm:20250201T140000
DTEND;TZID=Europe/Stockholm:20250201T143000
DTSTAMP:20260421T122534
CREATED:20250125T105219Z
LAST-MODIFIED:20250125T105222Z
UID:17719-1738418400-1738420200@brorhjorthshus.se
SUMMARY:Invigning: Kent Iwemyr
DESCRIPTION:Utställning med Kent Iwemyr öppnar\nUtställningen ”Från en dag till en annan tid” invigs med ett samtal mellan museichef Tomas Järliden och konstnären Kent Iwemyr. Utställningen innehåller helt nya målningar. \nMuseet är öppet kl 12-16. Fri entré. \nKent Iwemyr (född 1944) tecknade mycket i ungdomen. Men det är först de senaste trettio åren som han ägnat sig åt konsten på heltid. Efter en bildlärarutbildning på Konstfack hittade han tillbaka till sin ungdoms uttryck i bilderna. Och där har han blivit kvar. Miljöerna hämtade från Bergslagen och Norrland har följt med under hela hans konstnärskap och skapar den bildvärld som är helt hans egen\, fylld av fantasieggande berättelser där humor blandas med allvar. \nHans målningar har alla sina egna historier\, ofta en blandning av självupplevda händelser och rena påhitt. De noga valda titlarna leder betraktaren in i bilden utan att för den skull berätta allt. Ofta åtföljs bilden av en kort berättelse i ord. \n”En tavla är en ögonblicksbild\, ibland av ett liv i en hel bygd. Livet är både allvar och humor och så vill jag ha mina berättelser. Humorn är viktig\, men den ska inte ta över. Titeln lägger jag mycket tanke bakom för att den ska ge betraktaren en hint om berättelsen”\, säger Kent Iwemyr. \nFoto: Nora Bencivenni \nLÄS MER OM UTSTÄLLNINGEN
URL:https://brorhjorthshus.se/evenemang/invigning-kent-iwemyr/
LOCATION:Bror Hjorths Hus\, Norbyvägen 26\, Uppsala\, 752 39\, SE
CATEGORIES:Föredrag & Konsert
ATTACH;FMTTYPE=image/jpeg:https://brorhjorthshus.se/wp-content/uploads/2025/01/KI_Invigning_16_9.jpg
END:VEVENT
END:VCALENDAR