BEGIN:VCALENDAR
VERSION:2.0
PRODID:-//Bror Hjorths Hus - ECPv6.15.20//NONSGML v1.0//EN
CALSCALE:GREGORIAN
METHOD:PUBLISH
X-ORIGINAL-URL:https://brorhjorthshus.se
X-WR-CALDESC:Händelser för Bror Hjorths Hus
REFRESH-INTERVAL;VALUE=DURATION:PT1H
X-Robots-Tag:noindex
X-PUBLISHED-TTL:PT1H
BEGIN:VTIMEZONE
TZID:Europe/Stockholm
BEGIN:DAYLIGHT
TZOFFSETFROM:+0100
TZOFFSETTO:+0200
TZNAME:CEST
DTSTART:20230326T010000
END:DAYLIGHT
BEGIN:STANDARD
TZOFFSETFROM:+0200
TZOFFSETTO:+0100
TZNAME:CET
DTSTART:20231029T010000
END:STANDARD
BEGIN:DAYLIGHT
TZOFFSETFROM:+0100
TZOFFSETTO:+0200
TZNAME:CEST
DTSTART:20240331T010000
END:DAYLIGHT
BEGIN:STANDARD
TZOFFSETFROM:+0200
TZOFFSETTO:+0100
TZNAME:CET
DTSTART:20241027T010000
END:STANDARD
BEGIN:DAYLIGHT
TZOFFSETFROM:+0100
TZOFFSETTO:+0200
TZNAME:CEST
DTSTART:20250330T010000
END:DAYLIGHT
BEGIN:STANDARD
TZOFFSETFROM:+0200
TZOFFSETTO:+0100
TZNAME:CET
DTSTART:20251026T010000
END:STANDARD
END:VTIMEZONE
BEGIN:VEVENT
DTSTART;TZID=Europe/Stockholm:20241106T190000
DTEND;TZID=Europe/Stockholm:20241106T200000
DTSTAMP:20260421T173452
CREATED:20241003T160332Z
LAST-MODIFIED:20241003T160333Z
UID:17321-1730919600-1730923200@brorhjorthshus.se
SUMMARY:Föredrag: Lim-Johan - en konstnärernas konstnär
DESCRIPTION:Lim-Johan – en konstnärernas konstnär\nTobias Bolin\, producent för utställningen om Lim-Johan på Hallwylska museet \nFördjupande utblick i den aktuella utställningen med Åke Pallarp \nLim-Johan (Johan Erik Olsson) föddes i Voxnadalen i Hälsingland 1865. Han snidade\, målade och fotograferade. Som autodidakt konstnär fick han sitt stora genombrott efter sin död på 1940-talet och räknas idag till en av våra främsta äktnaivister. Genom historien har han hållits högt av flera etablerade konstnärer – däribland Åke Pallarp. I den aktuella utställningen med Åke Pallarp finns flera verk med Lim-Johan som motiv. \nUnder föredraget berättar Tobias Bolin om Lim-Johans bakgrund\, levnadsöde och konstnärskap\, samt något om historieskrivningen kring honom. \nTobias Bolin är producent för utställningen ”Lim-Johan och den utomordentliga ärligheten” som just nu visas på Hallwylska museet i Stockholm. Han har tidigare curerat utställningarna Hjorth-Eldh-Milles och Jan Stenmark i Bror Hjorths Hus. \nBiljetter köps på Tickster eller i museet (fr o m 7 okt)\nPris: 80 kr\nBror Hjorthföreningens medlemmar går gratis (använd utskickad rabattkod för köp på Tickster).\nFöredraget ges med stöd från Bror Hjorthföreningen
URL:https://brorhjorthshus.se/evenemang/foredrag-lim-johan-en-konstnarernas-konstnar/
CATEGORIES:Föredrag & Konsert
ATTACH;FMTTYPE=image/jpeg:https://brorhjorthshus.se/wp-content/uploads/2024/10/Foredrag_Lim-Johan_6nov_16_9.jpg
END:VEVENT
BEGIN:VEVENT
DTSTART;TZID=Europe/Stockholm:20241122T190000
DTEND;TZID=Europe/Stockholm:20241122T200000
DTSTAMP:20260421T173452
CREATED:20240903T145405Z
LAST-MODIFIED:20240903T145433Z
UID:17183-1732302000-1732305600@brorhjorthshus.se
SUMMARY:Konsert: Folk & Co
DESCRIPTION:Pär Näsbom\, Torbjörn Näsbom & Jürg Nietlispach\n\nSchweizisk-svensk trio letar efter nya vägar att spela folkmusik\nFolk & Co är en schweizisk-svensk trio som blandar traditionella låtar från båda länderna med egenskrivet material. Instrumeneten är fiol\, nyckelharpa\, tolvsträngad gitarr och halszither (en schweizisk version av cittra och mandola). \nBröderna Pär och Torbjörn Näsbom är från Tierp och lärde sig spela av sin far\, Lars Näsbom\, men började tidigt att åka hem till storspelmän som Viksta-Lasse och Eric Sahlström. De har spelat ihop sen dom var väldigt små och turnérat runt hela världen med sin folkmusik. 2014 tilldelades Torbjörn Näsbom Zornmedaljen i guld. \nPär Näsbom bor sedan länge i Schweiz och där mötte han Jürg Nietlispach. De började jamma tillsammans och blev snart en duo som började ge konserter i Schweiz. Jürg växte upp i Emmental\, en region där traditionell musik fortfarande är högst levande och där den typ av halscittra som han spelar kommer ifrån (om än i en lite annorlunda stämning). Jürg är också med i den välkända Schweiziska gruppen Plantplätz som turnérat runt om i Europa. \nDuon har nu blivit en trio och gör nu en Sverigeturné med ett stopp i Bror Hjorths ateljé. \nMedverkande:\nPär Näsbom – fiol\nTorbjörn Näsbom – nyckelharpa\nJürg Nietlispach – gitarr och halszither \nBiljetter köps via Tickster.com eller i museets reception under öppettid (fr o m 11 okt).\nSittplats: 180 kr.\nBror Hjorthföreningens medlemmar: 100 kr (med rabattkod för medlemmar).\nKonserten arrangeras av Bror Hjorths Hus i samarbete med Studieförbundet Bilda! och med stöd från Bror Hjorthföreningen.
URL:https://brorhjorthshus.se/evenemang/konsert-folk-co/
LOCATION:Bror Hjorths Hus\, Norbyvägen 26\, Uppsala\, 752 39\, SE
CATEGORIES:Föredrag & Konsert
ATTACH;FMTTYPE=image/jpeg:https://brorhjorthshus.se/wp-content/uploads/2024/09/Konsert_Folk_Co_16_9_konsert.jpg
END:VEVENT
BEGIN:VEVENT
DTSTART;TZID=Europe/Stockholm:20241130T140000
DTEND;TZID=Europe/Stockholm:20241130T143000
DTSTAMP:20260421T173452
CREATED:20241122T113446Z
LAST-MODIFIED:20241126T114939Z
UID:17419-1732975200-1732977000@brorhjorthshus.se
SUMMARY:Invigning: Astrid Göransson möter Augusta Strömberg
DESCRIPTION:Utställningen ”Ibland känt mej som om hjärtat vore tomt” invigs med ett samtal mellan museichef Tomas Järliden och konstnären Astrid Göransson.\nMuseet är öppet kl 12-16. \nI utställningen möts de två konstnärerna Astrid Göransson (född 1956) och Augusta Strömberg (1866–1954). Augusta Strömbergs målningar kommer från tiden hon var inskriven på Uppsala Hospital. De visas tillsammans med nya arbeten av Astrid Göransson. Konstnärerna presenteras var för sig i museets konsthall\, men i tydlig dialog. \nAstrid Göransson tecknar\, målar\, skulpterar\, animerar och filmar. Intresset för människan är tydligt i hennes arbeten och de bär berättelser som berört eller intresserar henne. Göransson såg Augusta Strömbergs målningar första gången på Medicinhistoriska museet i Uppsala 2015 i samband med att hon arbetade med verket ”Talande scen” för Akademiska sjukhuset. Hon fascinerades omedelbart av Strömbergs konst och livsöde. På Astrid Göranssons initiativ visas nu de båda konstnärerna sida vid sida. \nUtställningen har tidigare visat på Eskilstuna konstmuseum och Halmstads konsthall\, men i något annan form. Den är producerad av Eskilstuna konstmuseum. \nLÄS MER OM UTSTÄLLNINGEN
URL:https://brorhjorthshus.se/evenemang/invigning-astrid-goransson-moter-augusta-stromberg/
CATEGORIES:Föredrag & Konsert,Visning
ATTACH;FMTTYPE=image/jpeg:https://brorhjorthshus.se/wp-content/uploads/2024/11/Invigning_AS_AG_16_9.jpg
END:VEVENT
END:VCALENDAR