BEGIN:VCALENDAR
VERSION:2.0
PRODID:-//Bror Hjorths Hus - ECPv6.15.20//NONSGML v1.0//EN
CALSCALE:GREGORIAN
METHOD:PUBLISH
X-ORIGINAL-URL:https://brorhjorthshus.se
X-WR-CALDESC:Händelser för Bror Hjorths Hus
REFRESH-INTERVAL;VALUE=DURATION:PT1H
X-Robots-Tag:noindex
X-PUBLISHED-TTL:PT1H
BEGIN:VTIMEZONE
TZID:Europe/Stockholm
BEGIN:DAYLIGHT
TZOFFSETFROM:+0100
TZOFFSETTO:+0200
TZNAME:CEST
DTSTART:20230326T010000
END:DAYLIGHT
BEGIN:STANDARD
TZOFFSETFROM:+0200
TZOFFSETTO:+0100
TZNAME:CET
DTSTART:20231029T010000
END:STANDARD
BEGIN:DAYLIGHT
TZOFFSETFROM:+0100
TZOFFSETTO:+0200
TZNAME:CEST
DTSTART:20240331T010000
END:DAYLIGHT
BEGIN:STANDARD
TZOFFSETFROM:+0200
TZOFFSETTO:+0100
TZNAME:CET
DTSTART:20241027T010000
END:STANDARD
BEGIN:DAYLIGHT
TZOFFSETFROM:+0100
TZOFFSETTO:+0200
TZNAME:CEST
DTSTART:20250330T010000
END:DAYLIGHT
BEGIN:STANDARD
TZOFFSETFROM:+0200
TZOFFSETTO:+0100
TZNAME:CET
DTSTART:20251026T010000
END:STANDARD
END:VTIMEZONE
BEGIN:VEVENT
DTSTART;TZID=Europe/Stockholm:20241011T190000
DTEND;TZID=Europe/Stockholm:20241011T200000
DTSTAMP:20260421T190105
CREATED:20240903T140704Z
LAST-MODIFIED:20240905T084458Z
UID:17175-1728673200-1728676800@brorhjorthshus.se
SUMMARY:Konsert: Breda gatan
DESCRIPTION:Breda Gatan är en folkkvartett bestående av erfarna folkmusiker – Emma Härdelin\, Johanna Bölja Hertzberg\, Kjell-Erik Eriksson och Ola Hertzberg. De har har slagit sig samman för att framföra visor med humor\, svårmod och berättelsen i fokus. Med personliga arrangemang förmedlar de sorgliga\, underfundiga och fräcka visor sjungs fram i stämmor av Johanna och Emma mot följsamt spel av Kjell-Eriks fiol och Olas kompande på nyckelharpor. \nDet är kan låta kärvt eller ljuvt och allt mittemellan\, alltid med stor förtrogenhet för att låtarna bär i sig själva. Kanske är det blandningen och kontrasterna som kännetecknar Breda gatans repertoar. \nMedverkande:\nJohanna Bölja – Sång\nKjell-Erik Eriksson – Fiol\nOla Hertzberg – Nyckelharpor\nEmma Härdelin – Sång \nFoto: Ida Frid\nLäs mer: www.bredagatan.se \nBiljetter köps via Tickster.com eller i museets reception under öppettid (fr o m 13 sep).\nSittplats: 180 kr.\nBror Hjorthföreningens medlemmar: 100 kr (med rabattkod för medlemmar).\nKonserten arrangeras av Bror Hjorths Hus i samarbete med Studieförbundet Bilda! och med stöd från Bror Hjorthföreningen.
URL:https://brorhjorthshus.se/evenemang/konsert-breda-gatan/
LOCATION:Bror Hjorths Hus\, Norbyvägen 26\, Uppsala\, 752 39\, SE
CATEGORIES:Föredrag & Konsert
ATTACH;FMTTYPE=image/jpeg:https://brorhjorthshus.se/wp-content/uploads/2024/09/Konsert_Breda_gatan_16_9_konsert.jpg
END:VEVENT
BEGIN:VEVENT
DTSTART;TZID=Europe/Stockholm:20241012T130000
DTEND;TZID=Europe/Stockholm:20241012T133000
DTSTAMP:20260421T190105
CREATED:20241003T090920Z
LAST-MODIFIED:20241003T090923Z
UID:17311-1728738000-1728739800@brorhjorthshus.se
SUMMARY:Invigning: Åke Pallarp
DESCRIPTION:Utställningen med Åke Pallarp invigs av Joachim Granit\, konstnär. \nMuseet är öppet kl 12-16. Fri entré \nObservera invigningstiden! Lördag 12 oktober kl 13.00.\nInvigningen kommer denna gång inte att sändas live. \nÅke Pallarp (1933–2013). Egensinnig och fantasirik\, en konstnär där lekfullhet samsades med analytiska tankar om tingens natur och med en evig glädje till färgen. \nÅke Pallarp rörde sig mellan måleri\, skulptur och arkitektur. Ofta utgick hann från vardagliga ting och enkla material som trä\, gärna brädor och plank\, och sten. Motiven var ofta folkliga\, färgerna klara och formerna tydliga. Med en helt egen känsla och klang förenas humor\, poesi och ett stilla allvar i hans verk. De rymmer inneboende berättelser för oss att läsa. \nUtställningen visar ett brett urval konstverk från Åke Pallarps rika produktion och görs i samarbete med Pallarps familj. \n  \n 
URL:https://brorhjorthshus.se/evenemang/invigning-ake-pallarp/
CATEGORIES:Föredrag & Konsert,Visning
ATTACH;FMTTYPE=image/jpeg:https://brorhjorthshus.se/wp-content/uploads/2024/10/Invigning_Pallarp_12okt13_16_9.jpg
END:VEVENT
BEGIN:VEVENT
DTSTART;TZID=Europe/Stockholm:20241013T190000
DTEND;TZID=Europe/Stockholm:20241013T200000
DTSTAMP:20260421T190105
CREATED:20240903T144548Z
LAST-MODIFIED:20240905T084515Z
UID:17179-1728846000-1728849600@brorhjorthshus.se
SUMMARY:Konsert: Jens Comén\, Göran Månsson och Anders Åkered
DESCRIPTION:Premiär för en ny konstellation! Två duos slås samman.\n \n2+2=3!\nJens Comén\, Göran Månsson och Anders Åkered \nTre musikanter med stor nyfikenhet och öppenhet för nya klanger och oväntade ljudkombinationer\, som spelat med varandra i duos\, slår sig samman för att skapa något helt nytt.\nTrion täcker in en bred palett av genrer: från folkmusik och barock till jazz och freeform via pop\, reggae och rock’n’roll.\nDet utlovas många instrument\, en hel del improvisation och loop- och effektpedaler. Allt kombinerat i ett intensivt samspel.\nDet blir både nyskrivet material och en och annan låt från Jämtland och Haverö. \nMedverkande:\nJens Comén-saxofoner\, loopar och effekter\nGöran Månsson- div flöjter och pipor\, stomp-box\, percussion och effekter\nAnders Åkered- fiol\, slagverk\, gitarr \nFoto: Kjell-Eriksson \nBiljetter köps via Tickster.com eller i museets reception under öppettid (fr o m 13 sep).\nSittplats: 180 kr.\nBror Hjorthföreningens medlemmar: 100 kr (med rabattkod för medlemmar).\nKonserten arrangeras av Bror Hjorths Hus i samarbete med Studieförbundet Bilda! och med stöd från Bror Hjorthföreningen.
URL:https://brorhjorthshus.se/evenemang/konsert-jens-comen-goran-mansson-och-anders-akered/
LOCATION:Bror Hjorths Hus\, Norbyvägen 26\, Uppsala\, 752 39\, SE
CATEGORIES:Föredrag & Konsert
ATTACH;FMTTYPE=image/jpeg:https://brorhjorthshus.se/wp-content/uploads/2024/09/Konsert_Comen_Mansson_Akered_16_9_konsert.jpg
END:VEVENT
BEGIN:VEVENT
DTSTART;TZID=Europe/Stockholm:20241030T190000
DTEND;TZID=Europe/Stockholm:20241030T200000
DTSTAMP:20260421T190105
CREATED:20241003T155732Z
LAST-MODIFIED:20241003T155733Z
UID:17315-1730314800-1730318400@brorhjorthshus.se
SUMMARY:Föredrag: Åke Pallarp - tidlöst aktuell
DESCRIPTION:Åke Pallarp – tidlöst aktuell\nSusanna Slöör\, konstnär och konstkritiker \nFördjupning i den aktuella utställningen \nÅke Pallarp arbetade sömlöst med måleri\, skulptur\, objekt och offentliga uppdrag. I föredraget berättar Susanna Slöör varför hans konstnärskap är fortsatt aktuellt för nya generationer konstnärer. I Pallarps sällskap utvecklas konsten att se\, som en befriande utmaning mot vaneseendet. \nSusanna Slöör är konstnär och konstkritiker\, ordförande i stiftelserna för Hilding Linnqvists och Evert Lundquists konst. \nÅke Pallarp (1933–2013). Egensinnig och fantasirik\, en konstnär där lekfullhet samsades med analytiska tankar om tingens natur och med en evig glädje till färgen. Åke Pallarp rörde sig mellan måleri\, skulptur och arkitektur. Ofta utgick hann från vardagliga ting och enkla material som trä\, gärna brädor och plank\, och sten. Motiven var ofta folkliga\, färgerna klara och formerna tydliga. Med en helt egen känsla och klang förenas humor\, poesi och ett stilla allvar i hans verk. De rymmer inneboende berättelser för oss att läsa. \nUtställningen visar ett bredd urval från konstnärens rika produktion. Den har tillkommit i samarbete med Pallarps familj. \nBiljetter köps på Tickster eller i museet (fr o m 7 okt)\nPris: 80 kr\nBror Hjorthföreningens medlemmar går gratis (använd utskickad rabattkod för köp på Tickster).\nFöredraget ges med stöd från Bror Hjorthföreningen
URL:https://brorhjorthshus.se/evenemang/foredrag-ake-pallarp-tidlost-aktuell/
CATEGORIES:Föredrag & Konsert
ATTACH;FMTTYPE=image/jpeg:https://brorhjorthshus.se/wp-content/uploads/2024/10/Foredrag_Ake_Pallarp_30okt_16_9.jpg
END:VEVENT
END:VCALENDAR