BEGIN:VCALENDAR
VERSION:2.0
PRODID:-//Bror Hjorths Hus - ECPv6.15.20//NONSGML v1.0//EN
CALSCALE:GREGORIAN
METHOD:PUBLISH
X-ORIGINAL-URL:https://brorhjorthshus.se
X-WR-CALDESC:Händelser för Bror Hjorths Hus
REFRESH-INTERVAL;VALUE=DURATION:PT1H
X-Robots-Tag:noindex
X-PUBLISHED-TTL:PT1H
BEGIN:VTIMEZONE
TZID:Europe/Stockholm
BEGIN:DAYLIGHT
TZOFFSETFROM:+0100
TZOFFSETTO:+0200
TZNAME:CEST
DTSTART:20230326T010000
END:DAYLIGHT
BEGIN:STANDARD
TZOFFSETFROM:+0200
TZOFFSETTO:+0100
TZNAME:CET
DTSTART:20231029T010000
END:STANDARD
BEGIN:DAYLIGHT
TZOFFSETFROM:+0100
TZOFFSETTO:+0200
TZNAME:CEST
DTSTART:20240331T010000
END:DAYLIGHT
BEGIN:STANDARD
TZOFFSETFROM:+0200
TZOFFSETTO:+0100
TZNAME:CET
DTSTART:20241027T010000
END:STANDARD
BEGIN:DAYLIGHT
TZOFFSETFROM:+0100
TZOFFSETTO:+0200
TZNAME:CEST
DTSTART:20250330T010000
END:DAYLIGHT
BEGIN:STANDARD
TZOFFSETFROM:+0200
TZOFFSETTO:+0100
TZNAME:CET
DTSTART:20251026T010000
END:STANDARD
END:VTIMEZONE
BEGIN:VEVENT
DTSTART;TZID=Europe/Stockholm:20240907T140000
DTEND;TZID=Europe/Stockholm:20240907T143000
DTSTAMP:20260421T205819
CREATED:20240902T091805Z
LAST-MODIFIED:20240903T101857Z
UID:17033-1725717600-1725719400@brorhjorthshus.se
SUMMARY:Invigning: Catja Tonberg - Växtvärk / Growing Pains
DESCRIPTION:Bror Hjorthföreningens teckningsstipendiat 2024 \nUtställningen invigs och teckningsstipendiet delas ut.\nKonstnären  presenterar kort sin utställning. \nFri entré \nCatja Tonberg (född 1983) tog sin masterexamen i fri konst på HDK-Valand\, Göteborgs universitet\, i våras. Utställningen består huvudsakligen av teckningar\, men även några videoverk visas. \n– Tecknandet har den fördelen att man kommer nära. Man får syn på saker tydligare när man använder handen för att se\, säger konstnären Catja Tonberg. \nI verket Queering the Flora tecknar hon av växter från boken Den nordiska floran med svart kol på vita väggar\, som på oskrivna sidor i en bok. Växterna avbildas större än konstnären själv\, för att poängtera deras egenvärde och ge dem plats i rummet. Namnen skalas bort och förblir i floran. Växterna i konstnärens verk är ofta sådana som givits namn med kvinnliga eller queera konnotationer. \n– Människan har en önskan att indela både växter och människor i olika kategorier\, ofta på sätt som egentligen inte säger så mycket om den faktiska individen. Detta är utgångspunkten för mitt verk. Jag är intresserad av hur vi läser växterna som om de hade ett kön utifrån hur namngivaren tolkat deras utseende\, säger Tonberg. \nBror Hjorthföreningens teckningsstipendium är avsett att uppmuntra lovande tecknare vid landets konsthögskolor. Ett syfte med stipendiet är också att framhäva teckningen som självständigt konstnärligt uttryck\, dess betydelse för Bror Hjorth och för att påminna om Bror Hjorths gärning som professor i teckning vid Konstakademien 1949-59. Stipendiet instiftades 1992 och var till en början årligt\, men delas sedan 2012 ut vartannat år till en elev på någon av landets fem konsthögskolor. I stipendiet ingår\, förutom en stipendiesumma\, också en utställning på Bror Hjorths Hus. \nI samarrangemang med Bror Hjorthföreningen
URL:https://brorhjorthshus.se/evenemang/invigning-catja-tonberg-vaxtvark-growing-pains/
LOCATION:Bror Hjorths Hus\, Norbyvägen 26\, Uppsala\, 752 39\, SE
CATEGORIES:Föredrag & Konsert,Visning
ATTACH;FMTTYPE=image/jpeg:https://brorhjorthshus.se/wp-content/uploads/2024/09/Invigning_Catja_Tonberg_16_9.jpg
END:VEVENT
BEGIN:VEVENT
DTSTART;TZID=Europe/Stockholm:20240913T120000
DTEND;TZID=Europe/Stockholm:20240913T160000
DTSTAMP:20260421T205819
CREATED:20240902T102717Z
LAST-MODIFIED:20240912T084855Z
UID:17122-1726228800-1726243200@brorhjorthshus.se
SUMMARY:Möt konstnären: Catja Tonberg
DESCRIPTION:Konstnären Catja Tonberg\, Bror Hjorthföreningens teckningsstipendiat 2024\, arbetar med att teckna i sin utställning Växtvärk / Growing Pains. \nPassa på att titta på utställning och fråga konstnären om skapandet!\nKonstnären finns på plats under öppettid och kl 14 visar hon själv sin utställning. \n– Tecknandet har den fördelen att man kommer nära. Man får syn på saker tydligare när man använder handen för att se\, säger konstnären Catja Tonberg. \nCatja Tonberg (född 1983) tog sin masterexamen i fri konst på HDK-Valand\, Göteborgs universitet\, i våras. I verket Queering the Flora tecknar hon av växter från boken Den nordiska floran med svart kol på vita väggar\, som på oskrivna sidor i en bok. Växterna avbildas större än konstnären själv\, för att poängtera deras egenvärde och ge dem plats i rummet. Namnen skalas bort och förblir i floran. Växterna i konstnärens verk är ofta sådana som getts namn med kvinnliga eller queera konnotationer. \nCatja Tonberg arbetar idébaserat och hennes verk kan ta form i installation\, video\, teckning eller performativa arbetsprocesser. Utställningen i Bror Hjorths Hus består huvudsakligen av kolteckningar på vägg\, men innehåller även några videoverk med liknande tematiken. En del av verket Queering the Flora har medvetet lämnats öppet för en performativ komplettering. Under två dagar\, 13-14 september\, kan du möta konstnären i arbete och se hur fler växter växer fram på väggarna. \nDen brittiska teoretikern Sara Ahmed talar om ”queera ögonblick”\, tillfällen när vår värld förefaller annorlunda än hur den vanligtvis uppfattas. Catja Tonbergs ambition är att skapa sådana ögonblick och få oss att se växterna på ett nytt sätt och kanske skapa ett skifte för hur närmar oss dem. \nFri entré
URL:https://brorhjorthshus.se/evenemang/mot-konstnaren-catja-tonberg/2024-09-13/
LOCATION:Bror Hjorths Hus\, Norbyvägen 26\, Uppsala\, 752 39\, SE
CATEGORIES:Föredrag & Konsert,Visning
ATTACH;FMTTYPE=image/jpeg:https://brorhjorthshus.se/wp-content/uploads/2024/09/Mot_Catja_Tonberg_fre_13_sep.jpg
END:VEVENT
BEGIN:VEVENT
DTSTART;TZID=Europe/Stockholm:20240914T115900
DTEND;TZID=Europe/Stockholm:20240914T200000
DTSTAMP:20260421T205819
CREATED:20240816T150407Z
LAST-MODIFIED:20240904T132604Z
UID:17011-1726315140-1726344000@brorhjorthshus.se
SUMMARY:Kulturnatten i Bror Hjorths Hus 2024
DESCRIPTION:Öppet kl 12-20\nFri entré \nKl 12.30-13.00       Familjevisning: Vad gillade Bror Hjorth?\nFamiljevisning av Bror Hjorths konst ca 20-30 min. Följs av skulpturverkstad för små och stora (drop-in). Gratis. \nKl 12.00-16.00       Verkstad: Lera! – Skulpturverkstad för barn och vuxna (Ute vid bra väder)\nBror Hjorth skulpterade personer som han tyckte om. Vem vill du hedra med en skulptur? Inspireras av Bror Hjorths konst och skapa en egen skulptur i lera av någon du tycker om.\nGratis. Drop-in. Inga förkunskaper krävs. Vid bra väder är verkstaden utomhus. \nKl 12.00-19.00       Möt konstnären i arbete: Catja Tonberg.\nKonstnären Catja Tonberg arbetar med att teckna i sin utställning Växtvärk / Growing Pains. Passa på att titta och fråga om utställningen\, konstnären och skapandet! \nKl 13.00-13.30       Visning: Catja Tonberg\nKonstnären visar själv sin utställning Växtvärk \nKl 14.00-14.30       Visning: Hårresande – Bror Hjorth\nBror Hjorths konst utifrån hår och frisyrer. \nKl 15.00-15.30       Visning: Sagolikt – Bror Hjorth\nOm sagoväsen\, berättelser och berättande i Bror Hjorth konst. \nKl 16.00-16.30       Guided tour: Bror Hjorth’s art and life\nAn introduction to Bror Hjorth\, his art and the museum. \nKl 17.00-17.30       Visning: Catja Tonberg\nKonstnären visar själv sin utställning Växtvärk \nKl 18.00-18.30       Visning: Ljudligt – Bror Hjorth\nVad diggade Bror Hjorth? Om konstnärens förhållande till musiken (med musikaliska exempel). \nKl 19.00-19.30       Visning: Utmanande – Bror Hjorth\nErotik och politik – omdebatterade verk i Bror Hjorths konstnärskap. \nProgrammet ges i samarbete med Bror Hjorthföreningen \nKulturnattens hemsida
URL:https://brorhjorthshus.se/evenemang/kulturnatten-2024/
LOCATION:Bror Hjorths Hus\, Norbyvägen 26\, Uppsala\, 752 39\, SE
CATEGORIES:Barn & Familj,Föredrag & Konsert,Verkstad/kurs,Visning
ATTACH;FMTTYPE=image/jpeg:https://brorhjorthshus.se/wp-content/uploads/2024/09/kulturnatten_2024_allman.jpg
END:VEVENT
BEGIN:VEVENT
DTSTART;TZID=Europe/Stockholm:20240914T120000
DTEND;TZID=Europe/Stockholm:20240914T190000
DTSTAMP:20260421T205819
CREATED:20240902T102717Z
LAST-MODIFIED:20240903T094247Z
UID:17125-1726315200-1726340400@brorhjorthshus.se
SUMMARY:Möt konstnären: Catja Tonberg
DESCRIPTION:Konstnären Catja Tonberg\, Bror Hjorthföreningens teckningsstipendiat 2024\, arbetar med att teckna i sin utställning Växtvärk / Growing Pains. \nPassa på att titta på utställning och fråga konstnären om skapandet!\nKonstnären finns på plats under öppettid och kl 13 och kl 17 visar hon själv sin utställning. \n– Tecknandet har den fördelen att man kommer nära. Man får syn på saker tydligare när man använder handen för att se\, säger konstnären Catja Tonberg. \nCatja Tonberg (född 1983) tog sin masterexamen i fri konst på HDK-Valand\, Göteborgs universitet\, i våras. I verket Queering the Flora tecknar hon av växter från boken Den nordiska floran med svart kol på vita väggar\, som på oskrivna sidor i en bok. Växterna avbildas större än konstnären själv\, för att poängtera deras egenvärde och ge dem plats i rummet. Namnen skalas bort och förblir i floran. Växterna i konstnärens verk är ofta sådana som getts namn med kvinnliga eller queera konnotationer. \nCatja Tonberg arbetar idébaserat och hennes verk kan ta form i installation\, video\, teckning eller performativa arbetsprocesser. Utställningen i Bror Hjorths Hus består huvudsakligen av kolteckningar på vägg\, men innehåller även några videoverk med liknande tematiken. En del av verket Queering the Flora har medvetet lämnats öppet för en performativ komplettering. Under två dagar\, 13-14 september\, kan du möta konstnären i arbete och se hur fler växter växer fram på väggarna. \nDen brittiska teoretikern Sara Ahmed talar om ”queera ögonblick”\, tillfällen när vår värld förefaller annorlunda än hur den vanligtvis uppfattas. Catja Tonbergs ambition är att skapa sådana ögonblick och få oss att se växterna på ett nytt sätt och kanske skapa ett skifte för hur närmar oss dem. \nFri entré
URL:https://brorhjorthshus.se/evenemang/mot-konstnaren-catja-tonberg-2024-09-14/
LOCATION:Bror Hjorths Hus\, Norbyvägen 26\, Uppsala\, 752 39\, SE
CATEGORIES:Föredrag & Konsert,Visning
ATTACH;FMTTYPE=image/jpeg:https://brorhjorthshus.se/wp-content/uploads/2024/09/kulturnatten_2024_Mot_konstnaren_Catja_Tonberg.jpg
END:VEVENT
END:VCALENDAR