BEGIN:VCALENDAR
VERSION:2.0
PRODID:-//Bror Hjorths Hus - ECPv6.15.20//NONSGML v1.0//EN
CALSCALE:GREGORIAN
METHOD:PUBLISH
X-ORIGINAL-URL:https://brorhjorthshus.se
X-WR-CALDESC:Händelser för Bror Hjorths Hus
REFRESH-INTERVAL;VALUE=DURATION:PT1H
X-Robots-Tag:noindex
X-PUBLISHED-TTL:PT1H
BEGIN:VTIMEZONE
TZID:Europe/Stockholm
BEGIN:DAYLIGHT
TZOFFSETFROM:+0100
TZOFFSETTO:+0200
TZNAME:CEST
DTSTART:20230326T010000
END:DAYLIGHT
BEGIN:STANDARD
TZOFFSETFROM:+0200
TZOFFSETTO:+0100
TZNAME:CET
DTSTART:20231029T010000
END:STANDARD
BEGIN:DAYLIGHT
TZOFFSETFROM:+0100
TZOFFSETTO:+0200
TZNAME:CEST
DTSTART:20240331T010000
END:DAYLIGHT
BEGIN:STANDARD
TZOFFSETFROM:+0200
TZOFFSETTO:+0100
TZNAME:CET
DTSTART:20241027T010000
END:STANDARD
BEGIN:DAYLIGHT
TZOFFSETFROM:+0100
TZOFFSETTO:+0200
TZNAME:CEST
DTSTART:20250330T010000
END:DAYLIGHT
BEGIN:STANDARD
TZOFFSETFROM:+0200
TZOFFSETTO:+0100
TZNAME:CET
DTSTART:20251026T010000
END:STANDARD
END:VTIMEZONE
BEGIN:VEVENT
DTSTART;TZID=Europe/Stockholm:20240613T180000
DTEND;TZID=Europe/Stockholm:20240613T183000
DTSTAMP:20260422T021855
CREATED:20240603T113017Z
LAST-MODIFIED:20240608T190815Z
UID:16628-1718301600-1718303400@brorhjorthshus.se
SUMMARY:Invigning: Berta Hansson
DESCRIPTION:Utställningen ”Berta Hansson – Den brinnande lågan” invigs med ett samtal mellan museichef Tomas Järliden och Birgitta Larsson\, Berta Hanssons systerdotter. Museet är öppet kl 12-20.\nObservera invigningstiden! Torsdag 13 juni kl 18.00.\nInvigningen sänds också live på YouTube och Facebook \nSommarens utställning i Bror Hjorths Hus sträcker sig från Berta Hanssons första bilder av skolbarn i Fredrika till hennes allra sista målning med en vit fågel mot en mörk bakgrund. Utställningens tyngdpunkt ligger i måleri\, men innehåller även skulptur\, textil och teckningar\, föreställande skolbarn\, landskap\, fåglar\, porträtt och religiösa motiv. \nBerta Hansson (1910-1994) var bonddotter från Hammerdal i Jämtland. Hon utbildade sig till folkskollärare och fick tjänst i Fredrika\, Västerbotten. Där började hon teckna och måla av sina elever. Barn blev ett återkommande motiv under hela hennes konstnärskap. Hon debuterade 1943 på Galleri Färg och Form i Stockholm (ett galleri som Bror Hjorth varit med att grunda i början av 1930-talet). Utställningen lovordades och Berta Hansson lämnade efter det läraryrket för att på heltid ägna sig åt konsten. I Stockholm ingick hon i kretsen av ensamstående konstnärinnor med bland andra Vera Nilsson och Siri Derkert. Hon återkom dock regelbundet till Jämtland och barndomens Hammerdal där hon fortsatt hade ett hus och ateljé. \nLÄS MER OM UTSTÄLLNINGEN \n 
URL:https://brorhjorthshus.se/evenemang/invigning-berta-hansson/
LOCATION:Bror Hjorths Hus\, Norbyvägen 26\, Uppsala\, 752 39\, SE
CATEGORIES:Föredrag & Konsert,Visning
ATTACH;FMTTYPE=image/jpeg:https://brorhjorthshus.se/wp-content/uploads/2024/06/Invigning_Berta_Hansson_16_9.jpg
END:VEVENT
END:VCALENDAR