BEGIN:VCALENDAR
VERSION:2.0
PRODID:-//Bror Hjorths Hus - ECPv6.15.20//NONSGML v1.0//EN
CALSCALE:GREGORIAN
METHOD:PUBLISH
X-WR-CALNAME:Bror Hjorths Hus
X-ORIGINAL-URL:https://brorhjorthshus.se
X-WR-CALDESC:Händelser för Bror Hjorths Hus
REFRESH-INTERVAL;VALUE=DURATION:PT1H
X-Robots-Tag:noindex
X-PUBLISHED-TTL:PT1H
BEGIN:VTIMEZONE
TZID:Europe/Stockholm
BEGIN:DAYLIGHT
TZOFFSETFROM:+0100
TZOFFSETTO:+0200
TZNAME:CEST
DTSTART:20230326T010000
END:DAYLIGHT
BEGIN:STANDARD
TZOFFSETFROM:+0200
TZOFFSETTO:+0100
TZNAME:CET
DTSTART:20231029T010000
END:STANDARD
BEGIN:DAYLIGHT
TZOFFSETFROM:+0100
TZOFFSETTO:+0200
TZNAME:CEST
DTSTART:20240331T010000
END:DAYLIGHT
BEGIN:STANDARD
TZOFFSETFROM:+0200
TZOFFSETTO:+0100
TZNAME:CET
DTSTART:20241027T010000
END:STANDARD
BEGIN:DAYLIGHT
TZOFFSETFROM:+0100
TZOFFSETTO:+0200
TZNAME:CEST
DTSTART:20250330T010000
END:DAYLIGHT
BEGIN:STANDARD
TZOFFSETFROM:+0200
TZOFFSETTO:+0100
TZNAME:CET
DTSTART:20251026T010000
END:STANDARD
END:VTIMEZONE
BEGIN:VEVENT
DTSTART;TZID=Europe/Stockholm:20240320T190000
DTEND;TZID=Europe/Stockholm:20240320T200000
DTSTAMP:20260422T073904
CREATED:20240212T191318Z
LAST-MODIFIED:20240213T143039Z
UID:14538-1710961200-1710964800@brorhjorthshus.se
SUMMARY:Föredrag: Gerda Wallander - en återuppstånden konstnärinna
DESCRIPTION:Gerda Wallander – en återuppstånden konstnärinna \nAstrid Olsson\, konstvetare \nAktuell konstvetenskaplig forskning \nGerda Wallander (1860–1926) och henne man\, konstnären och formgivaren Alf Wallander\, hade ett rikt sällskapsliv och rörde sig i samma kretsar som bland andra Hjalmar Söderberg och paret Thiel. Trots att Gerda Wallander är representerad på flera museer och målningar av henne förekommer på konstmarknaden är hon så gott som osynlig i konsthistorien. \nGerda Wallander utbildade sig på Konstakademien i Stockholm och därefter i Paris. Under sin Paristid avlägsnade hon sig från de akademiska idealen med arrangerade scener och tog istället intryck av den tongivande franske friluftsmålaren Jules Bastien-Lepage.\n1886 gifte hon sig med konstnären Alf Wallander. I samband med att parets förste och ende son föddes år 1890\, arkitekten och HSB-grundaren Sven Wallander\, gjorde Gerda Wallander avkall på sitt konstnärskap till förmån för familj och hem. Efter ett konstnärligt uppehåll på drygt femton år gjorde Gerda Wallander sitt återinträde på den svenska konstscenen 1909. Kritikerkåren beskrev henne återkomst som en sensation. Succén var ett faktum. Gerda Wallander ställdes därefter ut i såväl separatutställningar som tillsammans med maken. Hon deltog också i stora nationella och internationella grupputställningar. \nKonstvetaren Astrid Olsson har grävt i arkiv och gått i Gerda Wallanders fotspår i Paris. Den masteruppsats hon lade fram om konstnären vid Uppsala universitet under försommaren 2023 är i stora stycken ett pionjärarbete om konstnären. \nBiljetter köps på Tickster eller i museet\nPris: 60 kr\nBror Hjorthföreningens medlemmar går gratis (använd utskickad rabattkod för köp på Tickster).\nFöredraget arrangeras i samarbete med Bror Hjorthföreningen.
URL:https://brorhjorthshus.se/evenemang/foredrag-gerda-wallander-en-ateruppstanden-konstnarinna/
LOCATION:Bror Hjorths Hus\, Norbyvägen 26\, Uppsala\, 752 39\, SE
CATEGORIES:Föredrag & Konsert
ATTACH;FMTTYPE=image/jpeg:https://brorhjorthshus.se/wp-content/uploads/2024/02/Foredrag_Wallander_16_9.jpg
END:VEVENT
BEGIN:VEVENT
DTSTART;TZID=Europe/Stockholm:20240323T140000
DTEND;TZID=Europe/Stockholm:20240323T143000
DTSTAMP:20260422T073904
CREATED:20240307T205435Z
LAST-MODIFIED:20240323T140538Z
UID:14652-1711202400-1711204200@brorhjorthshus.se
SUMMARY:Invigning: Lotta Geffenblad
DESCRIPTION:Utställningen med Lotta Geffenblad invigs med ett kortare samtal mellan museilektor Maria Malmberg Wallin och bilderbokskonstnären. \n\nLotta Geffenblad (f. 1962) är skaparen av böckerna om Prick och Fläck och Aston och många fler titlar. Hon är både illustratör och författare och blandar arbetet med helt egna böcker och illustrationsuppdrag till andra författare. Hon utbildade sig på Beckmans under 1980-talets första hälft och arbetade sedan under många år mest med animation innan hon bytte inriktning och började göra bilderböcker. \nLotta Geffenblad är inte rädd för att pröva nya sätt att skapa bilder. Hon gillar att överraska sig själv och tycker att varje bok är värd sin egen stämning. Tekniken varierar därför från bok till bok. Utmärkande för hennes bilder är att hon blandar analog teknik\, som att teckna med blyerts eller måla och klippa ut detaljer till kollage\, med att framställa digitala bilder i Photoshop. \nHennes senaste bok\, Blå ugglan\, har originalbilder på papper som blir ännu intensivare i tryck tack vare hennes digitala bildbehandling. I utställningen visas originalillustrationer i ett lekfullt gestaltat utställningsrum.
URL:https://brorhjorthshus.se/evenemang/invigning-lotta-geffenblad/
LOCATION:Bror Hjorths Hus\, Norbyvägen 26\, Uppsala\, 752 39\, SE
CATEGORIES:Föredrag & Konsert,Visning
ATTACH;FMTTYPE=image/jpeg:https://brorhjorthshus.se/wp-content/uploads/2024/03/Invigning_Lotta_Geffenblad_16_9.jpg
END:VEVENT
END:VCALENDAR