BEGIN:VCALENDAR
VERSION:2.0
PRODID:-//Bror Hjorths Hus - ECPv6.15.20//NONSGML v1.0//EN
CALSCALE:GREGORIAN
METHOD:PUBLISH
X-ORIGINAL-URL:https://brorhjorthshus.se
X-WR-CALDESC:Händelser för Bror Hjorths Hus
REFRESH-INTERVAL;VALUE=DURATION:PT1H
X-Robots-Tag:noindex
X-PUBLISHED-TTL:PT1H
BEGIN:VTIMEZONE
TZID:Europe/Stockholm
BEGIN:DAYLIGHT
TZOFFSETFROM:+0100
TZOFFSETTO:+0200
TZNAME:CEST
DTSTART:20230326T010000
END:DAYLIGHT
BEGIN:STANDARD
TZOFFSETFROM:+0200
TZOFFSETTO:+0100
TZNAME:CET
DTSTART:20231029T010000
END:STANDARD
BEGIN:DAYLIGHT
TZOFFSETFROM:+0100
TZOFFSETTO:+0200
TZNAME:CEST
DTSTART:20240331T010000
END:DAYLIGHT
BEGIN:STANDARD
TZOFFSETFROM:+0200
TZOFFSETTO:+0100
TZNAME:CET
DTSTART:20241027T010000
END:STANDARD
BEGIN:DAYLIGHT
TZOFFSETFROM:+0100
TZOFFSETTO:+0200
TZNAME:CEST
DTSTART:20250330T010000
END:DAYLIGHT
BEGIN:STANDARD
TZOFFSETFROM:+0200
TZOFFSETTO:+0100
TZNAME:CET
DTSTART:20251026T010000
END:STANDARD
END:VTIMEZONE
BEGIN:VEVENT
DTSTART;TZID=Europe/Stockholm:20240203T140000
DTEND;TZID=Europe/Stockholm:20240203T143000
DTSTAMP:20260422T092714
CREATED:20240125T152635Z
LAST-MODIFIED:20240129T102827Z
UID:14401-1706968800-1706970600@brorhjorthshus.se
SUMMARY:Invigning: Isak Hall - Fatamorgana
DESCRIPTION:Utställningen med Isak Hall invigs med ett kortare samtal mellan museichef Tomas Järliden och konstnären. \nIsak Hall inspireras i sitt måleri av konsthistoriens mästare och äldre måleritekniker. Färgpigmenten blandar han själv och arbetar sedan i lager på lager i tunna skikt med olje-och temperafärger och fernissa.  Hall prövar sig fram för att hitta den rätta blandningen av pigment och bindemedel för att uppnå den lyster och det uttryck han eftersträvar. Med detta skapar han målningar som spelar med ljus\, mörker och djup.\n \nIsak Hall (född 1978) bor och arbetar i Uppsala. Han gick ut Kungl. Konsthögskolan 2013 och har ställt ut på bland annat CFHill\, Bonniers konsthall och Luleåbiennalen. Under hösten 2023  visades några av hans målningar i Uppsala domkyrka.
URL:https://brorhjorthshus.se/evenemang/invigning-isak-hall-fatamorgana/
LOCATION:Bror Hjorths Hus\, Norbyvägen 26\, Uppsala\, 752 39\, SE
CATEGORIES:Föredrag & Konsert,Visning
ATTACH;FMTTYPE=image/jpeg:https://brorhjorthshus.se/wp-content/uploads/2024/01/Invigning_Isak_Hall_16_9.jpg
END:VEVENT
BEGIN:VEVENT
DTSTART;TZID=Europe/Stockholm:20240203T140000
DTEND;TZID=Europe/Stockholm:20240203T143000
DTSTAMP:20260422T092714
CREATED:20240125T152903Z
LAST-MODIFIED:20240129T105132Z
UID:14414-1706968800-1706970600@brorhjorthshus.se
SUMMARY:Livestreamad invigning: Isak Hall - Fatamorgana
DESCRIPTION:Utställningen med Isak Hall invigs med ett kortare samtal mellan museichef Tomas Järliden och konstnären. \n \n\n\nDet är lätt att se landskap i Isak Halls målningar\, världsliga eller utomvärldsliga. De olika färgskikten kan föra tankarna till geologiska genomskärningar av jordlager. Hall intresserar sig för äldre måleritekniker och färgpigmentens optiska egenskaper och skapar bilder av något bortom en bestämd tid och plats. Det är också lätt att känna andäktighet inför målningarna\, men de grundar sig inte i någon medveten andlighet. De gåtor Isak Hall undersöker är måleriets och svaren blir en serie bilder. \n\nIsak Hall (född 1978) bor och arbetar i Uppsala. Han gick ut Kungl. Konsthögskolan 2013 och har ställt ut på bland annat CFHill\, Bonniers konsthall och Luleåbiennalen. Under hösten 2023  visades några av hans målningar i Uppsala domkyrka.
URL:https://brorhjorthshus.se/evenemang/livestreamad-invigning-isak-hall-fatamorgana/
LOCATION:Bror Hjorths Hus\, Norbyvägen 26\, Uppsala\, 752 39\, SE
CATEGORIES:Föredrag & Konsert,Visning
ATTACH;FMTTYPE=image/jpeg:https://brorhjorthshus.se/wp-content/uploads/2024/01/Invigning_Isak_Hall_16_9.jpg
END:VEVENT
BEGIN:VEVENT
DTSTART;TZID=Europe/Stockholm:20240228T190000
DTEND;TZID=Europe/Stockholm:20240228T200000
DTSTAMP:20260422T092714
CREATED:20240125T203327Z
LAST-MODIFIED:20240129T112725Z
UID:14465-1709146800-1709150400@brorhjorthshus.se
SUMMARY:Möt konstnären: Isak Hall
DESCRIPTION:Isak Hall berättar om sitt konstnärskap\, måleriteknik och den pågående utställningen Fatamorgana. \nIsak Hall inspireras i sitt måleri av konsthistoriens mästare och äldre måleritekniker. Färgpigmenten blandar han själv och arbetar sedan i lager på lager i tunna skikt med olje-och temperafärger och fernissa. Hall prövar sig fram för att hitta den rätta blandningen av pigment och bindemedel för att uppnå den lyster och det uttryck han eftersträvar. Med detta skapar han målningar som spelar med ljus\, mörker och djup. \nIsak Hall (född 1978) bor och arbetar i Uppsala. Han gick ut Kungl. Konsthögskolan 2013 och har ställt ut på bland annat CFHill\, Bonniers konsthall och Luleåbiennalen. Under hösten 2023  visades några av hans målningar i Uppsala domkyrka. \nBiljetter\nPris: 60 kr\nFri entré för Bror Hjorthföreningens medlemmar (Obs! ”Köp” biljett på Tickster)\nBiljetter köps på Tickster.com eller i museet under öppettid.\nFöredraget ges med stöd från Bror Hjorthföreningen
URL:https://brorhjorthshus.se/evenemang/mot-konstnaren-isak-hall/
LOCATION:Bror Hjorths Hus\, Norbyvägen 26\, Uppsala\, 752 39\, SE
CATEGORIES:Föredrag & Konsert,Visning
ATTACH;FMTTYPE=image/jpeg:https://brorhjorthshus.se/wp-content/uploads/2024/01/Mot_konstnaren_Isak_Hall_28feb_16_9.jpg
END:VEVENT
END:VCALENDAR