BEGIN:VCALENDAR
VERSION:2.0
PRODID:-//Bror Hjorths Hus - ECPv6.15.20//NONSGML v1.0//EN
CALSCALE:GREGORIAN
METHOD:PUBLISH
X-ORIGINAL-URL:https://brorhjorthshus.se
X-WR-CALDESC:Händelser för Bror Hjorths Hus
REFRESH-INTERVAL;VALUE=DURATION:PT1H
X-Robots-Tag:noindex
X-PUBLISHED-TTL:PT1H
BEGIN:VTIMEZONE
TZID:Europe/Stockholm
BEGIN:DAYLIGHT
TZOFFSETFROM:+0100
TZOFFSETTO:+0200
TZNAME:CEST
DTSTART:20220327T010000
END:DAYLIGHT
BEGIN:STANDARD
TZOFFSETFROM:+0200
TZOFFSETTO:+0100
TZNAME:CET
DTSTART:20221030T010000
END:STANDARD
BEGIN:DAYLIGHT
TZOFFSETFROM:+0100
TZOFFSETTO:+0200
TZNAME:CEST
DTSTART:20230326T010000
END:DAYLIGHT
BEGIN:STANDARD
TZOFFSETFROM:+0200
TZOFFSETTO:+0100
TZNAME:CET
DTSTART:20231029T010000
END:STANDARD
BEGIN:DAYLIGHT
TZOFFSETFROM:+0100
TZOFFSETTO:+0200
TZNAME:CEST
DTSTART:20240331T010000
END:DAYLIGHT
BEGIN:STANDARD
TZOFFSETFROM:+0200
TZOFFSETTO:+0100
TZNAME:CET
DTSTART:20241027T010000
END:STANDARD
END:VTIMEZONE
BEGIN:VEVENT
DTSTART;TZID=Europe/Stockholm:20231110T180000
DTEND;TZID=Europe/Stockholm:20231110T200000
DTSTAMP:20260422T140818
CREATED:20231006T140141Z
LAST-MODIFIED:20231006T140141Z
UID:10616-1699639200-1699646400@brorhjorthshus.se
SUMMARY:Konsert: Rubinsztein/Karlsson
DESCRIPTION:ANNA RUBINSZTEIN & ANNA KARLSSON \nMed sin naturliga råhet och varma känslighet djupdyker duon Rubinsztein/Karlsson i den traditionella musiken från Värmland och gränstrakterna till Norge. Deras låtar pendlar mellan vemod och eufori. \nMed en kärlek till traditionsmusiken har Anna Rubinsztein och Anna Karlsson byggt upp en repertoar av låtar de fått efter spelmän och av förebilder\, genom arkivinspelningar och notböcker. Efter många års samspel har de utvecklat ett tätt\, sömlöst och kommunikativt spel där låtarna har tagit Rubinsztein/Karlssons form. De tar vid där den äldre generationens spelmän lämnat låtarna. Melodierna och det gemensamma svänget är musikens fundament och duon tar med sig lyssnaren till både det mörka opolerade och det ohämmat glada. \nMedverkande\nAnna Rubinsztein – viola d’amore\nAnna Karlsson – viola d’amore och moraharpa \n\nBiljetter köps via Tickster.com eller i museets reception under öppettid (fr o m 13 okt kl 19).\nSittplats: 160 kr.\nBror Hjorthföreningens medlemmar: 100 kr (med rabattkod för medlemmar).\nKonserten arrangeras av Bror Hjorths Hus i samarbete med studieförbundet Bilda! och med stöd från Bror Hjorthföreningen.
URL:https://brorhjorthshus.se/evenemang/konsert-rubinsztein-karlsson/
LOCATION:Bror Hjorths Hus\, Norbyvägen 26\, Uppsala\, 752 39\, SE
CATEGORIES:Föredrag & Konsert
ATTACH;FMTTYPE=image/jpeg:https://brorhjorthshus.se/wp-content/uploads/2023/10/Rubinsztein_Karlsson_16_9_konsert.jpg
END:VEVENT
BEGIN:VEVENT
DTSTART;TZID=Europe/Stockholm:20231115T190000
DTEND;TZID=Europe/Stockholm:20231115T200000
DTSTAMP:20260422T140818
CREATED:20231016T084952Z
LAST-MODIFIED:20231016T144637Z
UID:11701-1700074800-1700078400@brorhjorthshus.se
SUMMARY:Konstnärssamtal: Hertha Hanson möter Håkan Nilsson
DESCRIPTION:Konstnären Hertha Hanson samtalar med Håkan Nilsson\, professor i konstvetenskap vid Södertörns högskola och konstkritiker i Svenska Dagbladet. \n———————————- \nDen tidigare teckningsstipendiaten Hertha Hanson återkommer till Bror Hjorths Hus. Under de femton år som gått sedan hennes senaste utställning i museet 2008 har figurativ teckning bytts mot abstrakt måleri. Hanson arbetar sedan tio år tillbaka med abstrakt måleri på stora dukar i en lång serie där varje målning bygger på erfarenheter från den föregående. \n”Mitt måleri kretsar kring varande och förändring. Att måla är ett sätt för mig att vara med materian. Jag upplever världen full av lager\, spår och materia. I måleriet får jag möta allt det.”  \nHertha Hanson (född 1980 i Lund) bor och arbetar i Karlstad. Hon har en masterexamen från Konsthögskolan i Malmö och har även gått på Gerlesborgsskolan och Nyckelviksskolan. \nBiljetter (släpps 21 oktober)\nPris: 60 kr\nFri entré för Bror Hjorthföreningens medlemmar (Obs! ”Köp” biljett på Tickster)\nBiljetter köps på Tickster.com eller i museet under öppettid.\nFöredraget ges med stöd från Bror Hjorthföreningen \n 
URL:https://brorhjorthshus.se/evenemang/konstnarssamtal-hertha-hanson-moter-hakan-nilsson/
LOCATION:Bror Hjorths Hus\, Norbyvägen 26\, Uppsala\, 752 39\, SE
CATEGORIES:Föredrag & Konsert
ATTACH;FMTTYPE=image/jpeg:https://brorhjorthshus.se/wp-content/uploads/2023/10/Samtal_HH_HN_16_9.jpg
END:VEVENT
BEGIN:VEVENT
DTSTART;TZID=Europe/Stockholm:20231120T140000
DTEND;TZID=Europe/Stockholm:20231120T160000
DTSTAMP:20260422T140818
CREATED:20231011T084720Z
LAST-MODIFIED:20231106T104246Z
UID:10631-1700488800-1700496000@brorhjorthshus.se
SUMMARY:Föredrag: Framtidens konstpedagogik
DESCRIPTION:Lisa Lundell-Karlberg\nMuseipedagog på Norrköpings konstmuseum\nBror Hjorthföreningens konstpedagogstipendiat 2023 \nLisa Lundell-Karlberg berättar om sitt arbete och sin stipendieresa.\nFöredraget vänder sig till såväl museiprofessionella som en konst- och pedagogikintresserad allmänhet. \nLisa Lundell-Karlberg\, museipedagog på Norrköpings konstmuseum\, har bland annat tagit initiativ till den rullande ateljén ”Krumeluren Pop-up”\, en minibuss fylld med konstnärsmaterial som åker till platser där barn rör sig. För Lundell-Karlberg är det viktigaste i hennes arbete att sänka trösklarna för människors deltagande och till ”Krumeluren” behövs ingen föranmälan eller några förkunskaper. Barnens verk ställs ibland också ut i museet\, vilket lockar nya besökare. På liknande sätt har Lundell-Karlberg också jobbat med animation i en galleria i stadsdelen Hageby\, som räknas som ett utsatt område. Hennes senaste projekt\, ”Nordiska väsen”\, involverar konst\, berättande\, drama och friluftsliv. Det är ett uppsökande projekt vänder sig till skolor med lågt kulturdeltagande. \nI sin stipendieansökan lyfte Lisa Lundell-Karlberg fram en önskan att undersöka hur andra museer och konstinstitutioner arbetet med barn som målgrupp och för att göra utställningar mer tillgängliga för barn med funktionsvariationer. Stipendieresan gick till Berlin där Lundell-Karlberg bland annat besökte Urban Art Kids\, som gör konstutställningar för barn\, och Haus Bastian\, som arbetar experimentellt för att hitta sätt att inkluderar deltagare med olika förutsättningar på lika villkor. \nBror Hjorthföreningens konstpedagogstipendium är ett resestipendium på 15.000 kr som efter ansökan ges till en aktiv och initiativrik konstpedagog vid någon av Sveriges museer eller konsthallar. Stipendiet har delats ut årligen sedan 2009. I stipendiet ingår att berätta om sitt arbete vid ett seminarium eller motsvarande i Bror Hjorths Hus\, kallat Framtidens konstpedagogik. \nFöredraget arrangeras i samarbete med Bror Hjorthföreningen. \nFramtidens konstpedagogik – IRL\nMåndag 20 november kl 14.00-16:00 inkl fikapaus\nGratis. Begränsat antal platser.\nBoka plats på Tickster.com eller i museet under öppettid.\n\nFramtidens konstpedagogik – ZOOM\nGratis. Biljett bokas på Tickster.com.\nLänk till mötet mejlas senast 20 nov kl 12.
URL:https://brorhjorthshus.se/evenemang/foredrag-framtidens-konstpedagogik-2023/
LOCATION:Bror Hjorths Hus\, Norbyvägen 26\, Uppsala\, 752 39\, SE
CATEGORIES:Föredrag & Konsert
ATTACH;FMTTYPE=image/jpeg:https://brorhjorthshus.se/wp-content/uploads/2023/10/Framtidens_konstpedagogik_2023_16_9.jpg
END:VEVENT
END:VCALENDAR