BEGIN:VCALENDAR
VERSION:2.0
PRODID:-//Bror Hjorths Hus - ECPv6.15.20//NONSGML v1.0//EN
CALSCALE:GREGORIAN
METHOD:PUBLISH
X-ORIGINAL-URL:https://brorhjorthshus.se
X-WR-CALDESC:Händelser för Bror Hjorths Hus
REFRESH-INTERVAL;VALUE=DURATION:PT1H
X-Robots-Tag:noindex
X-PUBLISHED-TTL:PT1H
BEGIN:VTIMEZONE
TZID:Europe/Stockholm
BEGIN:DAYLIGHT
TZOFFSETFROM:+0100
TZOFFSETTO:+0200
TZNAME:CEST
DTSTART:20240331T010000
END:DAYLIGHT
BEGIN:STANDARD
TZOFFSETFROM:+0200
TZOFFSETTO:+0100
TZNAME:CET
DTSTART:20241027T010000
END:STANDARD
BEGIN:DAYLIGHT
TZOFFSETFROM:+0100
TZOFFSETTO:+0200
TZNAME:CEST
DTSTART:20250330T010000
END:DAYLIGHT
BEGIN:STANDARD
TZOFFSETFROM:+0200
TZOFFSETTO:+0100
TZNAME:CET
DTSTART:20251026T010000
END:STANDARD
BEGIN:DAYLIGHT
TZOFFSETFROM:+0100
TZOFFSETTO:+0200
TZNAME:CEST
DTSTART:20260329T010000
END:DAYLIGHT
BEGIN:STANDARD
TZOFFSETFROM:+0200
TZOFFSETTO:+0100
TZNAME:CET
DTSTART:20261025T010000
END:STANDARD
END:VTIMEZONE
BEGIN:VEVENT
DTSTART;TZID=Europe/Stockholm:20250501T130000
DTEND;TZID=Europe/Stockholm:20250501T134000
DTSTAMP:20260421T172815
CREATED:20250320T134852Z
LAST-MODIFIED:20250320T135113Z
UID:18048-1746104400-1746106800@brorhjorthshus.se
SUMMARY:Familjevisning: Jan Lööf
DESCRIPTION:Familjevisning i Jan Lööfs bildvärld\nGuidad visning av utställningen med Jan Lööfs originalillustrationer.\nVisningen vänder sig till både barn och vuxna\, är ca 30-40 min lång och gratis. \nI utställningen visas bl.a. originalbilder till bilderböckerna Ta fast Fabian\, Pelle i djungeln\, Viktor bygger en bro och Bergtrollens nya hem. Även bilder från Örnis bilar som han gjorde tillsammans med Carl Johan De Geer finns med. De handgjorda originalillustrationerna visas i ett utställningsrum som gestaltats med inspiration av Jan Lööfs miljöer och som inbjuder till ett närmare betraktande\, läsning\, lek och eget skapande. \nAtt läsa Jan Lööfs (f.1940) berättelser är som att gå in i en annan värld\, befolkad av karaktärer som apor\, enstöriga gubbar och pojkar med keps. Bilderna bjuder på miljöer som myllrar av detaljer antingen de avbildar stadsmiljöer\, djungeln eller en hög metallskrot. Det känns att Jan Lööf har roligt när han gör sina berättelser och den glädjen smittar av sig på läsaren. \nLÄS MER
URL:https://brorhjorthshus.se/evenemang/familjevisning-jan-loof-2-2025-05-01/
LOCATION:Bror Hjorths Hus\, Norbyvägen 26\, Uppsala\, 752 39\, SE
CATEGORIES:Barn & Familj,Visning
ATTACH;FMTTYPE=image/jpeg:https://brorhjorthshus.se/wp-content/uploads/2025/03/250501_Familjevisning_Jan_Loof_demonstration.jpg
END:VEVENT
BEGIN:VEVENT
DTSTART;TZID=Europe/Stockholm:20250504T123000
DTEND;TZID=Europe/Stockholm:20250504T153000
DTSTAMP:20260421T172815
CREATED:20250429T093639Z
LAST-MODIFIED:20250429T093959Z
UID:18179-1746361800-1746372600@brorhjorthshus.se
SUMMARY:Familjevisning med verkstad : Jan Lööf
DESCRIPTION:Familjevisning med skapande verkstad\när ett trevligt sätt för hela familjen att uppleva museet och att prova en konstnärlig teknik. \nTema: Jan Lööf\nSöndag 4 maj \nkl 12.30-13.45 och kl 14.15-15.30 \nVi tittar först kort på några bilder av Jan Lööf. Därefter går vi till museets verkstad för att måla och teckna en egen bild med inspiration från utställningen och berättelsen Ta fast Fabian.\nVerkstaden leds av en konstpedagog som hjälper dig att komma igång.\nInga förkunskaper krävs. \nFamiljevisning med skapande verkstad är tänkt för barn tillsammans med en vuxen.\nLämpligt från 4 år och uppåt. \nOm våra familjeverkstäder \nBiljetter (SLUTSÅLT!)\nBegränsat antal platser. Max 15 personer (inkl vuxna) per tillfälle.\nFamiljevisning kostar 50 kr/verkstadsdeltagare.\nBiljetter köps via Tickster eller i museet.\nObs! Museets verkstad ligger i källaren en trappa ned. Ingen hiss eller ramp finns.
URL:https://brorhjorthshus.se/evenemang/familjevisning-med-verkstad-jan-loof-4maj/
LOCATION:Bror Hjorths Hus\, Norbyvägen 26\, Uppsala\, 752 39\, SE
CATEGORIES:Barn & Familj,Verkstad/kurs,Visning
ATTACH;FMTTYPE=image/jpeg:https://brorhjorthshus.se/wp-content/uploads/2025/04/250504_Familjeverkstad_Allman_16_9.jpg
END:VEVENT
BEGIN:VEVENT
DTSTART;TZID=Europe/Stockholm:20250504T130000
DTEND;TZID=Europe/Stockholm:20250504T134000
DTSTAMP:20260421T172816
CREATED:20250320T133946Z
LAST-MODIFIED:20250320T133946Z
UID:18038-1746363600-1746366000@brorhjorthshus.se
SUMMARY:Familjevisning: Jan Lööf
DESCRIPTION:Familjevisning i Jan Lööfs bildvärld\nGuidad visning av utställningen med Jan Lööfs originalillustrationer.\nVisningen vänder sig till både barn och vuxna\, är ca 30-40 min lång och gratis. \nI utställningen visas bl.a. originalbilder till bilderböckerna Ta fast Fabian\, Pelle i djungeln\, Viktor bygger en bro och Bergtrollens nya hem. Även bilder från Örnis bilar som han gjorde tillsammans med Carl Johan De Geer finns med. De handgjorda originalillustrationerna visas i ett utställningsrum som gestaltats med inspiration av Jan Lööfs miljöer och som inbjuder till ett närmare betraktande\, läsning\, lek och eget skapande. \nAtt läsa Jan Lööfs (f.1940) berättelser är som att gå in i en annan värld\, befolkad av karaktärer som apor\, enstöriga gubbar och pojkar med keps. Bilderna bjuder på miljöer som myllrar av detaljer antingen de avbildar stadsmiljöer\, djungeln eller en hög metallskrot. Det känns att Jan Lööf har roligt när han gör sina berättelser och den glädjen smittar av sig på läsaren. \nLÄS MER
URL:https://brorhjorthshus.se/evenemang/familjevisning-jan-loof/2025-05-04/
CATEGORIES:Barn & Familj,Visning
ATTACH;FMTTYPE=image/jpeg:https://brorhjorthshus.se/wp-content/uploads/2025/03/250330_Familjevisning_Jan_Loof_troll_son.jpg
END:VEVENT
BEGIN:VEVENT
DTSTART;TZID=Europe/Stockholm:20250511T130000
DTEND;TZID=Europe/Stockholm:20250511T134000
DTSTAMP:20260421T172816
CREATED:20250320T133946Z
LAST-MODIFIED:20250320T133946Z
UID:18039-1746968400-1746970800@brorhjorthshus.se
SUMMARY:Familjevisning: Jan Lööf
DESCRIPTION:Familjevisning i Jan Lööfs bildvärld\nGuidad visning av utställningen med Jan Lööfs originalillustrationer.\nVisningen vänder sig till både barn och vuxna\, är ca 30-40 min lång och gratis. \nI utställningen visas bl.a. originalbilder till bilderböckerna Ta fast Fabian\, Pelle i djungeln\, Viktor bygger en bro och Bergtrollens nya hem. Även bilder från Örnis bilar som han gjorde tillsammans med Carl Johan De Geer finns med. De handgjorda originalillustrationerna visas i ett utställningsrum som gestaltats med inspiration av Jan Lööfs miljöer och som inbjuder till ett närmare betraktande\, läsning\, lek och eget skapande. \nAtt läsa Jan Lööfs (f.1940) berättelser är som att gå in i en annan värld\, befolkad av karaktärer som apor\, enstöriga gubbar och pojkar med keps. Bilderna bjuder på miljöer som myllrar av detaljer antingen de avbildar stadsmiljöer\, djungeln eller en hög metallskrot. Det känns att Jan Lööf har roligt när han gör sina berättelser och den glädjen smittar av sig på läsaren. \nLÄS MER
URL:https://brorhjorthshus.se/evenemang/familjevisning-jan-loof/2025-05-11/
CATEGORIES:Barn & Familj,Visning
ATTACH;FMTTYPE=image/jpeg:https://brorhjorthshus.se/wp-content/uploads/2025/03/250330_Familjevisning_Jan_Loof_troll_son.jpg
END:VEVENT
BEGIN:VEVENT
DTSTART;TZID=Europe/Stockholm:20250518T130000
DTEND;TZID=Europe/Stockholm:20250518T134000
DTSTAMP:20260421T172816
CREATED:20250320T133946Z
LAST-MODIFIED:20250320T133946Z
UID:18040-1747573200-1747575600@brorhjorthshus.se
SUMMARY:Familjevisning: Jan Lööf
DESCRIPTION:Familjevisning i Jan Lööfs bildvärld\nGuidad visning av utställningen med Jan Lööfs originalillustrationer.\nVisningen vänder sig till både barn och vuxna\, är ca 30-40 min lång och gratis. \nI utställningen visas bl.a. originalbilder till bilderböckerna Ta fast Fabian\, Pelle i djungeln\, Viktor bygger en bro och Bergtrollens nya hem. Även bilder från Örnis bilar som han gjorde tillsammans med Carl Johan De Geer finns med. De handgjorda originalillustrationerna visas i ett utställningsrum som gestaltats med inspiration av Jan Lööfs miljöer och som inbjuder till ett närmare betraktande\, läsning\, lek och eget skapande. \nAtt läsa Jan Lööfs (f.1940) berättelser är som att gå in i en annan värld\, befolkad av karaktärer som apor\, enstöriga gubbar och pojkar med keps. Bilderna bjuder på miljöer som myllrar av detaljer antingen de avbildar stadsmiljöer\, djungeln eller en hög metallskrot. Det känns att Jan Lööf har roligt när han gör sina berättelser och den glädjen smittar av sig på läsaren. \nLÄS MER
URL:https://brorhjorthshus.se/evenemang/familjevisning-jan-loof/2025-05-18/
CATEGORIES:Barn & Familj,Visning
ATTACH;FMTTYPE=image/jpeg:https://brorhjorthshus.se/wp-content/uploads/2025/03/250330_Familjevisning_Jan_Loof_troll_son.jpg
END:VEVENT
BEGIN:VEVENT
DTSTART;TZID=Europe/Stockholm:20250524T123000
DTEND;TZID=Europe/Stockholm:20250524T153000
DTSTAMP:20260421T172816
CREATED:20250429T102924Z
LAST-MODIFIED:20250429T115339Z
UID:18189-1748089800-1748100600@brorhjorthshus.se
SUMMARY:Familjevisning med verkstad : Jan Lööf
DESCRIPTION:Familjevisning med skapande verkstad\när ett trevligt sätt för hela familjen att uppleva museet och att prova en konstnärlig teknik. \nTema: Jan Lööf\nLördag 24 maj \nkl 12.30-13.45 och kl 14.15-15.30 \nVi tittar först kort på några bilder av Jan Lööf. Därefter går vi till museets verkstad för att måla och teckna en egen bild med inspiration från utställningen och berättelsen Ta fast Fabian.\nVerkstaden leds av en konstpedagog som hjälper dig att komma igång.\nInga förkunskaper krävs. \nFamiljevisning med skapande verkstad är tänkt för barn tillsammans med en vuxen.\nLämpligt från 4 år och uppåt. \nOm våra familjeverkstäder \nBiljetter\nBegränsat antal platser. Max 15 personer (inkl vuxna) per tillfälle.\nFamiljevisning kostar 50 kr/verkstadsdeltagare.\nBiljetter köps via Tickster eller i museet (fr o m 3 maj).\nObs! Museets verkstad ligger i källaren en trappa ned. Ingen hiss eller ramp finns.
URL:https://brorhjorthshus.se/evenemang/familjevisning-med-verkstad-jan-loof-24maj/
LOCATION:Bror Hjorths Hus\, Norbyvägen 26\, Uppsala\, 752 39\, SE
CATEGORIES:Barn & Familj,Verkstad/kurs,Visning
ATTACH;FMTTYPE=image/jpeg:https://brorhjorthshus.se/wp-content/uploads/2025/04/250524_Familjevisning_Allman_16_9.jpg
END:VEVENT
BEGIN:VEVENT
DTSTART;TZID=Europe/Stockholm:20250525T130000
DTEND;TZID=Europe/Stockholm:20250525T134000
DTSTAMP:20260421T172816
CREATED:20250320T133946Z
LAST-MODIFIED:20250320T133946Z
UID:18041-1748178000-1748180400@brorhjorthshus.se
SUMMARY:Familjevisning: Jan Lööf
DESCRIPTION:Familjevisning i Jan Lööfs bildvärld\nGuidad visning av utställningen med Jan Lööfs originalillustrationer.\nVisningen vänder sig till både barn och vuxna\, är ca 30-40 min lång och gratis. \nI utställningen visas bl.a. originalbilder till bilderböckerna Ta fast Fabian\, Pelle i djungeln\, Viktor bygger en bro och Bergtrollens nya hem. Även bilder från Örnis bilar som han gjorde tillsammans med Carl Johan De Geer finns med. De handgjorda originalillustrationerna visas i ett utställningsrum som gestaltats med inspiration av Jan Lööfs miljöer och som inbjuder till ett närmare betraktande\, läsning\, lek och eget skapande. \nAtt läsa Jan Lööfs (f.1940) berättelser är som att gå in i en annan värld\, befolkad av karaktärer som apor\, enstöriga gubbar och pojkar med keps. Bilderna bjuder på miljöer som myllrar av detaljer antingen de avbildar stadsmiljöer\, djungeln eller en hög metallskrot. Det känns att Jan Lööf har roligt när han gör sina berättelser och den glädjen smittar av sig på läsaren. \nLÄS MER
URL:https://brorhjorthshus.se/evenemang/familjevisning-jan-loof/2025-05-25/
CATEGORIES:Barn & Familj,Visning
ATTACH;FMTTYPE=image/jpeg:https://brorhjorthshus.se/wp-content/uploads/2025/03/250330_Familjevisning_Jan_Loof_troll_son.jpg
END:VEVENT
BEGIN:VEVENT
DTSTART;TZID=Europe/Stockholm:20250529T130000
DTEND;TZID=Europe/Stockholm:20250529T134000
DTSTAMP:20260421T172816
CREATED:20250320T134852Z
LAST-MODIFIED:20250320T135039Z
UID:18049-1748523600-1748526000@brorhjorthshus.se
SUMMARY:Familjevisning: Jan Lööf
DESCRIPTION:Familjevisning i Jan Lööfs bildvärld\nGuidad visning av utställningen med Jan Lööfs originalillustrationer.\nVisningen vänder sig till både barn och vuxna\, är ca 30-40 min lång och gratis. \nI utställningen visas bl.a. originalbilder till bilderböckerna Ta fast Fabian\, Pelle i djungeln\, Viktor bygger en bro och Bergtrollens nya hem. Även bilder från Örnis bilar som han gjorde tillsammans med Carl Johan De Geer finns med. De handgjorda originalillustrationerna visas i ett utställningsrum som gestaltats med inspiration av Jan Lööfs miljöer och som inbjuder till ett närmare betraktande\, läsning\, lek och eget skapande. \nAtt läsa Jan Lööfs (f.1940) berättelser är som att gå in i en annan värld\, befolkad av karaktärer som apor\, enstöriga gubbar och pojkar med keps. Bilderna bjuder på miljöer som myllrar av detaljer antingen de avbildar stadsmiljöer\, djungeln eller en hög metallskrot. Det känns att Jan Lööf har roligt när han gör sina berättelser och den glädjen smittar av sig på läsaren. \nLÄS MER
URL:https://brorhjorthshus.se/evenemang/familjevisning-jan-loof-2-2025-05-29/
LOCATION:Bror Hjorths Hus\, Norbyvägen 26\, Uppsala\, 752 39\, SE
CATEGORIES:Barn & Familj,Visning
ATTACH;FMTTYPE=image/jpeg:https://brorhjorthshus.se/wp-content/uploads/2025/03/250529_Familjevisning_Jan_Loof_tivoli.jpg
END:VEVENT
END:VCALENDAR