BEGIN:VCALENDAR
VERSION:2.0
PRODID:-//Bror Hjorths Hus - ECPv6.15.20//NONSGML v1.0//EN
CALSCALE:GREGORIAN
METHOD:PUBLISH
X-WR-CALNAME:Bror Hjorths Hus
X-ORIGINAL-URL:https://brorhjorthshus.se
X-WR-CALDESC:Händelser för Bror Hjorths Hus
REFRESH-INTERVAL;VALUE=DURATION:PT1H
X-Robots-Tag:noindex
X-PUBLISHED-TTL:PT1H
BEGIN:VTIMEZONE
TZID:Europe/Stockholm
BEGIN:DAYLIGHT
TZOFFSETFROM:+0100
TZOFFSETTO:+0200
TZNAME:CEST
DTSTART:20240331T010000
END:DAYLIGHT
BEGIN:STANDARD
TZOFFSETFROM:+0200
TZOFFSETTO:+0100
TZNAME:CET
DTSTART:20241027T010000
END:STANDARD
BEGIN:DAYLIGHT
TZOFFSETFROM:+0100
TZOFFSETTO:+0200
TZNAME:CEST
DTSTART:20250330T010000
END:DAYLIGHT
BEGIN:STANDARD
TZOFFSETFROM:+0200
TZOFFSETTO:+0100
TZNAME:CET
DTSTART:20251026T010000
END:STANDARD
BEGIN:DAYLIGHT
TZOFFSETFROM:+0100
TZOFFSETTO:+0200
TZNAME:CEST
DTSTART:20260329T010000
END:DAYLIGHT
BEGIN:STANDARD
TZOFFSETFROM:+0200
TZOFFSETTO:+0100
TZNAME:CET
DTSTART:20261025T010000
END:STANDARD
END:VTIMEZONE
BEGIN:VEVENT
DTSTART;TZID=Europe/Stockholm:20250406T123000
DTEND;TZID=Europe/Stockholm:20250406T153000
DTSTAMP:20260421T191843
CREATED:20250314T141606Z
LAST-MODIFIED:20250314T142713Z
UID:17882-1743942600-1743953400@brorhjorthshus.se
SUMMARY:Familjevisning med verkstad : Jan Lööf
DESCRIPTION:Familjevisning med skapande verkstad\när ett trevligt sätt för hela familjen att uppleva museet och att prova en konstnärlig teknik. \nTema: Jan Lööf\nSöndag 6 april\nkl 12.30-13.45 och kl 14.15-15.30 \nVi tittar först kort på några stadsbilder i Jan Lööfutställningen.\nDärefter går vi till museets verkstad för att själva måla och teckna en egen bild.\nVerkstaden leds av en konstpedagog som hjälper er att komma igång.\nInga förkunskaper krävs. \nFamiljevisning med skapande verkstad är tänkt för barn tillsammans med en vuxen.\nLämpligt från 4 år och uppåt. \nOm våra familjeverkstäder \nBiljetter \nBegränsat antal platser. Max 15 personer (inkl vuxna) per tillfälle.\nFamiljevisning kostar 50 kr/verkstadsdeltagare.\nBiljetter köps via Tickster eller i museet (fr o m 17 mars).\nObs! Museets verkstad ligger i källaren en trappa ned. Ingen hiss eller ramp finns.
URL:https://brorhjorthshus.se/evenemang/familjevisning-med-verkstad-jan-loof-6april/
LOCATION:Bror Hjorths Hus\, Norbyvägen 26\, Uppsala\, 752 39\, SE
CATEGORIES:Barn & Familj,Verkstad/kurs,Visning
ATTACH;FMTTYPE=image/jpeg:https://brorhjorthshus.se/wp-content/uploads/2025/03/250406_Familjevisning_Allman_16_9.jpg
END:VEVENT
BEGIN:VEVENT
DTSTART;TZID=Europe/Stockholm:20250406T130000
DTEND;TZID=Europe/Stockholm:20250406T134000
DTSTAMP:20260421T191843
CREATED:20250320T133946Z
LAST-MODIFIED:20250320T133946Z
UID:18034-1743944400-1743946800@brorhjorthshus.se
SUMMARY:Familjevisning: Jan Lööf
DESCRIPTION:Familjevisning i Jan Lööfs bildvärld\nGuidad visning av utställningen med Jan Lööfs originalillustrationer.\nVisningen vänder sig till både barn och vuxna\, är ca 30-40 min lång och gratis. \nI utställningen visas bl.a. originalbilder till bilderböckerna Ta fast Fabian\, Pelle i djungeln\, Viktor bygger en bro och Bergtrollens nya hem. Även bilder från Örnis bilar som han gjorde tillsammans med Carl Johan De Geer finns med. De handgjorda originalillustrationerna visas i ett utställningsrum som gestaltats med inspiration av Jan Lööfs miljöer och som inbjuder till ett närmare betraktande\, läsning\, lek och eget skapande. \nAtt läsa Jan Lööfs (f.1940) berättelser är som att gå in i en annan värld\, befolkad av karaktärer som apor\, enstöriga gubbar och pojkar med keps. Bilderna bjuder på miljöer som myllrar av detaljer antingen de avbildar stadsmiljöer\, djungeln eller en hög metallskrot. Det känns att Jan Lööf har roligt när han gör sina berättelser och den glädjen smittar av sig på läsaren. \nLÄS MER
URL:https://brorhjorthshus.se/evenemang/familjevisning-jan-loof/2025-04-06/
CATEGORIES:Barn & Familj,Visning
ATTACH;FMTTYPE=image/jpeg:https://brorhjorthshus.se/wp-content/uploads/2025/03/250330_Familjevisning_Jan_Loof_troll_son.jpg
END:VEVENT
BEGIN:VEVENT
DTSTART;TZID=Europe/Stockholm:20250413T130000
DTEND;TZID=Europe/Stockholm:20250413T134000
DTSTAMP:20260421T191843
CREATED:20250320T133946Z
LAST-MODIFIED:20250320T133946Z
UID:18035-1744549200-1744551600@brorhjorthshus.se
SUMMARY:Familjevisning: Jan Lööf
DESCRIPTION:Familjevisning i Jan Lööfs bildvärld\nGuidad visning av utställningen med Jan Lööfs originalillustrationer.\nVisningen vänder sig till både barn och vuxna\, är ca 30-40 min lång och gratis. \nI utställningen visas bl.a. originalbilder till bilderböckerna Ta fast Fabian\, Pelle i djungeln\, Viktor bygger en bro och Bergtrollens nya hem. Även bilder från Örnis bilar som han gjorde tillsammans med Carl Johan De Geer finns med. De handgjorda originalillustrationerna visas i ett utställningsrum som gestaltats med inspiration av Jan Lööfs miljöer och som inbjuder till ett närmare betraktande\, läsning\, lek och eget skapande. \nAtt läsa Jan Lööfs (f.1940) berättelser är som att gå in i en annan värld\, befolkad av karaktärer som apor\, enstöriga gubbar och pojkar med keps. Bilderna bjuder på miljöer som myllrar av detaljer antingen de avbildar stadsmiljöer\, djungeln eller en hög metallskrot. Det känns att Jan Lööf har roligt när han gör sina berättelser och den glädjen smittar av sig på läsaren. \nLÄS MER
URL:https://brorhjorthshus.se/evenemang/familjevisning-jan-loof/2025-04-13/
CATEGORIES:Barn & Familj,Visning
ATTACH;FMTTYPE=image/jpeg:https://brorhjorthshus.se/wp-content/uploads/2025/03/250330_Familjevisning_Jan_Loof_troll_son.jpg
END:VEVENT
BEGIN:VEVENT
DTSTART;TZID=Europe/Stockholm:20250414T090000
DTEND;TZID=Europe/Stockholm:20250414T090000
DTSTAMP:20260421T191843
CREATED:20250321T231435Z
LAST-MODIFIED:20250321T231751Z
UID:18057-1744621200-1744621200@brorhjorthshus.se
SUMMARY:Påsklovskonstskola för barn & unga 8-13 år
DESCRIPTION:Illustrationsverkstad i Jan Lööfs anda\nMåndag 14 april kl 9.00 – 14.00\nFör barn mellan 8 och 13 år (årskurs 2-6) \nLovkonstskolan under en dag på Bror Hjorths Hus\nVi dyker ner i Jan Lööfs bilderboksvärld och inspireras av hans detaljrika illustrationer och hans berättarglädje. Vi fantiserar i bild om människor och djur och spännande platser. Vi tecknar och målar med blyerts\, gouache och tusch. Vi skulpterar varsin egen sagokaraktär i lera. \nMuseets erfarna konstpedagoger finns på plats hela tiden och berättar om teknik och material och hjälper till att komma igång. \nEndagsaktivitet.\nMedtag egen lunch som inte behöver värmas.\nMellanmål ingår i priset.\nMax 12 deltagare per dag. \nPris: 300 kr\nKöp biljett på Tickster.com eller i museet under öppettid (släpps 25 mars kl 10.00)\nFrågor? Mejla konstskola@brorhjorthshus.se eller ring 018-567030 
URL:https://brorhjorthshus.se/evenemang/pasklovskonstskola-for-barn-unga-8-13-ar/
LOCATION:Bror Hjorths Hus\, Norbyvägen 26\, Uppsala\, 752 39\, SE
CATEGORIES:Barn & Familj,Verkstad/kurs
ATTACH;FMTTYPE=image/jpeg:https://brorhjorthshus.se/wp-content/uploads/2025/03/250414_Pasklovskonstskola_16_9.jpg
END:VEVENT
BEGIN:VEVENT
DTSTART;TZID=Europe/Stockholm:20250415T090000
DTEND;TZID=Europe/Stockholm:20250415T140000
DTSTAMP:20260421T191843
CREATED:20250321T231824Z
LAST-MODIFIED:20250321T231824Z
UID:18063-1744707600-1744725600@brorhjorthshus.se
SUMMARY:Påsklovskonstskola för barn & unga 8-13 år
DESCRIPTION:Illustrationsverkstad i Jan Lööfs anda\nTisdag 15 april kl 9.00 – 14.00\nFör barn mellan 8 och 13 år (årskurs 2-6) \nLovkonstskolan under en dag på Bror Hjorths Hus\nVi dyker ner i Jan Lööfs bilderboksvärld och inspireras av hans detaljrika illustrationer och hans berättarglädje. Vi fantiserar i bild om människor och djur och spännande platser. Vi tecknar och målar med blyerts\, gouache och tusch. Vi skulpterar varsin egen sagokaraktär i lera. \nMuseets erfarna konstpedagoger finns på plats hela tiden och berättar om teknik och material och hjälper till att komma igång. \nEndagsaktivitet.\nMedtag egen lunch som inte behöver värmas.\nMellanmål ingår i priset.\nMax 12 deltagare per dag. \nPris: 300 kr\nKöp biljett på Tickster.com eller i museet under öppettid (släpps 25 mars kl 10.00)\nFrågor? Mejla konstskola@brorhjorthshus.se eller ring 018-567030 
URL:https://brorhjorthshus.se/evenemang/pasklovskonstskola-for-barn-unga-8-13-ar-2/
LOCATION:Bror Hjorths Hus\, Norbyvägen 26\, Uppsala\, 752 39\, SE
CATEGORIES:Barn & Familj,Verkstad/kurs
ATTACH;FMTTYPE=image/jpeg:https://brorhjorthshus.se/wp-content/uploads/2025/03/250415_Pasklovskonstskola_16_9.jpg
END:VEVENT
BEGIN:VEVENT
DTSTART;TZID=Europe/Stockholm:20250417T123000
DTEND;TZID=Europe/Stockholm:20250417T153000
DTSTAMP:20260421T191843
CREATED:20250314T142243Z
LAST-MODIFIED:20250314T142734Z
UID:17890-1744893000-1744903800@brorhjorthshus.se
SUMMARY:Familjevisning med verkstad : Jan Lööf
DESCRIPTION:Familjevisning med skapande verkstad\när ett trevligt sätt för hela familjen att uppleva museet och att prova en konstnärlig teknik. \nTema: Jan Lööf\nTorsdag 17 april \nkl 12.30-13.45 och kl 14.15-15.30 \nVi tittar först kort på några stadsbilder i Jan Lööfutställningen.\nDärefter går vi till museets verkstad för att själva måla och teckna en egen bild.\nVerkstaden leds av en konstpedagog som hjälper er att komma igång.\nInga förkunskaper krävs. \nFamiljevisning med skapande verkstad är tänkt för barn tillsammans med en vuxen.\nLämpligt från 4 år och uppåt. \nOm våra familjeverkstäder \nBiljetter \nBegränsat antal platser. Max 15 personer (inkl vuxna) per tillfälle.\nFamiljevisning kostar 50 kr/verkstadsdeltagare.\nBiljetter köps via Tickster eller i museet (fr o m 29 mars kl 12).\nObs! Museets verkstad ligger i källaren en trappa ned. Ingen hiss eller ramp finns.
URL:https://brorhjorthshus.se/evenemang/familjevisning-med-verkstad-jan-loof-17april/
LOCATION:Bror Hjorths Hus\, Norbyvägen 26\, Uppsala\, 752 39\, SE
CATEGORIES:Barn & Familj,Verkstad/kurs,Visning
ATTACH;FMTTYPE=image/jpeg:https://brorhjorthshus.se/wp-content/uploads/2025/03/250417_Familjevisning_Allman_16_9.jpg
END:VEVENT
BEGIN:VEVENT
DTSTART;TZID=Europe/Stockholm:20250418T130000
DTEND;TZID=Europe/Stockholm:20250418T134000
DTSTAMP:20260421T191843
CREATED:20250320T134852Z
LAST-MODIFIED:20250320T134853Z
UID:18044-1744981200-1744983600@brorhjorthshus.se
SUMMARY:Familjevisning: Jan Lööf
DESCRIPTION:Familjevisning i Jan Lööfs bildvärld\nGuidad visning av utställningen med Jan Lööfs originalillustrationer.\nVisningen vänder sig till både barn och vuxna\, är ca 30-40 min lång och gratis. \nI utställningen visas bl.a. originalbilder till bilderböckerna Ta fast Fabian\, Pelle i djungeln\, Viktor bygger en bro och Bergtrollens nya hem. Även bilder från Örnis bilar som han gjorde tillsammans med Carl Johan De Geer finns med. De handgjorda originalillustrationerna visas i ett utställningsrum som gestaltats med inspiration av Jan Lööfs miljöer och som inbjuder till ett närmare betraktande\, läsning\, lek och eget skapande. \nAtt läsa Jan Lööfs (f.1940) berättelser är som att gå in i en annan värld\, befolkad av karaktärer som apor\, enstöriga gubbar och pojkar med keps. Bilderna bjuder på miljöer som myllrar av detaljer antingen de avbildar stadsmiljöer\, djungeln eller en hög metallskrot. Det känns att Jan Lööf har roligt när han gör sina berättelser och den glädjen smittar av sig på läsaren. \nLÄS MER
URL:https://brorhjorthshus.se/evenemang/familjevisning-jan-loof-2/2025-04-18/
LOCATION:Bror Hjorths Hus\, Norbyvägen 26\, Uppsala\, 752 39\, SE
CATEGORIES:Barn & Familj,Visning
ATTACH;FMTTYPE=image/jpeg:https://brorhjorthshus.se/wp-content/uploads/2025/03/250418_Familjevisning_Jan_Loof_tomte.jpg
END:VEVENT
BEGIN:VEVENT
DTSTART;TZID=Europe/Stockholm:20250419T130000
DTEND;TZID=Europe/Stockholm:20250419T134000
DTSTAMP:20260421T191843
CREATED:20250320T134852Z
LAST-MODIFIED:20250320T135252Z
UID:18046-1745067600-1745070000@brorhjorthshus.se
SUMMARY:Familjevisning: Jan Lööf
DESCRIPTION:Familjevisning i Jan Lööfs bildvärld\nGuidad visning av utställningen med Jan Lööfs originalillustrationer.\nVisningen vänder sig till både barn och vuxna\, är ca 30-40 min lång och gratis. \nI utställningen visas bl.a. originalbilder till bilderböckerna Ta fast Fabian\, Pelle i djungeln\, Viktor bygger en bro och Bergtrollens nya hem. Även bilder från Örnis bilar som han gjorde tillsammans med Carl Johan De Geer finns med. De handgjorda originalillustrationerna visas i ett utställningsrum som gestaltats med inspiration av Jan Lööfs miljöer och som inbjuder till ett närmare betraktande\, läsning\, lek och eget skapande. \nAtt läsa Jan Lööfs (f.1940) berättelser är som att gå in i en annan värld\, befolkad av karaktärer som apor\, enstöriga gubbar och pojkar med keps. Bilderna bjuder på miljöer som myllrar av detaljer antingen de avbildar stadsmiljöer\, djungeln eller en hög metallskrot. Det känns att Jan Lööf har roligt när han gör sina berättelser och den glädjen smittar av sig på läsaren. \nLÄS MER
URL:https://brorhjorthshus.se/evenemang/familjevisning-jan-loof-2-2025-04-19/
LOCATION:Bror Hjorths Hus\, Norbyvägen 26\, Uppsala\, 752 39\, SE
CATEGORIES:Barn & Familj,Visning
ATTACH;FMTTYPE=image/jpeg:https://brorhjorthshus.se/wp-content/uploads/2025/03/250419_Familjevisning_Jan_Loof_tomte.jpg
END:VEVENT
BEGIN:VEVENT
DTSTART;TZID=Europe/Stockholm:20250420T130000
DTEND;TZID=Europe/Stockholm:20250420T134000
DTSTAMP:20260421T191843
CREATED:20250320T133946Z
LAST-MODIFIED:20250320T133946Z
UID:18036-1745154000-1745156400@brorhjorthshus.se
SUMMARY:Familjevisning: Jan Lööf
DESCRIPTION:Familjevisning i Jan Lööfs bildvärld\nGuidad visning av utställningen med Jan Lööfs originalillustrationer.\nVisningen vänder sig till både barn och vuxna\, är ca 30-40 min lång och gratis. \nI utställningen visas bl.a. originalbilder till bilderböckerna Ta fast Fabian\, Pelle i djungeln\, Viktor bygger en bro och Bergtrollens nya hem. Även bilder från Örnis bilar som han gjorde tillsammans med Carl Johan De Geer finns med. De handgjorda originalillustrationerna visas i ett utställningsrum som gestaltats med inspiration av Jan Lööfs miljöer och som inbjuder till ett närmare betraktande\, läsning\, lek och eget skapande. \nAtt läsa Jan Lööfs (f.1940) berättelser är som att gå in i en annan värld\, befolkad av karaktärer som apor\, enstöriga gubbar och pojkar med keps. Bilderna bjuder på miljöer som myllrar av detaljer antingen de avbildar stadsmiljöer\, djungeln eller en hög metallskrot. Det känns att Jan Lööf har roligt när han gör sina berättelser och den glädjen smittar av sig på läsaren. \nLÄS MER
URL:https://brorhjorthshus.se/evenemang/familjevisning-jan-loof/2025-04-20/
CATEGORIES:Barn & Familj,Visning
ATTACH;FMTTYPE=image/jpeg:https://brorhjorthshus.se/wp-content/uploads/2025/03/250330_Familjevisning_Jan_Loof_troll_son.jpg
END:VEVENT
BEGIN:VEVENT
DTSTART;TZID=Europe/Stockholm:20250421T123000
DTEND;TZID=Europe/Stockholm:20250421T153000
DTSTAMP:20260421T191843
CREATED:20250314T142524Z
LAST-MODIFIED:20250314T142801Z
UID:17893-1745238600-1745249400@brorhjorthshus.se
SUMMARY:Familjevisning med verkstad : Jan Lööf
DESCRIPTION:Familjevisning med skapande verkstad\när ett trevligt sätt för hela familjen att uppleva museet och att prova en konstnärlig teknik. \nTema: Jan Lööf\nMåndag 21 april \nkl 12.30-13.45 och kl 14.15-15.30 \nVi tittar först kort på några stadsbilder i Jan Lööfutställningen.\nDärefter går vi till museets verkstad för att själva måla och teckna en egen bild.\nVerkstaden leds av en konstpedagog som hjälper er att komma igång.\nInga förkunskaper krävs. \nFamiljevisning med skapande verkstad är tänkt för barn tillsammans med en vuxen.\nLämpligt från 4 år och uppåt. \nOm våra familjeverkstäder \nBiljetter \nBegränsat antal platser. Max 15 personer (inkl vuxna) per tillfälle.\nFamiljevisning kostar 50 kr/verkstadsdeltagare.\nBiljetter köps via Tickster eller i museet (fr o m 29 mars kl 12).\nObs! Museets verkstad ligger i källaren en trappa ned. Ingen hiss eller ramp finns.
URL:https://brorhjorthshus.se/evenemang/familjevisning-med-verkstad-jan-loof-21april/
LOCATION:Bror Hjorths Hus\, Norbyvägen 26\, Uppsala\, 752 39\, SE
CATEGORIES:Barn & Familj,Verkstad/kurs,Visning
ATTACH;FMTTYPE=image/jpeg:https://brorhjorthshus.se/wp-content/uploads/2025/03/250421_Familjevisning_Allman_16_9.jpg
END:VEVENT
BEGIN:VEVENT
DTSTART;TZID=Europe/Stockholm:20250421T130000
DTEND;TZID=Europe/Stockholm:20250421T134000
DTSTAMP:20260421T191843
CREATED:20250320T134852Z
LAST-MODIFIED:20250320T135151Z
UID:18047-1745240400-1745242800@brorhjorthshus.se
SUMMARY:Familjevisning: Jan Lööf
DESCRIPTION:Familjevisning i Jan Lööfs bildvärld\nGuidad visning av utställningen med Jan Lööfs originalillustrationer.\nVisningen vänder sig till både barn och vuxna\, är ca 30-40 min lång och gratis. \nI utställningen visas bl.a. originalbilder till bilderböckerna Ta fast Fabian\, Pelle i djungeln\, Viktor bygger en bro och Bergtrollens nya hem. Även bilder från Örnis bilar som han gjorde tillsammans med Carl Johan De Geer finns med. De handgjorda originalillustrationerna visas i ett utställningsrum som gestaltats med inspiration av Jan Lööfs miljöer och som inbjuder till ett närmare betraktande\, läsning\, lek och eget skapande. \nAtt läsa Jan Lööfs (f.1940) berättelser är som att gå in i en annan värld\, befolkad av karaktärer som apor\, enstöriga gubbar och pojkar med keps. Bilderna bjuder på miljöer som myllrar av detaljer antingen de avbildar stadsmiljöer\, djungeln eller en hög metallskrot. Det känns att Jan Lööf har roligt när han gör sina berättelser och den glädjen smittar av sig på läsaren. \nLÄS MER
URL:https://brorhjorthshus.se/evenemang/familjevisning-jan-loof-2-2025-04-21/
LOCATION:Bror Hjorths Hus\, Norbyvägen 26\, Uppsala\, 752 39\, SE
CATEGORIES:Barn & Familj,Visning
ATTACH;FMTTYPE=image/jpeg:https://brorhjorthshus.se/wp-content/uploads/2025/03/250421_Familjevisning_Jan_Loof_tomte.jpg
END:VEVENT
BEGIN:VEVENT
DTSTART;TZID=Europe/Stockholm:20250427T130000
DTEND;TZID=Europe/Stockholm:20250427T134000
DTSTAMP:20260421T191843
CREATED:20250320T133946Z
LAST-MODIFIED:20250320T133946Z
UID:18037-1745758800-1745761200@brorhjorthshus.se
SUMMARY:Familjevisning: Jan Lööf
DESCRIPTION:Familjevisning i Jan Lööfs bildvärld\nGuidad visning av utställningen med Jan Lööfs originalillustrationer.\nVisningen vänder sig till både barn och vuxna\, är ca 30-40 min lång och gratis. \nI utställningen visas bl.a. originalbilder till bilderböckerna Ta fast Fabian\, Pelle i djungeln\, Viktor bygger en bro och Bergtrollens nya hem. Även bilder från Örnis bilar som han gjorde tillsammans med Carl Johan De Geer finns med. De handgjorda originalillustrationerna visas i ett utställningsrum som gestaltats med inspiration av Jan Lööfs miljöer och som inbjuder till ett närmare betraktande\, läsning\, lek och eget skapande. \nAtt läsa Jan Lööfs (f.1940) berättelser är som att gå in i en annan värld\, befolkad av karaktärer som apor\, enstöriga gubbar och pojkar med keps. Bilderna bjuder på miljöer som myllrar av detaljer antingen de avbildar stadsmiljöer\, djungeln eller en hög metallskrot. Det känns att Jan Lööf har roligt när han gör sina berättelser och den glädjen smittar av sig på läsaren. \nLÄS MER
URL:https://brorhjorthshus.se/evenemang/familjevisning-jan-loof/2025-04-27/
CATEGORIES:Barn & Familj,Visning
ATTACH;FMTTYPE=image/jpeg:https://brorhjorthshus.se/wp-content/uploads/2025/03/250330_Familjevisning_Jan_Loof_troll_son.jpg
END:VEVENT
END:VCALENDAR