BEGIN:VCALENDAR
VERSION:2.0
PRODID:-//Bror Hjorths Hus - ECPv6.15.20//NONSGML v1.0//EN
CALSCALE:GREGORIAN
METHOD:PUBLISH
X-WR-CALNAME:Bror Hjorths Hus
X-ORIGINAL-URL:https://brorhjorthshus.se
X-WR-CALDESC:Händelser för Bror Hjorths Hus
REFRESH-INTERVAL;VALUE=DURATION:PT1H
X-Robots-Tag:noindex
X-PUBLISHED-TTL:PT1H
BEGIN:VTIMEZONE
TZID:Europe/Stockholm
BEGIN:DAYLIGHT
TZOFFSETFROM:+0100
TZOFFSETTO:+0200
TZNAME:CEST
DTSTART:20200329T010000
END:DAYLIGHT
BEGIN:STANDARD
TZOFFSETFROM:+0200
TZOFFSETTO:+0100
TZNAME:CET
DTSTART:20201025T010000
END:STANDARD
BEGIN:DAYLIGHT
TZOFFSETFROM:+0100
TZOFFSETTO:+0200
TZNAME:CEST
DTSTART:20210328T010000
END:DAYLIGHT
BEGIN:STANDARD
TZOFFSETFROM:+0200
TZOFFSETTO:+0100
TZNAME:CET
DTSTART:20211031T010000
END:STANDARD
BEGIN:DAYLIGHT
TZOFFSETFROM:+0100
TZOFFSETTO:+0200
TZNAME:CEST
DTSTART:20220327T010000
END:DAYLIGHT
BEGIN:STANDARD
TZOFFSETFROM:+0200
TZOFFSETTO:+0100
TZNAME:CET
DTSTART:20221030T010000
END:STANDARD
END:VTIMEZONE
BEGIN:VEVENT
DTSTART;TZID=Europe/Stockholm:20210502T160000
DTEND;TZID=Europe/Stockholm:20210502T180000
DTSTAMP:20260422T212016
CREATED:20210421T082903Z
LAST-MODIFIED:20210524T100149Z
UID:3710-1619971200-1619978400@brorhjorthshus.se
SUMMARY:Personlig guidning - Jan Stenmarks utställning
DESCRIPTION:Personlig guidning \nLivevisning på Zoom av utställningen med Jan Stenmark på Bror Hjorths Hus.\nVi säljer bara en biljett per visning\, så den blir verkligen personlig (men du kan bjuda in några vänner).\nVisningar ges under flera torsdagar kl 18 & 19 och söndagar 16 & 17.\nBiljett köps via Tickster\nPris: 100 kr (detta otroliga superpris gäller tillsvidare innan utställningen kan öppna för fysiska besök). \nVisningen är 30-40 min lång och det är möjligt för att ställa frågor under tiden.\nVi säljer alltså bara en biljett per visning\, men biljetten gäller för upp till sex stycken mötesdeltagare/inloggningar. Du kan alltså själv bjuda in vänner och bekanta att delta i visningen och flera personer kan naturligtvis titta som en mötesdeltagare/inloggning. \nStrax innan visningen börjar kan du ansluta till mötet och hamnar då i ett väntrum. Vi kommer därifrån att hälsa dig och dina vänner välkomna till en visning bara för er. \nSäljstopp för visningar torsdagar är onsdag kl 18.00.\nSäljstopp för visningar söndagar är fredag kl 15.00.
URL:https://brorhjorthshus.se/evenemang/zoom-personlig-visning-av-jan-stenmarks-utstallning-2-2021-05-02/2021-05-02/
LOCATION:Bror Hjorths Hus\, Norbyvägen 26\, Uppsala\, 752 39\, SE
CATEGORIES:Visning
ATTACH;FMTTYPE=image/jpeg:https://brorhjorthshus.se/wp-content/uploads/2021/03/facebook_event_utstallning_jan_stenmark.jpg
END:VEVENT
END:VCALENDAR