BEGIN:VCALENDAR
VERSION:2.0
PRODID:-//Bror Hjorths Hus - ECPv6.15.20//NONSGML v1.0//EN
CALSCALE:GREGORIAN
METHOD:PUBLISH
X-WR-CALNAME:Bror Hjorths Hus
X-ORIGINAL-URL:https://brorhjorthshus.se
X-WR-CALDESC:Händelser för Bror Hjorths Hus
REFRESH-INTERVAL;VALUE=DURATION:PT1H
X-Robots-Tag:noindex
X-PUBLISHED-TTL:PT1H
BEGIN:VTIMEZONE
TZID:Europe/Stockholm
BEGIN:DAYLIGHT
TZOFFSETFROM:+0100
TZOFFSETTO:+0200
TZNAME:CEST
DTSTART:20210328T010000
END:DAYLIGHT
BEGIN:STANDARD
TZOFFSETFROM:+0200
TZOFFSETTO:+0100
TZNAME:CET
DTSTART:20211031T010000
END:STANDARD
BEGIN:DAYLIGHT
TZOFFSETFROM:+0100
TZOFFSETTO:+0200
TZNAME:CEST
DTSTART:20220327T010000
END:DAYLIGHT
BEGIN:STANDARD
TZOFFSETFROM:+0200
TZOFFSETTO:+0100
TZNAME:CET
DTSTART:20221030T010000
END:STANDARD
BEGIN:DAYLIGHT
TZOFFSETFROM:+0100
TZOFFSETTO:+0200
TZNAME:CEST
DTSTART:20230326T010000
END:DAYLIGHT
BEGIN:STANDARD
TZOFFSETFROM:+0200
TZOFFSETTO:+0100
TZNAME:CET
DTSTART:20231029T010000
END:STANDARD
END:VTIMEZONE
BEGIN:VEVENT
DTSTART;TZID=Europe/Stockholm:20220424T113000
DTEND;TZID=Europe/Stockholm:20220424T120000
DTSTAMP:20260422T224830
CREATED:20220325T101919Z
LAST-MODIFIED:20220331T173326Z
UID:5150-1650799800-1650801600@brorhjorthshus.se
SUMMARY:Barnteater: Cirkus Tigerbrand - Gropen av Emma AdBåge
DESCRIPTION:För barn från 3 år. \nFöreställningar kl 11.30 och kl 16.15\nFöreställningen är ca 30 min. \n\n\n\n\n\n\n\n\n\n\nCirkus Tigerbrand spelar teaterföreställningen Gropen\, som utgår från Emma AdBåges Augustprisade bilderbok med samma namn. Gropen är en livsbejakande berättelse om barns kreativitet och kraft genom sin lek och hur de övervinner motgångar. \n\n\n\n\n\n\n\n\n\n\n”Min favoritplats i Gropen är Stora Roten.\nDen kan man leka vadsomhelst med.\nBjörnmamma\, koja\, gömställe\, kiosk – allt!\nEn av smårötterna på Stora Roten är helt blank och\nlen för att vi har hållit i den så många gånger när vi\nklättrat. Den har blivit helt sliten. Som ett handtag.” \n\n\n\n\n\n\n\n\n\n\nGropen är en plats vid sidan av\, där det kan uppstå nya saker\, växa nya växter som trivs just där\, och visar det sig\, nya lekar. Hur länge som helst\, hur roliga lekar som helst. Berättelsen belyser sprängkraften i barns kreativitet och vikten av kommunikation mellan barn och vuxna. \nGropen blir en välbehövlig påminnelse om vikten av orörda områden\, om ostyrda lekar och också om att själv ibland släppa kontrollen och hitta nya stigar. \n\n\n\n\n\n\n\n\n\n\n\n\n\n\n\n\n\n\n\n\n\nPris: 80 kr/st.\nBiljetter köps på Tickster.com eller i museet.\nOBS! Minsta antal biljetter per köp är två stycken. \nRegi: Anna Mannerheim\nSkådespelare: Nadja Franke och Danny Eriksson\nScenografi/Kostym: Linda Ingemansson\nSång och Musik: Emelie Fawcus Sundin och Måra Stegard.
URL:https://brorhjorthshus.se/evenemang/teater-cirkus-tigerbrand-gropen-av-emma-adbage/2022-04-24/
LOCATION:Bror Hjorths Hus\, Norbyvägen 26\, Uppsala\, 752 39\, SE
CATEGORIES:Barn & Familj,Föredrag & Konsert
ATTACH;FMTTYPE=image/jpeg:https://brorhjorthshus.se/wp-content/uploads/2022/03/Cirkus_Tigerbrand_2_16_9.jpg
END:VEVENT
END:VCALENDAR