BEGIN:VCALENDAR
VERSION:2.0
PRODID:-//Bror Hjorths Hus - ECPv6.15.20//NONSGML v1.0//EN
CALSCALE:GREGORIAN
METHOD:PUBLISH
X-WR-CALNAME:Bror Hjorths Hus
X-ORIGINAL-URL:https://brorhjorthshus.se
X-WR-CALDESC:Händelser för Bror Hjorths Hus
REFRESH-INTERVAL;VALUE=DURATION:PT1H
X-Robots-Tag:noindex
X-PUBLISHED-TTL:PT1H
BEGIN:VTIMEZONE
TZID:Europe/Stockholm
BEGIN:DAYLIGHT
TZOFFSETFROM:+0100
TZOFFSETTO:+0200
TZNAME:CEST
DTSTART:20180325T010000
END:DAYLIGHT
BEGIN:STANDARD
TZOFFSETFROM:+0200
TZOFFSETTO:+0100
TZNAME:CET
DTSTART:20181028T010000
END:STANDARD
BEGIN:DAYLIGHT
TZOFFSETFROM:+0100
TZOFFSETTO:+0200
TZNAME:CEST
DTSTART:20190331T010000
END:DAYLIGHT
BEGIN:STANDARD
TZOFFSETFROM:+0200
TZOFFSETTO:+0100
TZNAME:CET
DTSTART:20191027T010000
END:STANDARD
BEGIN:DAYLIGHT
TZOFFSETFROM:+0100
TZOFFSETTO:+0200
TZNAME:CEST
DTSTART:20200329T010000
END:DAYLIGHT
BEGIN:STANDARD
TZOFFSETFROM:+0200
TZOFFSETTO:+0100
TZNAME:CET
DTSTART:20201025T010000
END:STANDARD
END:VTIMEZONE
BEGIN:VEVENT
DTSTART;TZID=Europe/Stockholm:20191031T123000
DTEND;TZID=Europe/Stockholm:20191031T160000
DTSTAMP:20260422T210244
CREATED:20191004T100135Z
LAST-MODIFIED:20191004T144933Z
UID:2720-1572525000-1572537600@brorhjorthshus.se
SUMMARY:Höstlovsverkstad
DESCRIPTION:Familjevisning kl 12.30 – 13 \nÖppen verkstad kl 13 – 16 \n  \nFamiljevisning av utställningen Ekfras. Tillsammans med museets konstpedagog får du upptäcka Juri Markkulas knallblå reliefer och Erik Vernerssons poesi som skapats som översättningar till konstverken. Konstverken föreställer utsnitt av mark men är uppförstorade och gjorda med 3D printer. \nI verkstan får du skapa din egen relief i lera med inspiration från naturen. \nFör barn i alla åldrar med vuxens sällskap. Ingen föranmälan. \n 
URL:https://brorhjorthshus.se/evenemang/hostlovsverkstad/2019-10-31/
LOCATION:Bror Hjorths Hus\, Norbyvägen 26\, Uppsala\, 752 39\, SE
CATEGORIES:Barn & Familj,Visning
ATTACH;FMTTYPE=image/jpeg:https://brorhjorthshus.se/wp-content/uploads/2019/05/Ekfras_hemsida.jpg
END:VEVENT
END:VCALENDAR