BEGIN:VCALENDAR
VERSION:2.0
PRODID:-//Bror Hjorths Hus - ECPv6.15.20//NONSGML v1.0//EN
CALSCALE:GREGORIAN
METHOD:PUBLISH
X-WR-CALNAME:Bror Hjorths Hus
X-ORIGINAL-URL:https://brorhjorthshus.se
X-WR-CALDESC:Händelser för Bror Hjorths Hus
REFRESH-INTERVAL;VALUE=DURATION:PT1H
X-Robots-Tag:noindex
X-PUBLISHED-TTL:PT1H
BEGIN:VTIMEZONE
TZID:Europe/Stockholm
BEGIN:DAYLIGHT
TZOFFSETFROM:+0100
TZOFFSETTO:+0200
TZNAME:CEST
DTSTART:20210328T010000
END:DAYLIGHT
BEGIN:STANDARD
TZOFFSETFROM:+0200
TZOFFSETTO:+0100
TZNAME:CET
DTSTART:20211031T010000
END:STANDARD
BEGIN:DAYLIGHT
TZOFFSETFROM:+0100
TZOFFSETTO:+0200
TZNAME:CEST
DTSTART:20220327T010000
END:DAYLIGHT
BEGIN:STANDARD
TZOFFSETFROM:+0200
TZOFFSETTO:+0100
TZNAME:CET
DTSTART:20221030T010000
END:STANDARD
BEGIN:DAYLIGHT
TZOFFSETFROM:+0100
TZOFFSETTO:+0200
TZNAME:CEST
DTSTART:20230326T010000
END:DAYLIGHT
BEGIN:STANDARD
TZOFFSETFROM:+0200
TZOFFSETTO:+0100
TZNAME:CET
DTSTART:20231029T010000
END:STANDARD
END:VTIMEZONE
BEGIN:VEVENT
DTSTART;TZID=Europe/Stockholm:20221101T090000
DTEND;TZID=Europe/Stockholm:20221101T140000
DTSTAMP:20260423T064014
CREATED:20220930T175138Z
LAST-MODIFIED:20221005T201057Z
UID:5678-1667293200-1667311200@brorhjorthshus.se
SUMMARY:Höstlovsverkstad för barn 8-13 år
DESCRIPTION:Förunderliga grejer\nTis–ons 1–2 november kl 9–14\nFör barn 8–13 år. Endagsaktivitet. \nFörr i tiden samlande man på spännande föremål i särskilda skåp som kallades kuriosakabinett. Konstnären Jonas Liveröd har en sådan samling hemma hos sig\, men inte i ett skåp utan hela hans hus är fullt av grejer. Han kallar det för sin Wunderkammare. Nu har Jonas Liveröd har fyllt utställningshallen i Bror Hjorths Hus med sina förunderliga saker. \nUnder lovverkstan låter vi oss inspireras och tillverkar egna finurligheter med hjälp av skräp\, limpistol och gips. \nKursledare är Madelene Mhanna och Ting Adolphus. \nEndagsaktivitet. Medtag egen lunch som inte behöver värmas. Vi bjuder på mellanmål. \nPris: 250 kr/barn.\nKöp plats via Tickster.com eller i museet.\nOBS! Kom ihåg att fylla i barnets namn och ålder som köpare.\nKontaktpersonens namn och telefon ska vara i separat fält.
URL:https://brorhjorthshus.se/evenemang/hostlovsverkstad-for-barn-8-13-ar/2022-11-01/
LOCATION:Bror Hjorths Hus\, Norbyvägen 26\, Uppsala\, 752 39\, SE
CATEGORIES:Barn & Familj
ATTACH;FMTTYPE=image/jpeg:https://brorhjorthshus.se/wp-content/uploads/2022/09/Hostlovsverkstad_2022_16_9.jpg
END:VEVENT
END:VCALENDAR