BEGIN:VCALENDAR
VERSION:2.0
PRODID:-//Bror Hjorths Hus - ECPv6.15.20//NONSGML v1.0//EN
CALSCALE:GREGORIAN
METHOD:PUBLISH
X-ORIGINAL-URL:https://brorhjorthshus.se
X-WR-CALDESC:Händelser för Bror Hjorths Hus
REFRESH-INTERVAL;VALUE=DURATION:PT1H
X-Robots-Tag:noindex
X-PUBLISHED-TTL:PT1H
BEGIN:VTIMEZONE
TZID:Europe/Stockholm
BEGIN:DAYLIGHT
TZOFFSETFROM:+0100
TZOFFSETTO:+0200
TZNAME:CEST
DTSTART:20210328T010000
END:DAYLIGHT
BEGIN:STANDARD
TZOFFSETFROM:+0200
TZOFFSETTO:+0100
TZNAME:CET
DTSTART:20211031T010000
END:STANDARD
BEGIN:DAYLIGHT
TZOFFSETFROM:+0100
TZOFFSETTO:+0200
TZNAME:CEST
DTSTART:20220327T010000
END:DAYLIGHT
BEGIN:STANDARD
TZOFFSETFROM:+0200
TZOFFSETTO:+0100
TZNAME:CET
DTSTART:20221030T010000
END:STANDARD
BEGIN:DAYLIGHT
TZOFFSETFROM:+0100
TZOFFSETTO:+0200
TZNAME:CEST
DTSTART:20230326T010000
END:DAYLIGHT
BEGIN:STANDARD
TZOFFSETFROM:+0200
TZOFFSETTO:+0100
TZNAME:CET
DTSTART:20231029T010000
END:STANDARD
END:VTIMEZONE
BEGIN:VEVENT
DTSTART;TZID=Europe/Stockholm:20221103T120000
DTEND;TZID=Europe/Stockholm:20221103T160000
DTSTAMP:20260423T064422
CREATED:20221004T144457Z
LAST-MODIFIED:20221005T081759Z
UID:5749-1667476800-1667491200@brorhjorthshus.se
SUMMARY:Höstlov: Mörkermonster
DESCRIPTION:Mörkermonster\nDrop-in-verkstad och familjevisningar\nTors–fre 3–4 november 12–16 + tors 3 nov kl 18–20 \nVi har täckt väggarna i vår källarateljé med papper och tillsammans fyller vi dem med tecknade monster som lyser i mörkret. I konsthallen visas en utställning med Jonas Liveröd\, följ med på familjevisning.\nI museet finns också Finn-5-fel och Upptäckarväskan. \nTors 3 nov kl 12.00–16.00: Verkstad i museets källare\nTors 3 nov kl 12.30: Familjevisning av Jonas Liveröds utställning Händelsen. \nTors 3 nov kl 18.00–20.00: Verkstad under museets kvällsöppet \nFre 4 nov kl 12.00–16.00: Verkstad i museets källare\nFre 4 nov kl 12.30: Familjevisning av Jonas Liveröds utställning Händelsen. \nPris: Gratis.\nUtrymmet i verkstaden är begränsat. Kö kan därför uppstå och vi försöker då upprätta ett kösystem.\nObs! Museets verkstad ligger i källaren en trappa ned. Ingen hiss eller ramp finns.
URL:https://brorhjorthshus.se/evenemang/hostlov-morkermonster/2022-11-03/
LOCATION:Bror Hjorths Hus\, Norbyvägen 26\, Uppsala\, 752 39\, SE
CATEGORIES:Barn & Familj,Visning
ATTACH;FMTTYPE=image/jpeg:https://brorhjorthshus.se/wp-content/uploads/2022/10/Morkerverkstad_2022_16x9.jpg
END:VEVENT
END:VCALENDAR