BEGIN:VCALENDAR
VERSION:2.0
PRODID:-//Bror Hjorths Hus - ECPv6.15.20//NONSGML v1.0//EN
CALSCALE:GREGORIAN
METHOD:PUBLISH
X-WR-CALNAME:Bror Hjorths Hus
X-ORIGINAL-URL:https://brorhjorthshus.se
X-WR-CALDESC:Händelser för Bror Hjorths Hus
REFRESH-INTERVAL;VALUE=DURATION:PT1H
X-Robots-Tag:noindex
X-PUBLISHED-TTL:PT1H
BEGIN:VTIMEZONE
TZID:Europe/Stockholm
BEGIN:DAYLIGHT
TZOFFSETFROM:+0100
TZOFFSETTO:+0200
TZNAME:CEST
DTSTART:20200329T010000
END:DAYLIGHT
BEGIN:STANDARD
TZOFFSETFROM:+0200
TZOFFSETTO:+0100
TZNAME:CET
DTSTART:20201025T010000
END:STANDARD
BEGIN:DAYLIGHT
TZOFFSETFROM:+0100
TZOFFSETTO:+0200
TZNAME:CEST
DTSTART:20210328T010000
END:DAYLIGHT
BEGIN:STANDARD
TZOFFSETFROM:+0200
TZOFFSETTO:+0100
TZNAME:CET
DTSTART:20211031T010000
END:STANDARD
BEGIN:DAYLIGHT
TZOFFSETFROM:+0100
TZOFFSETTO:+0200
TZNAME:CEST
DTSTART:20220327T010000
END:DAYLIGHT
BEGIN:STANDARD
TZOFFSETFROM:+0200
TZOFFSETTO:+0100
TZNAME:CET
DTSTART:20221030T010000
END:STANDARD
END:VTIMEZONE
BEGIN:VEVENT
DTSTART;TZID=Europe/Stockholm:20211003T130000
DTEND;TZID=Europe/Stockholm:20211003T134500
DTSTAMP:20260424T115348
CREATED:20210913T142624Z
LAST-MODIFIED:20210916T143748Z
UID:4162-1633266000-1633268700@brorhjorthshus.se
SUMMARY:Guidad visning: Tuija Lindström
DESCRIPTION:Guidad visning av utställningen Tuija Lindström – Strykjärnsprofessorn \nTuija Lindström (1950–2017) föddes i Kotka i Finland och kom till Sverige som 25-åring. Hon fick i början av 1990-talet stor uppmärksamhet för sviten Kvinnorna vid Tjursjön. Sviten består av fotografier av nakna kvinnor som flyter i en svart skogstjärn tillsammans med foton av undersidan av blodiga strykjärn. Här finns ljus och mörker\, mjukhet och hårdhet\, värme och kyla\, viktlöshet och tyngd. Strykjärnen anknyter till surrealismen\, men är också en tydlig referens till våld i hemmet. Lindströms bilder har ofta ett feministisk perspektiv. \nFrån det att Tuija Lindström slog igenom under 80-talet fram till hennes död var hon en central figur inom svenskt fotografi – först som stilbildande konstnär\, sedan som professor och mentor för en hel generation fotografer. Hennes inflytande på svensk fotokonst har varit avgörande. \nGratis. \nOBS! Max 15 personer. Först-till-kvarn. Anmäl dig till personalen i entrékassan när du kommer.
URL:https://brorhjorthshus.se/evenemang/guidad-visning-tuija-lindstrom/2021-10-03/
LOCATION:Bror Hjorths Hus\, Norbyvägen 26\, Uppsala\, 752 39\, SE
CATEGORIES:Visning
ATTACH;FMTTYPE=image/jpeg:https://brorhjorthshus.se/wp-content/uploads/2021/09/16_9_guidad_visning_tuija.jpg
END:VEVENT
END:VCALENDAR