BEGIN:VCALENDAR
VERSION:2.0
PRODID:-//Bror Hjorths Hus - ECPv6.15.20//NONSGML v1.0//EN
CALSCALE:GREGORIAN
METHOD:PUBLISH
X-ORIGINAL-URL:https://brorhjorthshus.se
X-WR-CALDESC:Händelser för Bror Hjorths Hus
REFRESH-INTERVAL;VALUE=DURATION:PT1H
X-Robots-Tag:noindex
X-PUBLISHED-TTL:PT1H
BEGIN:VTIMEZONE
TZID:Europe/Stockholm
BEGIN:DAYLIGHT
TZOFFSETFROM:+0100
TZOFFSETTO:+0200
TZNAME:CEST
DTSTART:20230326T010000
END:DAYLIGHT
BEGIN:STANDARD
TZOFFSETFROM:+0200
TZOFFSETTO:+0100
TZNAME:CET
DTSTART:20231029T010000
END:STANDARD
BEGIN:DAYLIGHT
TZOFFSETFROM:+0100
TZOFFSETTO:+0200
TZNAME:CEST
DTSTART:20240331T010000
END:DAYLIGHT
BEGIN:STANDARD
TZOFFSETFROM:+0200
TZOFFSETTO:+0100
TZNAME:CET
DTSTART:20241027T010000
END:STANDARD
BEGIN:DAYLIGHT
TZOFFSETFROM:+0100
TZOFFSETTO:+0200
TZNAME:CEST
DTSTART:20250330T010000
END:DAYLIGHT
BEGIN:STANDARD
TZOFFSETFROM:+0200
TZOFFSETTO:+0100
TZNAME:CET
DTSTART:20251026T010000
END:STANDARD
END:VTIMEZONE
BEGIN:VEVENT
DTSTART;TZID=Europe/Stockholm:20240914T130000
DTEND;TZID=Europe/Stockholm:20240914T133000
DTSTAMP:20260422T224944
CREATED:20240902T103558Z
LAST-MODIFIED:20240904T122540Z
UID:17131-1726318800-1726320600@brorhjorthshus.se
SUMMARY:Guidad visning med konstnären Catja Tonberg
DESCRIPTION:Konstnären Catja Tonberg\, Bror Hjorthföreningens teckningsstipendiat 2024\, visar själv sin utställning Växtvärk / Growing Pains. \nPassa på att titta på utställning och fråga konstnären om skapandet! \n– Människan har en önskan att indela både växter och människor i olika kategorier\, ofta på sätt som egentligen inte säger så mycket om den faktiska individen. Detta är utgångspunkten för mitt verk. Jag är intresserad av hur vi läser växterna som om de hade ett kön utifrån hur namngivaren tolkat deras utseende\, säger Tonberg. \nCatja Tonberg (född 1983) tog sin masterexamen i fri konst på HDK-Valand\, Göteborgs universitet\, i våras. Utställningen består huvudsakligen av teckningar\, men även några videoverk visas. I verket Queering the Flora tecknar hon av växter från boken Den nordiska floran med svart kol på vita väggar\, som på oskrivna sidor i en bok. Växterna avbildas större än konstnären själv\, för att poängtera deras egenvärde och ge dem plats i rummet. Namnen skalas bort och förblir i floran. Växterna i konstnärens verk är ofta sådana som getts namn med kvinnliga eller queera konnotationer. \nEn del av verket Queering the Flora lämnas öppet för en performativ komplettering. Under två dagar\, 13 september kl 12-16 och 14 september kl 12-19 september\, fortsätter konstnären att teckna inför publik i utställningen. Det finns då möjlighet att se hur fler växter växer fram på väggarna och att samtala med konstnären. \nFri entré
URL:https://brorhjorthshus.se/evenemang/guidad-visning-med-konstnaren-catja-tonberg-2024-09-14/2024-09-14/
LOCATION:Bror Hjorths Hus\, Norbyvägen 26\, Uppsala\, 752 39\, SE
CATEGORIES:Visning
ATTACH;FMTTYPE=image/jpeg:https://brorhjorthshus.se/wp-content/uploads/2024/09/kulturnatten_2024_Catja_Tonberg_visning.jpg
END:VEVENT
END:VCALENDAR