BEGIN:VCALENDAR
VERSION:2.0
PRODID:-//Bror Hjorths Hus - ECPv6.15.20//NONSGML v1.0//EN
CALSCALE:GREGORIAN
METHOD:PUBLISH
X-WR-CALNAME:Bror Hjorths Hus
X-ORIGINAL-URL:https://brorhjorthshus.se
X-WR-CALDESC:Händelser för Bror Hjorths Hus
REFRESH-INTERVAL;VALUE=DURATION:PT1H
X-Robots-Tag:noindex
X-PUBLISHED-TTL:PT1H
BEGIN:VTIMEZONE
TZID:Europe/Stockholm
BEGIN:DAYLIGHT
TZOFFSETFROM:+0100
TZOFFSETTO:+0200
TZNAME:CEST
DTSTART:20220327T010000
END:DAYLIGHT
BEGIN:STANDARD
TZOFFSETFROM:+0200
TZOFFSETTO:+0100
TZNAME:CET
DTSTART:20221030T010000
END:STANDARD
BEGIN:DAYLIGHT
TZOFFSETFROM:+0100
TZOFFSETTO:+0200
TZNAME:CEST
DTSTART:20230326T010000
END:DAYLIGHT
BEGIN:STANDARD
TZOFFSETFROM:+0200
TZOFFSETTO:+0100
TZNAME:CET
DTSTART:20231029T010000
END:STANDARD
BEGIN:DAYLIGHT
TZOFFSETFROM:+0100
TZOFFSETTO:+0200
TZNAME:CEST
DTSTART:20240331T010000
END:DAYLIGHT
BEGIN:STANDARD
TZOFFSETFROM:+0200
TZOFFSETTO:+0100
TZNAME:CET
DTSTART:20241027T010000
END:STANDARD
END:VTIMEZONE
BEGIN:VEVENT
DTSTART;TZID=Europe/Stockholm:20231226T130000
DTEND;TZID=Europe/Stockholm:20231226T134000
DTSTAMP:20260422T131143
CREATED:20231128T120244Z
LAST-MODIFIED:20231128T120244Z
UID:14247-1703595600-1703598000@brorhjorthshus.se
SUMMARY:Guidad visning: Lars Tunbjörk
DESCRIPTION:Guidad visning av utställningen med Lars Tunbjörks fotografier.\nVisningen är ca 40 min och gratis. \nLars Tunbjörks (1956-2015) skapade en helt egen fotografisk stil. Den genomsyrade alla hans bilder\, oavsett om det rörde sig om foton av hemstaden Borås\, det svenska landskapet och dess olika årstider\, kontorsmiljöer eller modeller i Paris. Med en säregen blick\, tålamod och passion dokumenterade han vardagen i skarp blixtbelysning. Hans sätt att se blev så kraftfullt att man talade om en ”tunbjörkare” som vore det en egen genre. \nLars Tunbjörks började som pressfotograf och 1982 fick han utmärkelsen Årets fotograf. Det stora genombrottet kom drygt tio år senare med fotoboken Landet utom sig – en både roande och oroande dokumentation av svensk vardag runt decennieskiftet 1990. Bilderna är skarpt avslöjande och ironiska\, men inte utan ömhet. Ett urval av dessa fotografier visas i utställningen. I serierna Home\, från slutet av 1990-talet och början av 2000-talet\, och den senare Vinter\, fortsatte Tunbjörk sitt utforskande av miljöer bortom det storslagna. \nLäs mer
URL:https://brorhjorthshus.se/evenemang/guidad-visning-lars-tunbjork-2/2023-12-26/
LOCATION:Bror Hjorths Hus\, Norbyvägen 26\, Uppsala\, 752 39\, SE
CATEGORIES:Visning
ATTACH;FMTTYPE=image/jpeg:https://brorhjorthshus.se/wp-content/uploads/2023/11/Guidad_visning_Lars_Tunbjork_231226.jpg
END:VEVENT
END:VCALENDAR