BEGIN:VCALENDAR
VERSION:2.0
PRODID:-//Bror Hjorths Hus - ECPv6.15.20//NONSGML v1.0//EN
CALSCALE:GREGORIAN
METHOD:PUBLISH
X-WR-CALNAME:Bror Hjorths Hus
X-ORIGINAL-URL:https://brorhjorthshus.se
X-WR-CALDESC:Händelser för Bror Hjorths Hus
REFRESH-INTERVAL;VALUE=DURATION:PT1H
X-Robots-Tag:noindex
X-PUBLISHED-TTL:PT1H
BEGIN:VTIMEZONE
TZID:Europe/Stockholm
BEGIN:DAYLIGHT
TZOFFSETFROM:+0100
TZOFFSETTO:+0200
TZNAME:CEST
DTSTART:20200329T010000
END:DAYLIGHT
BEGIN:STANDARD
TZOFFSETFROM:+0200
TZOFFSETTO:+0100
TZNAME:CET
DTSTART:20201025T010000
END:STANDARD
BEGIN:DAYLIGHT
TZOFFSETFROM:+0100
TZOFFSETTO:+0200
TZNAME:CEST
DTSTART:20210328T010000
END:DAYLIGHT
BEGIN:STANDARD
TZOFFSETFROM:+0200
TZOFFSETTO:+0100
TZNAME:CET
DTSTART:20211031T010000
END:STANDARD
BEGIN:DAYLIGHT
TZOFFSETFROM:+0100
TZOFFSETTO:+0200
TZNAME:CEST
DTSTART:20220327T010000
END:DAYLIGHT
BEGIN:STANDARD
TZOFFSETFROM:+0200
TZOFFSETTO:+0100
TZNAME:CET
DTSTART:20221030T010000
END:STANDARD
END:VTIMEZONE
BEGIN:VEVENT
DTSTART;TZID=Europe/Stockholm:20211205T130000
DTEND;TZID=Europe/Stockholm:20211205T134500
DTSTAMP:20260423T021411
CREATED:20211129T144641Z
LAST-MODIFIED:20211222T135640Z
UID:4570-1638709200-1638711900@brorhjorthshus.se
SUMMARY:Guidad visning: Konstsalong 70-tal
DESCRIPTION:Visningen börjar något efter utsatt klockslag. Följ guidens instruktioner för att hålla avstånd till andra besökare.\nGuidad visning av utställningen Konstsalong 70-tal – verk ur Galleri Kavalettens samling.\nVisningen är ca 45 min. \nKonstsalong 70-tal tar oss tillbaka till 1970-talet. Det var en omvälvande tid i samhället och konsten. Under denna tid och fram till mitten av 1990-talet låg i Uppsala ett livaktigt konstgalleri\, Kavaletten. Utställningen innehåller ett fyrtiotal verk av drygt trettio konstnärer\, bl a Lena Cronqvist\, Ilon Wikland\, Hans Wigert och Evert Lundquist\, och bjuder förhoppningsvis på både nostalgi och påminnelser från en tid då mycket såg annorlunda ut. Några konstnärer är fortfarande aktiva\, andra har sedan länge gått ur tiden. Utställningen består av en sammanhållen samling av konst från 1970-talet och erbjuder ett sätt att återstifta bekantskapen med eller nyupptäcka en tid full av politiskt engagemang\, ett samhälle i förvandling och samtidigt fundera på hur det egentligen blivit. \nVisningen ingår i entrébiljetten.
URL:https://brorhjorthshus.se/evenemang/guidad-visning-konstsalong-70-tal/2021-12-05/
LOCATION:Bror Hjorths Hus\, Norbyvägen 26\, Uppsala\, 752 39\, SE
CATEGORIES:Visning
ATTACH;FMTTYPE=image/jpeg:https://brorhjorthshus.se/wp-content/uploads/2021/12/16_9_visning_70tal.jpg
END:VEVENT
END:VCALENDAR