BEGIN:VCALENDAR
VERSION:2.0
PRODID:-//Bror Hjorths Hus - ECPv6.15.20//NONSGML v1.0//EN
CALSCALE:GREGORIAN
METHOD:PUBLISH
X-ORIGINAL-URL:https://brorhjorthshus.se
X-WR-CALDESC:Händelser för Bror Hjorths Hus
REFRESH-INTERVAL;VALUE=DURATION:PT1H
X-Robots-Tag:noindex
X-PUBLISHED-TTL:PT1H
BEGIN:VTIMEZONE
TZID:Europe/Stockholm
BEGIN:DAYLIGHT
TZOFFSETFROM:+0100
TZOFFSETTO:+0200
TZNAME:CEST
DTSTART:20210328T010000
END:DAYLIGHT
BEGIN:STANDARD
TZOFFSETFROM:+0200
TZOFFSETTO:+0100
TZNAME:CET
DTSTART:20211031T010000
END:STANDARD
BEGIN:DAYLIGHT
TZOFFSETFROM:+0100
TZOFFSETTO:+0200
TZNAME:CEST
DTSTART:20220327T010000
END:DAYLIGHT
BEGIN:STANDARD
TZOFFSETFROM:+0200
TZOFFSETTO:+0100
TZNAME:CET
DTSTART:20221030T010000
END:STANDARD
BEGIN:DAYLIGHT
TZOFFSETFROM:+0100
TZOFFSETTO:+0200
TZNAME:CEST
DTSTART:20230326T010000
END:DAYLIGHT
BEGIN:STANDARD
TZOFFSETFROM:+0200
TZOFFSETTO:+0100
TZNAME:CET
DTSTART:20231029T010000
END:STANDARD
END:VTIMEZONE
BEGIN:VEVENT
DTSTART;TZID=Europe/Stockholm:20221016T130000
DTEND;TZID=Europe/Stockholm:20221016T134500
DTSTAMP:20260423T064833
CREATED:20221003T110436Z
LAST-MODIFIED:20221003T110436Z
UID:5700-1665925200-1665927900@brorhjorthshus.se
SUMMARY:Guidad visning: Jonas Liveröd
DESCRIPTION:Guidad visning av Jonas Liveröds utställning Händelsen\nVisningen är ca 30-40 min och gratis. \nJonas Liveröd – Händelsen\n\nKonstnären Jonas Liveröd beskriver sig som djupt materialotrogen och i sitt arbete utforskar han ständigt nya material\, metoder och idéer. I sin utställning har han fokuserat på skulptur för att komma i en närmare dialog med husets anda. Han talar själv om spår och släktskap med Bror Hjorths konstnärskap i sina skulpturer under senare år\, inte minst har trä som material kommit att ta en allt större plats.
URL:https://brorhjorthshus.se/evenemang/guidad-visning-jonas-liverod/2022-10-16/
LOCATION:Bror Hjorths Hus\, Norbyvägen 26\, Uppsala\, 752 39\, SE
CATEGORIES:Visning
ATTACH;FMTTYPE=image/jpeg:https://brorhjorthshus.se/wp-content/uploads/2022/10/Guidad_visning_Liverod_16_9.jpg
END:VEVENT
END:VCALENDAR