BEGIN:VCALENDAR
VERSION:2.0
PRODID:-//Bror Hjorths Hus - ECPv6.15.20//NONSGML v1.0//EN
CALSCALE:GREGORIAN
METHOD:PUBLISH
X-ORIGINAL-URL:https://brorhjorthshus.se
X-WR-CALDESC:Händelser för Bror Hjorths Hus
REFRESH-INTERVAL;VALUE=DURATION:PT1H
X-Robots-Tag:noindex
X-PUBLISHED-TTL:PT1H
BEGIN:VTIMEZONE
TZID:Europe/Stockholm
BEGIN:DAYLIGHT
TZOFFSETFROM:+0100
TZOFFSETTO:+0200
TZNAME:CEST
DTSTART:20210328T010000
END:DAYLIGHT
BEGIN:STANDARD
TZOFFSETFROM:+0200
TZOFFSETTO:+0100
TZNAME:CET
DTSTART:20211031T010000
END:STANDARD
BEGIN:DAYLIGHT
TZOFFSETFROM:+0100
TZOFFSETTO:+0200
TZNAME:CEST
DTSTART:20220327T010000
END:DAYLIGHT
BEGIN:STANDARD
TZOFFSETFROM:+0200
TZOFFSETTO:+0100
TZNAME:CET
DTSTART:20221030T010000
END:STANDARD
BEGIN:DAYLIGHT
TZOFFSETFROM:+0100
TZOFFSETTO:+0200
TZNAME:CEST
DTSTART:20230326T010000
END:DAYLIGHT
BEGIN:STANDARD
TZOFFSETFROM:+0200
TZOFFSETTO:+0100
TZNAME:CET
DTSTART:20231029T010000
END:STANDARD
END:VTIMEZONE
BEGIN:VEVENT
DTSTART;TZID=Europe/Stockholm:20220911T130000
DTEND;TZID=Europe/Stockholm:20220911T133000
DTSTAMP:20260423T051713
CREATED:20220913T165401Z
LAST-MODIFIED:20220913T170151Z
UID:5641-1662901200-1662903000@brorhjorthshus.se
SUMMARY:Guidad visning: Hugo Hernqvist
DESCRIPTION:Guidad visning av utställningen med Hugo Hernqvist\, Bror Hjorthföreningens teckningsstipendiat 2022.\nVisningen är ca 20-30 min och gratis. \nHugo Hernqvist – Sökord\nBror Hjorthföreningens teckningsstipendiat 2022 \n\nHugo Hernqvist\, mottagare av Bror Hjorthföreningens teckningsstipendium 2022\, utbildar sig på HDK-Valand i Göteborg. Han samlar på bilder från fotoalbum och digitala bildarkiv och i teckningarna syns många åkrar\, hus och pilträd från den skånska landsbygden. \n\n”Det finns något skönt avskalat med att teckna med grafit på papper. Jag skissar aldrig utan börjar i en ände av bilden och tecknar slumpmässigt vidare. Jag tycker om att titta noga på någonting och sedan själv bli överraskad av bilden jag tecknat.”\nBror Hjorthföreningens teckningsstipendium är avsett att uppmuntra lovande unga tecknare vid landets konsthögskolor och Konstfack. Ett syfte med stipendiet är också att framhäva teckningens betydelse för Bror Hjorth och som självständigt konstnärligt uttrycksmedel\, samt påminna om Bror Hjorths gärning som professor i teckning vid Konstakademien.\n 
URL:https://brorhjorthshus.se/evenemang/guidad-visning-hugo-hernqvist/2022-09-11/
LOCATION:Bror Hjorths Hus\, Norbyvägen 26\, Uppsala\, 752 39\, SE
CATEGORIES:Visning
ATTACH;FMTTYPE=image/jpeg:https://brorhjorthshus.se/wp-content/uploads/2022/09/16_9_visning_Hugo_Hernqvist-1.jpg
END:VEVENT
END:VCALENDAR