BEGIN:VCALENDAR
VERSION:2.0
PRODID:-//Bror Hjorths Hus - ECPv6.15.20//NONSGML v1.0//EN
CALSCALE:GREGORIAN
METHOD:PUBLISH
X-ORIGINAL-URL:https://brorhjorthshus.se
X-WR-CALDESC:Händelser för Bror Hjorths Hus
REFRESH-INTERVAL;VALUE=DURATION:PT1H
X-Robots-Tag:noindex
X-PUBLISHED-TTL:PT1H
BEGIN:VTIMEZONE
TZID:Europe/Stockholm
BEGIN:DAYLIGHT
TZOFFSETFROM:+0100
TZOFFSETTO:+0200
TZNAME:CEST
DTSTART:20210328T010000
END:DAYLIGHT
BEGIN:STANDARD
TZOFFSETFROM:+0200
TZOFFSETTO:+0100
TZNAME:CET
DTSTART:20211031T010000
END:STANDARD
BEGIN:DAYLIGHT
TZOFFSETFROM:+0100
TZOFFSETTO:+0200
TZNAME:CEST
DTSTART:20220327T010000
END:DAYLIGHT
BEGIN:STANDARD
TZOFFSETFROM:+0200
TZOFFSETTO:+0100
TZNAME:CET
DTSTART:20221030T010000
END:STANDARD
BEGIN:DAYLIGHT
TZOFFSETFROM:+0100
TZOFFSETTO:+0200
TZNAME:CEST
DTSTART:20230326T010000
END:DAYLIGHT
BEGIN:STANDARD
TZOFFSETFROM:+0200
TZOFFSETTO:+0100
TZNAME:CET
DTSTART:20231029T010000
END:STANDARD
END:VTIMEZONE
BEGIN:VEVENT
DTSTART;TZID=Europe/Stockholm:20220915T140000
DTEND;TZID=Europe/Stockholm:20220915T144500
DTSTAMP:20260423T051727
CREATED:20220913T170118Z
LAST-MODIFIED:20220913T170118Z
UID:5647-1663250400-1663253100@brorhjorthshus.se
SUMMARY:Guidad visning: Hugo Hernqvist / Bror Hjorth
DESCRIPTION:Kombinerad visning av utställningen med Hugo Hernqvist\, Bror Hjorthföreningens teckningsstipendiat 2022 och Bror Hjorth konst och hem. \n\nVisningen är ca 45 min och gratis.\n\nVi börjar i konsthallen med en introducerande visning av den aktuella utställningen. Därefter fortsätter vi in i Bror Hjorths hem och ateljé och tittar på konstverk i olika material och tekniker från hela Bror Hjorths konstnärskap och berättar om hans liv genom bilderna.
URL:https://brorhjorthshus.se/evenemang/guidad-visning-hugo-hernqvist-bror-hjorth/2022-09-15/
LOCATION:Bror Hjorths Hus\, Norbyvägen 26\, Uppsala\, 752 39\, SE
CATEGORIES:Visning
ATTACH;FMTTYPE=image/jpeg:https://brorhjorthshus.se/wp-content/uploads/2022/09/16_9_Hugo_BH-1.jpg
END:VEVENT
END:VCALENDAR