BEGIN:VCALENDAR
VERSION:2.0
PRODID:-//Bror Hjorths Hus - ECPv6.15.20//NONSGML v1.0//EN
CALSCALE:GREGORIAN
METHOD:PUBLISH
X-ORIGINAL-URL:https://brorhjorthshus.se
X-WR-CALDESC:Händelser för Bror Hjorths Hus
REFRESH-INTERVAL;VALUE=DURATION:PT1H
X-Robots-Tag:noindex
X-PUBLISHED-TTL:PT1H
BEGIN:VTIMEZONE
TZID:Europe/Stockholm
BEGIN:DAYLIGHT
TZOFFSETFROM:+0100
TZOFFSETTO:+0200
TZNAME:CEST
DTSTART:20180325T010000
END:DAYLIGHT
BEGIN:STANDARD
TZOFFSETFROM:+0200
TZOFFSETTO:+0100
TZNAME:CET
DTSTART:20181028T010000
END:STANDARD
BEGIN:DAYLIGHT
TZOFFSETFROM:+0100
TZOFFSETTO:+0200
TZNAME:CEST
DTSTART:20190331T010000
END:DAYLIGHT
BEGIN:STANDARD
TZOFFSETFROM:+0200
TZOFFSETTO:+0100
TZNAME:CET
DTSTART:20191027T010000
END:STANDARD
BEGIN:DAYLIGHT
TZOFFSETFROM:+0100
TZOFFSETTO:+0200
TZNAME:CEST
DTSTART:20200329T010000
END:DAYLIGHT
BEGIN:STANDARD
TZOFFSETFROM:+0200
TZOFFSETTO:+0100
TZNAME:CET
DTSTART:20201025T010000
END:STANDARD
END:VTIMEZONE
BEGIN:VEVENT
DTSTART;TZID=Europe/Stockholm:20191229T130000
DTEND;TZID=Europe/Stockholm:20191229T140000
DTSTAMP:20260423T002525
CREATED:20191227T121501Z
LAST-MODIFIED:20191227T121501Z
UID:2853-1577624400-1577628000@brorhjorthshus.se
SUMMARY:Guidad visning : Hanna Beling
DESCRIPTION:Guidad visning av Hanna Belings utställning Öga mot öga. \nI Hanna Belings utställning på Bror Hjorths Hus i Uppsala ställs vi både bokstavligt och bildligt öga mot öga med hennes skulpturer. De avbildade djuren och människorna är ibland så sköra och till synes hjälplösa att en kan tro de ska falla sönder av bara en blick. Samtidigt kan de utstråla en oanad styrka\, en vilja att gå framåt i en osäker värld. Tolkningen ligger kanske i både betraktarens och skulpturens ögon. \nHanna Beling är född 1972 och uppvuxen i Uppsala. Utställningen ”Öga mot Öga” är hennes hittills största i hemstaden.
URL:https://brorhjorthshus.se/evenemang/guidad-visning-hanna-beling/2019-12-29/
LOCATION:Bror Hjorths Hus\, Norbyvägen 26\, Uppsala\, 752 39\, SE
CATEGORIES:Visning
ATTACH;FMTTYPE=image/jpeg:https://brorhjorthshus.se/wp-content/uploads/2019/11/facebook_event_hanna_beling_2.jpg
END:VEVENT
END:VCALENDAR