BEGIN:VCALENDAR
VERSION:2.0
PRODID:-//Bror Hjorths Hus - ECPv6.15.20//NONSGML v1.0//EN
CALSCALE:GREGORIAN
METHOD:PUBLISH
X-WR-CALNAME:Bror Hjorths Hus
X-ORIGINAL-URL:https://brorhjorthshus.se
X-WR-CALDESC:Händelser för Bror Hjorths Hus
REFRESH-INTERVAL;VALUE=DURATION:PT1H
X-Robots-Tag:noindex
X-PUBLISHED-TTL:PT1H
BEGIN:VTIMEZONE
TZID:Europe/Stockholm
BEGIN:DAYLIGHT
TZOFFSETFROM:+0100
TZOFFSETTO:+0200
TZNAME:CEST
DTSTART:20180325T010000
END:DAYLIGHT
BEGIN:STANDARD
TZOFFSETFROM:+0200
TZOFFSETTO:+0100
TZNAME:CET
DTSTART:20181028T010000
END:STANDARD
BEGIN:DAYLIGHT
TZOFFSETFROM:+0100
TZOFFSETTO:+0200
TZNAME:CEST
DTSTART:20190331T010000
END:DAYLIGHT
BEGIN:STANDARD
TZOFFSETFROM:+0200
TZOFFSETTO:+0100
TZNAME:CET
DTSTART:20191027T010000
END:STANDARD
BEGIN:DAYLIGHT
TZOFFSETFROM:+0100
TZOFFSETTO:+0200
TZNAME:CEST
DTSTART:20200329T010000
END:DAYLIGHT
BEGIN:STANDARD
TZOFFSETFROM:+0200
TZOFFSETTO:+0100
TZNAME:CET
DTSTART:20201025T010000
END:STANDARD
END:VTIMEZONE
BEGIN:VEVENT
DTSTART;TZID=Europe/Stockholm:20191024T140000
DTEND;TZID=Europe/Stockholm:20191024T150000
DTSTAMP:20260423T002504
CREATED:20190821T150840Z
LAST-MODIFIED:20190821T150841Z
UID:2653-1571925600-1571929200@brorhjorthshus.se
SUMMARY:Guidad visning : EKFRAS/Hjorth
DESCRIPTION:Kombinerad visning av utställningen EKFRAS och Bror Hjorth konst och hem. \nVi börjar i konsthallen med en visning av utställningen EKFRAS med Juri Markkulas reliefer och Erik Vernerssons poesi och fortsätter sedan in i Bror Hjorths hem och ateljé. Vi tittar på konstverk i olika material och tekniker från hela Bror Hjorths konstnärskap och berättar om hans liv genom bilderna.
URL:https://brorhjorthshus.se/evenemang/guidad-visning-ekfras-hjorth/2019-10-24/
LOCATION:Bror Hjorths Hus\, Norbyvägen 26\, Uppsala\, 752 39\, SE
CATEGORIES:Visning
END:VEVENT
END:VCALENDAR