BEGIN:VCALENDAR
VERSION:2.0
PRODID:-//Bror Hjorths Hus - ECPv6.15.20//NONSGML v1.0//EN
CALSCALE:GREGORIAN
METHOD:PUBLISH
X-ORIGINAL-URL:https://brorhjorthshus.se
X-WR-CALDESC:Händelser för Bror Hjorths Hus
REFRESH-INTERVAL;VALUE=DURATION:PT1H
X-Robots-Tag:noindex
X-PUBLISHED-TTL:PT1H
BEGIN:VTIMEZONE
TZID:Europe/Stockholm
BEGIN:DAYLIGHT
TZOFFSETFROM:+0100
TZOFFSETTO:+0200
TZNAME:CEST
DTSTART:20180325T010000
END:DAYLIGHT
BEGIN:STANDARD
TZOFFSETFROM:+0200
TZOFFSETTO:+0100
TZNAME:CET
DTSTART:20181028T010000
END:STANDARD
BEGIN:DAYLIGHT
TZOFFSETFROM:+0100
TZOFFSETTO:+0200
TZNAME:CEST
DTSTART:20190331T010000
END:DAYLIGHT
BEGIN:STANDARD
TZOFFSETFROM:+0200
TZOFFSETTO:+0100
TZNAME:CET
DTSTART:20191027T010000
END:STANDARD
BEGIN:DAYLIGHT
TZOFFSETFROM:+0100
TZOFFSETTO:+0200
TZNAME:CEST
DTSTART:20200329T010000
END:DAYLIGHT
BEGIN:STANDARD
TZOFFSETFROM:+0200
TZOFFSETTO:+0100
TZNAME:CET
DTSTART:20201025T010000
END:STANDARD
END:VTIMEZONE
BEGIN:VEVENT
DTSTART;TZID=Europe/Stockholm:20190905T140000
DTEND;TZID=Europe/Stockholm:20190905T150000
DTSTAMP:20260423T002647
CREATED:20190812T151032Z
LAST-MODIFIED:20190812T151032Z
UID:2619-1567692000-1567695600@brorhjorthshus.se
SUMMARY:Guidad visning : Brusewitz/Hjorth
DESCRIPTION:Kombinerad visning av Björn Brusewitz utställning och Bror Hjorth konst och hem. \nVi börjar i konsthallen med en visning av den aktuella utställningen med Björn Brusewitz grafik och skulpturer och fortsätter sedan in i Bror Hjorths hem och ateljé. Vi tittar på konstverk i olika material och tekniker från hela Bror Hjorths konstnärskap och berättar om hans liv genom bilderna.
URL:https://brorhjorthshus.se/evenemang/guidad-visning-brusewitz-hjorth/2019-09-05/
LOCATION:Bror Hjorths Hus\, Norbyvägen 26\, Uppsala\, 752 39\, SE
CATEGORIES:Visning
ATTACH;FMTTYPE=image/jpeg:https://brorhjorthshus.se/wp-content/uploads/2019/08/facebook_event_brusewitz_hjorth.jpg
END:VEVENT
END:VCALENDAR