BEGIN:VCALENDAR
VERSION:2.0
PRODID:-//Bror Hjorths Hus - ECPv6.15.20//NONSGML v1.0//EN
CALSCALE:GREGORIAN
METHOD:PUBLISH
X-ORIGINAL-URL:https://brorhjorthshus.se
X-WR-CALDESC:Händelser för Bror Hjorths Hus
REFRESH-INTERVAL;VALUE=DURATION:PT1H
X-Robots-Tag:noindex
X-PUBLISHED-TTL:PT1H
BEGIN:VTIMEZONE
TZID:Europe/Stockholm
BEGIN:DAYLIGHT
TZOFFSETFROM:+0100
TZOFFSETTO:+0200
TZNAME:CEST
DTSTART:20170326T010000
END:DAYLIGHT
BEGIN:STANDARD
TZOFFSETFROM:+0200
TZOFFSETTO:+0100
TZNAME:CET
DTSTART:20171029T010000
END:STANDARD
BEGIN:DAYLIGHT
TZOFFSETFROM:+0100
TZOFFSETTO:+0200
TZNAME:CEST
DTSTART:20180325T010000
END:DAYLIGHT
BEGIN:STANDARD
TZOFFSETFROM:+0200
TZOFFSETTO:+0100
TZNAME:CET
DTSTART:20181028T010000
END:STANDARD
BEGIN:DAYLIGHT
TZOFFSETFROM:+0100
TZOFFSETTO:+0200
TZNAME:CEST
DTSTART:20190331T010000
END:DAYLIGHT
BEGIN:STANDARD
TZOFFSETFROM:+0200
TZOFFSETTO:+0100
TZNAME:CET
DTSTART:20191027T010000
END:STANDARD
END:VTIMEZONE
BEGIN:VEVENT
DTSTART;TZID=Europe/Stockholm:20181202T140000
DTEND;TZID=Europe/Stockholm:20181202T150000
DTSTAMP:20260423T154240
CREATED:20181130T100536Z
LAST-MODIFIED:20181210T143719Z
UID:1837-1543759200-1543762800@brorhjorthshus.se
SUMMARY:Guidad visning: Bror Hjorth och musiken
DESCRIPTION:Guidad visning av utställningen Bror Hjorth och musiken\, samt en introduktion i Bror Hjorths hem och ateljé.\n2019 är det 125 år sedan Bror Hjorth föddes och 2018 är det 50 år sedan han dog. Vid nyår för 75 år sedan stod huset på Norbyvägen färdigt och familjen Hjorth flyttade in och för 40 år sedan öppnades Bror Hjorths Hus för allmänheten som museum. Allt detta uppmärksammar vi med denna utställning fylld av konst och musik.
URL:https://brorhjorthshus.se/evenemang/guidad-visning-bror-hjorth-och-musiken/2018-12-02/
LOCATION:Bror Hjorths Hus\, Norbyvägen 26\, Uppsala\, Uppland\, 752 39\, Sverige
CATEGORIES:Visning
ATTACH;FMTTYPE=image/jpeg:https://brorhjorthshus.se/wp-content/uploads/2018/11/facebook_event_bh_musiken_fiolisten_green-e1543572319803.jpg
ORGANIZER;CN="Bror Hjorths Hus":MAILTO:info@brorhjorthshus.se
END:VEVENT
END:VCALENDAR