BEGIN:VCALENDAR
VERSION:2.0
PRODID:-//Bror Hjorths Hus - ECPv6.15.20//NONSGML v1.0//EN
CALSCALE:GREGORIAN
METHOD:PUBLISH
X-ORIGINAL-URL:https://brorhjorthshus.se
X-WR-CALDESC:Händelser för Bror Hjorths Hus
REFRESH-INTERVAL;VALUE=DURATION:PT1H
X-Robots-Tag:noindex
X-PUBLISHED-TTL:PT1H
BEGIN:VTIMEZONE
TZID:Europe/Stockholm
BEGIN:DAYLIGHT
TZOFFSETFROM:+0100
TZOFFSETTO:+0200
TZNAME:CEST
DTSTART:20230326T010000
END:DAYLIGHT
BEGIN:STANDARD
TZOFFSETFROM:+0200
TZOFFSETTO:+0100
TZNAME:CET
DTSTART:20231029T010000
END:STANDARD
BEGIN:DAYLIGHT
TZOFFSETFROM:+0100
TZOFFSETTO:+0200
TZNAME:CEST
DTSTART:20240331T010000
END:DAYLIGHT
BEGIN:STANDARD
TZOFFSETFROM:+0200
TZOFFSETTO:+0100
TZNAME:CET
DTSTART:20241027T010000
END:STANDARD
BEGIN:DAYLIGHT
TZOFFSETFROM:+0100
TZOFFSETTO:+0200
TZNAME:CEST
DTSTART:20250330T010000
END:DAYLIGHT
BEGIN:STANDARD
TZOFFSETFROM:+0200
TZOFFSETTO:+0100
TZNAME:CET
DTSTART:20251026T010000
END:STANDARD
END:VTIMEZONE
BEGIN:VEVENT
DTSTART;TZID=Europe/Stockholm:20240830T140000
DTEND;TZID=Europe/Stockholm:20240830T150000
DTSTAMP:20260421T214813
CREATED:20240603T152527Z
LAST-MODIFIED:20240603T152527Z
UID:16705-1725026400-1725030000@brorhjorthshus.se
SUMMARY:Guidad visning: Berta Hansson / Bror Hjorth
DESCRIPTION:Kombinerad visning av utställning Berta Hansson – Den brinnande lågan och Bror Hjorth konst och hem.\nVisningen är ca 50 min och gratis. \nVi börjar i konsthallen med en introducerande visning av den aktuella utställningen med Berta Hansson. Utställning sträcker sig från Berta Hanssons (1910-1994) första bilder av skolbarn i Fredrika till hennes allra sista målning med en vit fågel mot en mörk bakgrund. Utställningens tyngdpunkt ligger i måleri\, men innehåller även skulptur\, textil och teckningar\, föreställande skolbarn\, landskap\, fåglar\, porträtt och religiösa motiv. \nDärefter fortsätter vi in i Bror Hjorths hem och ateljé och tittar på konstverk i olika material och tekniker från hela Bror Hjorths (1894-1968) konstnärskap och berättar om hans liv genom bilderna.
URL:https://brorhjorthshus.se/evenemang/guidad-visning-berta-hansson-bror-hjorth/2024-08-30/
LOCATION:Bror Hjorths Hus\, Norbyvägen 26\, Uppsala\, 752 39\, SE
CATEGORIES:Visning
ATTACH;FMTTYPE=image/jpeg:https://brorhjorthshus.se/wp-content/uploads/2024/06/Visning_Hansson_Hjorth_tors_fre_14.jpg
END:VEVENT
BEGIN:VEVENT
DTSTART;TZID=Europe/Stockholm:20240829T140000
DTEND;TZID=Europe/Stockholm:20240829T150000
DTSTAMP:20260421T214813
CREATED:20240603T152527Z
LAST-MODIFIED:20240603T152527Z
UID:16703-1724940000-1724943600@brorhjorthshus.se
SUMMARY:Guidad visning: Berta Hansson / Bror Hjorth
DESCRIPTION:Kombinerad visning av utställning Berta Hansson – Den brinnande lågan och Bror Hjorth konst och hem.\nVisningen är ca 50 min och gratis. \nVi börjar i konsthallen med en introducerande visning av den aktuella utställningen med Berta Hansson. Utställning sträcker sig från Berta Hanssons (1910-1994) första bilder av skolbarn i Fredrika till hennes allra sista målning med en vit fågel mot en mörk bakgrund. Utställningens tyngdpunkt ligger i måleri\, men innehåller även skulptur\, textil och teckningar\, föreställande skolbarn\, landskap\, fåglar\, porträtt och religiösa motiv. \nDärefter fortsätter vi in i Bror Hjorths hem och ateljé och tittar på konstverk i olika material och tekniker från hela Bror Hjorths (1894-1968) konstnärskap och berättar om hans liv genom bilderna.
URL:https://brorhjorthshus.se/evenemang/guidad-visning-berta-hansson-bror-hjorth/2024-08-29/
LOCATION:Bror Hjorths Hus\, Norbyvägen 26\, Uppsala\, 752 39\, SE
CATEGORIES:Visning
ATTACH;FMTTYPE=image/jpeg:https://brorhjorthshus.se/wp-content/uploads/2024/06/Visning_Hansson_Hjorth_tors_fre_14.jpg
END:VEVENT
END:VCALENDAR