BEGIN:VCALENDAR
VERSION:2.0
PRODID:-//Bror Hjorths Hus - ECPv6.15.20//NONSGML v1.0//EN
CALSCALE:GREGORIAN
METHOD:PUBLISH
X-ORIGINAL-URL:https://brorhjorthshus.se
X-WR-CALDESC:Händelser för Bror Hjorths Hus
REFRESH-INTERVAL;VALUE=DURATION:PT1H
X-Robots-Tag:noindex
X-PUBLISHED-TTL:PT1H
BEGIN:VTIMEZONE
TZID:Europe/Stockholm
BEGIN:DAYLIGHT
TZOFFSETFROM:+0100
TZOFFSETTO:+0200
TZNAME:CEST
DTSTART:20180325T010000
END:DAYLIGHT
BEGIN:STANDARD
TZOFFSETFROM:+0200
TZOFFSETTO:+0100
TZNAME:CET
DTSTART:20181028T010000
END:STANDARD
BEGIN:DAYLIGHT
TZOFFSETFROM:+0100
TZOFFSETTO:+0200
TZNAME:CEST
DTSTART:20190331T010000
END:DAYLIGHT
BEGIN:STANDARD
TZOFFSETFROM:+0200
TZOFFSETTO:+0100
TZNAME:CET
DTSTART:20191027T010000
END:STANDARD
BEGIN:DAYLIGHT
TZOFFSETFROM:+0100
TZOFFSETTO:+0200
TZNAME:CEST
DTSTART:20200329T010000
END:DAYLIGHT
BEGIN:STANDARD
TZOFFSETFROM:+0200
TZOFFSETTO:+0100
TZNAME:CET
DTSTART:20201025T010000
END:STANDARD
END:VTIMEZONE
BEGIN:VEVENT
DTSTART;TZID=Europe/Stockholm:20190131T121500
DTEND;TZID=Europe/Stockholm:20190131T151500
DTSTAMP:20260423T113142
CREATED:20181130T104748Z
LAST-MODIFIED:20190131T105303Z
UID:2008-1548936900-1548947700@brorhjorthshus.se
SUMMARY:Filmer om Bror Hjorth och Hjort Anders
DESCRIPTION:Under utställningen Bror Hjorth och musiken visar vi film varje öppetdag.\nGöran Gunérs film om Bror Hjorth är en fin introduktion till konstnärskapet.\nI Karsten Wedels film med Bror Hjorth får vi se och höra konstnären berätta själv.\nI Karsten Wedels film om Hjort Anders hör vi Ole Hjorth prata med flera spelmän om Hjort Anders. \nFilmerna visas i teckningsrummet.\nFilmprogram under utställningen Bror Hjorth och musiken\nkl 12.15 Göran Gunérs film om Bror Hjorth (30 min\, eng text)\nkl 12.45 Karsten Wedels film med Bror Hjorth (15 min\, eng text)\nkl 13.00 Karsten Wedels film om Hjort Anders (30 min\, otextad)\nkl 13.30 Karsten Wedels film med Bror Hjorth (15 min\, eng text)\nkl 13.45 Göran Gunérs film om Bror Hjorth (30 min\, eng text)\nkl 14.15 Karsten Wedels film med Bror Hjorth (15 min\, eng text)\nkl 14.30 Göran Gunérs film om Bror Hjorth (30 min\, eng text)\nkl 15.00 Karsten Wedels film med Bror Hjorth (15 min\, eng text)
URL:https://brorhjorthshus.se/evenemang/filmer-om-bror-hjorth-och-hjort-anders-2019-01-26/2019-01-31/
LOCATION:Bror Hjorths Hus\, Norbyvägen 26\, Uppsala\, Uppland\, 752 39\, Sverige
CATEGORIES:Visning
ATTACH;FMTTYPE=image/jpeg:https://brorhjorthshus.se/wp-content/uploads/2018/11/facebook_event_film_bror_hjorth_2018.jpg
ORGANIZER;CN="Bror Hjorths Hus":MAILTO:info@brorhjorthshus.se
END:VEVENT
END:VCALENDAR