BEGIN:VCALENDAR
VERSION:2.0
PRODID:-//Bror Hjorths Hus - ECPv6.15.20//NONSGML v1.0//EN
CALSCALE:GREGORIAN
METHOD:PUBLISH
X-WR-CALNAME:Bror Hjorths Hus
X-ORIGINAL-URL:https://brorhjorthshus.se
X-WR-CALDESC:Händelser för Bror Hjorths Hus
REFRESH-INTERVAL;VALUE=DURATION:PT1H
X-Robots-Tag:noindex
X-PUBLISHED-TTL:PT1H
BEGIN:VTIMEZONE
TZID:Europe/Stockholm
BEGIN:DAYLIGHT
TZOFFSETFROM:+0100
TZOFFSETTO:+0200
TZNAME:CEST
DTSTART:20220327T010000
END:DAYLIGHT
BEGIN:STANDARD
TZOFFSETFROM:+0200
TZOFFSETTO:+0100
TZNAME:CET
DTSTART:20221030T010000
END:STANDARD
BEGIN:DAYLIGHT
TZOFFSETFROM:+0100
TZOFFSETTO:+0200
TZNAME:CEST
DTSTART:20230326T010000
END:DAYLIGHT
BEGIN:STANDARD
TZOFFSETFROM:+0200
TZOFFSETTO:+0100
TZNAME:CET
DTSTART:20231029T010000
END:STANDARD
BEGIN:DAYLIGHT
TZOFFSETFROM:+0100
TZOFFSETTO:+0200
TZNAME:CEST
DTSTART:20240331T010000
END:DAYLIGHT
BEGIN:STANDARD
TZOFFSETFROM:+0200
TZOFFSETTO:+0100
TZNAME:CET
DTSTART:20241027T010000
END:STANDARD
END:VTIMEZONE
BEGIN:VEVENT
DTSTART;TZID=Europe/Stockholm:20231102T141500
DTEND;TZID=Europe/Stockholm:20231102T153000
DTSTAMP:20260421T201639
CREATED:20230914T114641Z
LAST-MODIFIED:20230914T114641Z
UID:10554-1698934500-1698939000@brorhjorthshus.se
SUMMARY:Familjevisning med verkstad: Måleri
DESCRIPTION:Familjevisning med skapande verkstad\när ett trevligt sätt för hela familjen att uppleva museet och att prova en konstnärlig teknik. \nVi tittar först kort på Hertha Hansons utställning med abstrakta målningar.\nDärefter går vi till museets verkstad för att måla med hjälp av skrapa\, svamp och penslar.\nVerkstaden leds av en konstpedagog som hjälper dig att komma igång. Inga förkunskaper krävs. \nFamiljevisning med skapande verkstad är tänkt för barn tillsammans med en vuxen.\nLämpligt från 4 år och uppåt. \nTorsdag\, fredag och söndag 2-3 och 5 november – Måleri \nkl 12.30-13.45 och kl 14.15-15.30 \nBiljetter\nBegränsat antal platser. Max 15 personer (inkl vuxna) per tillfälle.\nFamiljevisning kostar 40 kr/verkstadsdeltagare.\nBiljetter köps via Tickster eller i museet under öppettid (släpps 2 oktober).\nObs! Museets verkstad ligger i källaren en trappa ned. Ingen hiss eller ramp finns.
URL:https://brorhjorthshus.se/evenemang/familjevisning-med-verkstad-maleri-3/2023-11-02/
LOCATION:Bror Hjorths Hus\, Norbyvägen 26\, Uppsala\, 752 39\, SE
CATEGORIES:Barn & Familj,Verkstad/kurs,Visning
ATTACH;FMTTYPE=image/jpeg:https://brorhjorthshus.se/wp-content/uploads/2023/09/Familjevisning_2nov_14_16_9.jpg
END:VEVENT
END:VCALENDAR