BEGIN:VCALENDAR
VERSION:2.0
PRODID:-//Bror Hjorths Hus - ECPv6.15.20//NONSGML v1.0//EN
CALSCALE:GREGORIAN
METHOD:PUBLISH
X-WR-CALNAME:Bror Hjorths Hus
X-ORIGINAL-URL:https://brorhjorthshus.se
X-WR-CALDESC:Händelser för Bror Hjorths Hus
REFRESH-INTERVAL;VALUE=DURATION:PT1H
X-Robots-Tag:noindex
X-PUBLISHED-TTL:PT1H
BEGIN:VTIMEZONE
TZID:Europe/Stockholm
BEGIN:DAYLIGHT
TZOFFSETFROM:+0100
TZOFFSETTO:+0200
TZNAME:CEST
DTSTART:20200329T010000
END:DAYLIGHT
BEGIN:STANDARD
TZOFFSETFROM:+0200
TZOFFSETTO:+0100
TZNAME:CET
DTSTART:20201025T010000
END:STANDARD
BEGIN:DAYLIGHT
TZOFFSETFROM:+0100
TZOFFSETTO:+0200
TZNAME:CEST
DTSTART:20210328T010000
END:DAYLIGHT
BEGIN:STANDARD
TZOFFSETFROM:+0200
TZOFFSETTO:+0100
TZNAME:CET
DTSTART:20211031T010000
END:STANDARD
BEGIN:DAYLIGHT
TZOFFSETFROM:+0100
TZOFFSETTO:+0200
TZNAME:CEST
DTSTART:20220327T010000
END:DAYLIGHT
BEGIN:STANDARD
TZOFFSETFROM:+0200
TZOFFSETTO:+0100
TZNAME:CET
DTSTART:20221030T010000
END:STANDARD
END:VTIMEZONE
BEGIN:VEVENT
DTSTART;TZID=Europe/Stockholm:20211104T123000
DTEND;TZID=Europe/Stockholm:20211104T133000
DTSTAMP:20260424T122118
CREATED:20211011T142756Z
LAST-MODIFIED:20211019T120749Z
UID:4283-1636029000-1636032600@brorhjorthshus.se
SUMMARY:INSTÄLLT! Familjevisning med verkstad
DESCRIPTION:INSTÄLLT PÅ GRUND AV RENOVERINGAR I MUSEET! \nFamiljevisning med skapande verkstad är ett trevligt sätt för hela familjen att uppleva och få veta mer om den aktuella utställningen och att prova en konstnärlig teknik. Visningen är utgångspunkten för arbetet i verkstaden\, men det går bra att komma direkt dit. Verkstaden leds av en konstpedagog som hjälper dig att komma igång. \nFamiljevisning med skapande verkstad ges första söndagen i varje månad. Den är tänkt för barn tillsammans med en vuxen. \n4-5 & 7 nov – Lenny Clarhäll\nkl 12.30-13.30 och kl 14.15-15.15 \nVi tittar på Lenny Clarhälls utställning. Efter visningen får du själv skapa i lera med inspiration av konsten vi sett. \nBegränsat antal platser. Max 12 personer (inkl vuxna) per tillfälle. \nFamiljevisning kostar 30 kr/verkstadsdeltagare.
URL:https://brorhjorthshus.se/evenemang/familjevisning-med-verkstad-2/2021-11-04/
LOCATION:Bror Hjorths Hus\, Norbyvägen 26\, Uppsala\, 752 39\, SE
CATEGORIES:Barn & Familj,Visning
ATTACH;FMTTYPE=image/jpeg:https://brorhjorthshus.se/wp-content/uploads/2018/06/IMG_0141-hemsida.jpg
END:VEVENT
END:VCALENDAR