BEGIN:VCALENDAR
VERSION:2.0
PRODID:-//Bror Hjorths Hus - ECPv6.15.20//NONSGML v1.0//EN
CALSCALE:GREGORIAN
METHOD:PUBLISH
X-WR-CALNAME:Bror Hjorths Hus
X-ORIGINAL-URL:https://brorhjorthshus.se
X-WR-CALDESC:Händelser för Bror Hjorths Hus
REFRESH-INTERVAL;VALUE=DURATION:PT1H
X-Robots-Tag:noindex
X-PUBLISHED-TTL:PT1H
BEGIN:VTIMEZONE
TZID:Europe/Stockholm
BEGIN:DAYLIGHT
TZOFFSETFROM:+0100
TZOFFSETTO:+0200
TZNAME:CEST
DTSTART:20220327T010000
END:DAYLIGHT
BEGIN:STANDARD
TZOFFSETFROM:+0200
TZOFFSETTO:+0100
TZNAME:CET
DTSTART:20221030T010000
END:STANDARD
BEGIN:DAYLIGHT
TZOFFSETFROM:+0100
TZOFFSETTO:+0200
TZNAME:CEST
DTSTART:20230326T010000
END:DAYLIGHT
BEGIN:STANDARD
TZOFFSETFROM:+0200
TZOFFSETTO:+0100
TZNAME:CET
DTSTART:20231029T010000
END:STANDARD
BEGIN:DAYLIGHT
TZOFFSETFROM:+0100
TZOFFSETTO:+0200
TZNAME:CEST
DTSTART:20240331T010000
END:DAYLIGHT
BEGIN:STANDARD
TZOFFSETFROM:+0200
TZOFFSETTO:+0100
TZNAME:CET
DTSTART:20241027T010000
END:STANDARD
END:VTIMEZONE
BEGIN:VEVENT
DTSTART;TZID=Europe/Stockholm:20230402T130000
DTEND;TZID=Europe/Stockholm:20230402T134000
DTSTAMP:20260424T121919
CREATED:20230316T085152Z
LAST-MODIFIED:20230321T150807Z
UID:6600-1680440400-1680442800@brorhjorthshus.se
SUMMARY:Familjevisning: Gunilla Bergström
DESCRIPTION:Guidad visning av utställningen med Gunilla Bergströms originalillustrationer till Alfons Åberg.\nVisningen är anpassad för hela familjen\, både små och stora\,\nDen är gratis och pågår ca 30-45 min. \nGunilla Bergström (1942-2021) har skapat en av Sveriges mest älskade bilderbokskaraktärer: Alfons Åberg. I Bror Hjorths Hus visas under våren originalillustrationer från sex av böckerna om Alfons. Bilderna visas i en lekfullt gestaltad utställningsmiljö. \nGunilla Bergström arbetade med en blandning av teckning och kollageteknik. Hon vägde skickligt balansen mellan motiv och tomrum i bilderna. Det är en fröjd att se originalbilderna med dess nyanser av färger och påklistrade kollageelement. Bilderna är uppbyggda i lager och på det översta är figurerna målade på genomskinlig celluloidfilm. Detta resulterar i att upplevelsen av originalen blir annorlunda jämfört med det tryckta bilderna i böckerna. \n© Bok-Makaren AB\nBild: Gunilla Bergström\, ur Alfons och hemlige Mållgan (1976).
URL:https://brorhjorthshus.se/evenemang/familjevisning-gunilla-bergstrom/2023-04-02/
LOCATION:Bror Hjorths Hus\, Norbyvägen 26\, Uppsala\, 752 39\, SE
CATEGORIES:Barn & Familj,Visning
ATTACH;FMTTYPE=image/jpeg:https://brorhjorthshus.se/wp-content/uploads/2023/03/GB_Familjevisning_16_9.jpg
END:VEVENT
END:VCALENDAR