BEGIN:VCALENDAR
VERSION:2.0
PRODID:-//Bror Hjorths Hus - ECPv6.15.20//NONSGML v1.0//EN
CALSCALE:GREGORIAN
METHOD:PUBLISH
X-WR-CALNAME:Bror Hjorths Hus
X-ORIGINAL-URL:https://brorhjorthshus.se
X-WR-CALDESC:Händelser för Bror Hjorths Hus
REFRESH-INTERVAL;VALUE=DURATION:PT1H
X-Robots-Tag:noindex
X-PUBLISHED-TTL:PT1H
BEGIN:VTIMEZONE
TZID:Europe/Stockholm
BEGIN:DAYLIGHT
TZOFFSETFROM:+0100
TZOFFSETTO:+0200
TZNAME:CEST
DTSTART:20190331T010000
END:DAYLIGHT
BEGIN:STANDARD
TZOFFSETFROM:+0200
TZOFFSETTO:+0100
TZNAME:CET
DTSTART:20191027T010000
END:STANDARD
BEGIN:DAYLIGHT
TZOFFSETFROM:+0100
TZOFFSETTO:+0200
TZNAME:CEST
DTSTART:20200329T010000
END:DAYLIGHT
BEGIN:STANDARD
TZOFFSETFROM:+0200
TZOFFSETTO:+0100
TZNAME:CET
DTSTART:20201025T010000
END:STANDARD
BEGIN:DAYLIGHT
TZOFFSETFROM:+0100
TZOFFSETTO:+0200
TZNAME:CEST
DTSTART:20210328T010000
END:DAYLIGHT
BEGIN:STANDARD
TZOFFSETFROM:+0200
TZOFFSETTO:+0100
TZNAME:CET
DTSTART:20211031T010000
END:STANDARD
END:VTIMEZONE
BEGIN:VEVENT
DTSTART;TZID=Europe/Stockholm:20200202T130000
DTEND;TZID=Europe/Stockholm:20200202T140000
DTSTAMP:20260422T174455
CREATED:20200129T144140Z
LAST-MODIFIED:20200129T152436Z
UID:2980-1580648400-1580652000@brorhjorthshus.se
SUMMARY:Guidad visning: Roger Metto - Skiftningar
DESCRIPTION:Guidad visning av Roger Mettos utställning ”Skiftningar”. \nBerg har varit ett återkommande motiv i Roger Mettos konst. Hans helt nya målningar är till största delen målade i akvarell. I dem har han lämnat fantasilandskapen till förmån för avbildningar av bergsmassiv från trakterna kring Kebnekajse. Ögat registrerar en vy\, men en blinkning senare har den förändrats\, om än bara lite grann. \nRoger Metto är född 1964 och uppvuxen i Kiruna med fjällvärlden som granne. Sedan början av 1990-talet bor och arbetar han i Stockholm. Han finns representerad i flera stora museums samlingar och har gjort offentliga arbeten över hela landet på uppdrag av stat\, regioner och kommuner.
URL:https://brorhjorthshus.se/evenemang/2980/2020-02-02/
LOCATION:Bror Hjorths Hus\, Norbyvägen 26\, Uppsala\, 752 39\, SE
CATEGORIES:Visning
ATTACH;FMTTYPE=image/jpeg:https://brorhjorthshus.se/wp-content/uploads/2020/01/facebook_event_roger_metto.jpg
END:VEVENT
END:VCALENDAR