BEGIN:VCALENDAR
VERSION:2.0
PRODID:-//Bror Hjorths Hus - ECPv6.15.20//NONSGML v1.0//EN
CALSCALE:GREGORIAN
METHOD:PUBLISH
X-ORIGINAL-URL:https://brorhjorthshus.se
X-WR-CALDESC:Händelser för Bror Hjorths Hus
REFRESH-INTERVAL;VALUE=DURATION:PT1H
X-Robots-Tag:noindex
X-PUBLISHED-TTL:PT1H
BEGIN:VTIMEZONE
TZID:Europe/Stockholm
BEGIN:DAYLIGHT
TZOFFSETFROM:+0100
TZOFFSETTO:+0200
TZNAME:CEST
DTSTART:20170326T010000
END:DAYLIGHT
BEGIN:STANDARD
TZOFFSETFROM:+0200
TZOFFSETTO:+0100
TZNAME:CET
DTSTART:20171029T010000
END:STANDARD
BEGIN:DAYLIGHT
TZOFFSETFROM:+0100
TZOFFSETTO:+0200
TZNAME:CEST
DTSTART:20180325T010000
END:DAYLIGHT
BEGIN:STANDARD
TZOFFSETFROM:+0200
TZOFFSETTO:+0100
TZNAME:CET
DTSTART:20181028T010000
END:STANDARD
BEGIN:DAYLIGHT
TZOFFSETFROM:+0100
TZOFFSETTO:+0200
TZNAME:CEST
DTSTART:20190331T010000
END:DAYLIGHT
BEGIN:STANDARD
TZOFFSETFROM:+0200
TZOFFSETTO:+0100
TZNAME:CET
DTSTART:20191027T010000
END:STANDARD
BEGIN:DAYLIGHT
TZOFFSETFROM:+0100
TZOFFSETTO:+0200
TZNAME:CEST
DTSTART:20200329T010000
END:DAYLIGHT
BEGIN:STANDARD
TZOFFSETFROM:+0200
TZOFFSETTO:+0100
TZNAME:CET
DTSTART:20201025T010000
END:STANDARD
BEGIN:DAYLIGHT
TZOFFSETFROM:+0100
TZOFFSETTO:+0200
TZNAME:CEST
DTSTART:20210328T010000
END:DAYLIGHT
BEGIN:STANDARD
TZOFFSETFROM:+0200
TZOFFSETTO:+0100
TZNAME:CET
DTSTART:20211031T010000
END:STANDARD
BEGIN:DAYLIGHT
TZOFFSETFROM:+0100
TZOFFSETTO:+0200
TZNAME:CEST
DTSTART:20220327T010000
END:DAYLIGHT
BEGIN:STANDARD
TZOFFSETFROM:+0200
TZOFFSETTO:+0100
TZNAME:CET
DTSTART:20221030T010000
END:STANDARD
END:VTIMEZONE
BEGIN:VEVENT
DTSTART;TZID=Europe/Stockholm:20211015T190000
DTEND;TZID=Europe/Stockholm:20211015T200000
DTSTAMP:20260421T134342
CREATED:20211004T095920Z
LAST-MODIFIED:20211004T100655Z
UID:4263-1634324400-1634328000@brorhjorthshus.se
SUMMARY:Konsert: Nichelle Johansson
DESCRIPTION:Livestreamad konsert från Bror Hjorths ateljé\nSe och hör den på YouTube och Facebook \nNichelle Johansson\nBror Hjorthföreningens folkmusikstipendiat 2021 \nMed spellusta\, sväng och lite lagom med hemlängtan bjuder fiolspelmannen Nichelle Johansson på några riktiga favoritlåtar. Det blir godbitar hemifrån Närke\, från Uppland och någon liten avstickare till Västergötland – men mest av allt blir det låtar man blir så där riktigt glad av! \nNichelle Johansson (född 1996) gick ut kandidatprogrammet i svensk folkmusik från Kungliga Musikhögskolan i våras. Dessförinnan har hon tagit vägarna via Eric Sahlström-institutet i Tobo\, och musikvetenskapsstudier i Göteborg\, där hon nu är tillbaka igen. Sedan 2019 kan hon titulera sig riksspelman på Närkelåtar. \nInga biljetter säljs till denna konsert.\nBror Hjorthföreningens medlemmar har möjlighet att höra konserten på plats.\nÖvriga ser och hör den gratis på YouTube och Facebook.\n\nKonserten arrangeras av Bror Hjorths Hus i samarbete och med stöd från Bror Hjorthföreningen\,\nmed teknisk hjälp från Studieförbundet Bilda!
URL:https://brorhjorthshus.se/evenemang/konsert-nichelle-johansson/
LOCATION:Bror Hjorths Hus\, Norbyvägen 26\, Uppsala\, 752 39\, SE
CATEGORIES:Föredrag & Konsert
ATTACH;FMTTYPE=image/jpeg:https://brorhjorthshus.se/wp-content/uploads/2021/10/16_9_konsert_nichelle_johansson.jpg
END:VEVENT
BEGIN:VEVENT
DTSTART;TZID=Europe/Stockholm:20190913T190000
DTEND;TZID=Europe/Stockholm:20190913T200000
DTSTAMP:20260421T134342
CREATED:20190816T182333Z
LAST-MODIFIED:20190910T123211Z
UID:2537-1568401200-1568404800@brorhjorthshus.se
SUMMARY:Konsert : Sandra Arvman
DESCRIPTION:Sandra Arvman\, fiol\, är Bror Hjorthföreningens folkmusikstipendiat 2019. Hon tilldelades stipendiet ”för sitt personliga\, naturligt svängiga och organiska låtspelande\, tryggt förankrat i den jämtländska traditionen”.\nHör henne i en solokonsert i Bror Hjorths ateljé. \nSandra Arvman är uppvuxen i Ånge och har spelat fiol sedan hon var 10 år. Folkmusiken mötte hon för första gången på ett folkmusikläger i Fränsta och det var då spelglädjen gnistrade till. \n\nEfter gymnasiet studerade hon svensk folkmusik på Bollnäs folkhögskola i två år och Skurups folkhögskola ett år. Sedan har det blivit tre år på Kungliga Musikhögskolan i Stockholm.\n\n\n \n\n\nTrots att Sandra har bott på olika ställen i Sverige så har den Medelpadska och Jämtländska låttraditionen alltid funnits med och fortsätter att vara hennes favorit. Hennes konsert kommer innehålla några av dessa favoriter\, inspirerande låtar hemifrån\, tillsammans med några avstickare i låtar som hon har lärt sig under sin tid på Musikhögskolan. \n\nBror Hjorthföreningens folkmusikstipendium delas ut för att erinra om Bror Hjorths stora intresse och insatser för svensk folkmusik. Stipendiet delas sedan 2011 ut vartannat år. \nMed stipendiet vill Bror Hjorthföreningen uppmuntra unga spelmän/folkmusiker och visa den svenska folkmusikens betydelse som musikaliskt uttryck för solospel på instrument och för sång. \nBland tidigare stipendiater finns Josefina Paulson\, Lena Jonson och Magnus Holmström.\nLäs mer om stipendiet  \nKonserten arrangeras i samarbete med Bror Hjorthföreningen \nBiljettpris: 60 kr. Biljetter köps via Tickster eller i museets reception under öppettid.\nBror Hjorthföreningens medlemmar går gratis och bokar biljett genom att ringa museet\npå 018-567030 (vard 9-16 och helg 12-16)
URL:https://brorhjorthshus.se/evenemang/konsert-sandra-arvman/
LOCATION:Bror Hjorths Hus\, Norbyvägen 26\, Uppsala\, Uppland\, 752 39\, Sverige
CATEGORIES:Föredrag & Konsert
ORGANIZER;CN="Bror Hjorths Hus":MAILTO:info@brorhjorthshus.se
END:VEVENT
BEGIN:VEVENT
DTSTART;TZID=Europe/Stockholm:20190517T190000
DTEND;TZID=Europe/Stockholm:20190517T200000
DTSTAMP:20260421T134342
CREATED:20190212T151745Z
LAST-MODIFIED:20190212T151745Z
UID:2156-1558119600-1558123200@brorhjorthshus.se
SUMMARY:Konsert : Magnus Holmström
DESCRIPTION:Inni byn\, uti världen \nMagnus Holmström\, trefaldig världsmästare och riksspelman på nyckelharpa\, med rötter i Västerbotten\, tar oss med på ljudande berättelser över halva jordklotet. \nMagnus Holmström tilldelades Bror Hjorthföreningens folkmusikstipendium 2008 ”för ett levande\, intensivt\, rytmiskt\, tekniskt helgjutet och personligt spel på nyckelharpa”. Han har turnerat över stora delar av världen med olika grupper/konstellationer. 2018 tilldelades han Håkan Pakmans stipendium tillsammans med Tomas Lindberg. Nu intar han Bror Hjorths ateljé för en solokonsert. \nBiljetter köps via Tickster. Pris: 60 kr.\nBror Hjorthföreningens medlemmar bokar biljetter genom att ringa museet på 018-567030 (vard 9-16 & helg 12-16)
URL:https://brorhjorthshus.se/evenemang/konsert-magnus-holmstrom/
LOCATION:Bror Hjorths Hus\, Norbyvägen 26\, Uppsala\, Uppland\, 752 39\, Sverige
CATEGORIES:Föredrag & Konsert
ORGANIZER;CN="Bror Hjorths Hus":MAILTO:info@brorhjorthshus.se
END:VEVENT
BEGIN:VEVENT
DTSTART;TZID=Europe/Stockholm:20190324T161500
DTEND;TZID=Europe/Stockholm:20190324T171500
DTSTAMP:20260421T134342
CREATED:20190312T174339Z
LAST-MODIFIED:20190312T174339Z
UID:2190-1553444100-1553447700@brorhjorthshus.se
SUMMARY:Föredrag/Lecture : Kitty Crowther
DESCRIPTION:Bilderbokskonstnären Kitty Crowther berättar om sitt skapande.\nOBS! Föredraget hålls på engelska. The Lecture is in English. \nDen belgiska bilderbokskonstnären Kitty Crowthers (född 1970) bilder har sin helt unika karaktär. Färgpennornas linjer dansar och vibrerar\, tydliga som trådar i ett broderi. 2010 belönades Kitty Crowther med ALMA-priset för sitt bilderboksskapande. Hon har gett ut mer än fyrtio böcker varav ett tjugotal finns översatta till svenska. Crowther är både illustratör och författare och har bl. a. samarbetat med Ulf Stark. \nUtställningen visar originalillustrationer till ett flertal böcker\, allt i en lekfullt gestaltad miljö där konstnären också skapat ett platsspecifikt verk. För museets yngre besökare finns små hus för lek\, teckning och sagoläsning. \nBiljetter köps via Tickster. Pris: 60 kr.\nBror Hjorthföreningens medlemmar bokar biljetter genom att ringa museet på 018-567030 (vard 9-16 & helg 12-16)
URL:https://brorhjorthshus.se/evenemang/foredrag-lecture-kitty-crowther/
LOCATION:Bror Hjorths Hus\, Norbyvägen 26\, Uppsala\, Uppland\, 752 39\, Sverige
CATEGORIES:Föredrag & Konsert
ATTACH;FMTTYPE=image/jpeg:https://brorhjorthshus.se/wp-content/uploads/2019/03/facebook_event_kitty_crowther_talk.jpg
ORGANIZER;CN="Bror Hjorths Hus":MAILTO:info@brorhjorthshus.se
END:VEVENT
BEGIN:VEVENT
DTSTART;TZID=Europe/Stockholm:20190228T140000
DTEND;TZID=Europe/Stockholm:20190228T144500
DTSTAMP:20260421T134342
CREATED:20190125T145346Z
LAST-MODIFIED:20190125T145347Z
UID:2107-1551362400-1551365100@brorhjorthshus.se
SUMMARY:Möt konstnären:Veronica Brovall
DESCRIPTION:Konstnären Veronica Brovall visar själv sin utställning ”Run back for pants”. \nEn tumme för uppmuntran\, att suga på eller stoppa upp någonstans där solen inte skiner. Veronica Brovall blandar välkända symboler\, vardagliga ting\, ord\, kroppsdelar och hål i sina keramiska skulpturer. \nDet är konst som inte ber om ursäkt för sig. Kraftfull och respektlös\, lekfull men brutal. Ofta med ett explicit sexuellt innehåll\, utan moraliska pekpinnar. Det är upp till betraktaren att tolka de maktstrukturer som verken eventuellt riktar långfingret mot. \nVeronica Brovall (född 1975) bor och arbetar i Berlin. 1999 tilldelades hon Bror Hjorthföreningens teckningsstipendium. Nu är det dags för en återkomst till Bror Hjorths Hus. \nUppsala konstmuseum visar utställningen Veronica Brovall – Man Drawer 7 februari – 12 maj 2019.\nTors 28 feb kl 19 ges ett konstnärssamtal på Uppsala konstmuseum med Veronica Brovall och Camilla Karlsson.
URL:https://brorhjorthshus.se/evenemang/mot-konstnarenveronica-brovall/
LOCATION:Bror Hjorths Hus\, Norbyvägen 26\, Uppsala\, Uppland\, 752 39\, Sverige
CATEGORIES:Föredrag & Konsert,Visning
ATTACH;FMTTYPE=image/jpeg:https://brorhjorthshus.se/wp-content/uploads/2019/01/facebook_event_veronica_brovall_detalj.jpg
ORGANIZER;CN="Bror Hjorths Hus":MAILTO:info@brorhjorthshus.se
END:VEVENT
BEGIN:VEVENT
DTSTART;TZID=Europe/Stockholm:20190210T140000
DTEND;TZID=Europe/Stockholm:20190210T143000
DTSTAMP:20260421T134342
CREATED:20190125T145804Z
LAST-MODIFIED:20190125T145947Z
UID:2108-1549807200-1549809000@brorhjorthshus.se
SUMMARY:Guidad visning:Veronica Brovall
DESCRIPTION:Guidad visning av Veronica Brovalls utställning Run back for pants. \nEn tumme för uppmuntran\, att suga på eller stoppa upp någonstans där solen inte skiner. Veronica Brovall blandar välkända symboler\, vardagliga ting\, ord\, kroppsdelar och hål i sina keramiska skulpturer.\nDet är konst som inte ber om ursäkt för sig. Kraftfull och respektlös\, lekfull men brutal. Ofta med ett explicit sexuellt innehåll\, utan moraliska pekpinnar. Det är upp till betraktaren att tolka de maktstrukturer som verken eventuellt riktar långfingret mot. \nVeronica Brovall (född 1975) bor och arbetar i Berlin. 1999 tilldelades hon Bror Hjorthföreningens teckningsstipendium. Nu är det dags för en återkomst till Bror Hjorths Hus. \nUppsala konstmuseum visar utställningen Veronica Brovall – Man Drawer 7 februari – 12 maj 2019.\nDen utställningen visas lör-sön kl 13-13.20.
URL:https://brorhjorthshus.se/evenemang/visning-veronica-brovall/2019-02-10/
LOCATION:Bror Hjorths Hus\, Norbyvägen 26\, Uppsala\, Uppland\, 752 39\, Sverige
CATEGORIES:Visning
ATTACH;FMTTYPE=image/jpeg:https://brorhjorthshus.se/wp-content/uploads/2019/01/facebook_event_veronica_brovall_1.jpg
ORGANIZER;CN="Bror Hjorths Hus":MAILTO:info@brorhjorthshus.se
END:VEVENT
BEGIN:VEVENT
DTSTART;TZID=Europe/Stockholm:20190207T140000
DTEND;TZID=Europe/Stockholm:20190207T150000
DTSTAMP:20260421T134342
CREATED:20190125T154144Z
LAST-MODIFIED:20190125T154145Z
UID:2121-1549548000-1549551600@brorhjorthshus.se
SUMMARY:Guidad visning:Brovall/Hjorth
DESCRIPTION:Kombinerad visning av Veronica Brovalls utställning Run back for pants och Bror Hjorth konst och hem. \nVisningen börjar i konsthallen och den aktuella utställningen med Veronica Brovalls keramiska arbeten i och fortsätter sedan in i Bror Hjorths hem och ateljé. Vi tittar på konstverk i olika material och tekniker från hela Bror Hjorths konstnärskap och berättar om hans liv genom bilderna.
URL:https://brorhjorthshus.se/evenemang/guidad-visningbrovall-hjorth/2019-02-07/
LOCATION:Bror Hjorths Hus\, Norbyvägen 26\, Uppsala\, Uppland\, 752 39\, Sverige
CATEGORIES:Visning
ATTACH;FMTTYPE=image/jpeg:https://brorhjorthshus.se/wp-content/uploads/2019/01/facebook_event_brovall_hjorth.jpg
ORGANIZER;CN="Bror Hjorths Hus":MAILTO:info@brorhjorthshus.se
END:VEVENT
BEGIN:VEVENT
DTSTART;TZID=Europe/Stockholm:20190206T183000
DTEND;TZID=Europe/Stockholm:20190206T190000
DTSTAMP:20260421T134343
CREATED:20190124T153804Z
LAST-MODIFIED:20190124T153804Z
UID:2091-1549477800-1549479600@brorhjorthshus.se
SUMMARY:Invigning : Veronica Brovall
DESCRIPTION:Invigning av Veronica Brovalls utställning ”Run back for pants”.\nMuseichef Tomas Järliden inviger utställningen i samtal med konstnären. \nMuseet är öppet kl 18-20. \nEn tumme för uppmuntran\, att suga på eller stoppa upp någonstans där solen inte skiner. Veronica Brovall blandar välkända symboler\, vardagliga ting\, ord\, kroppsdelar och hål i sina keramiska skulpturer.\nDet är konst som inte ber om ursäkt för sig. Kraftfull och respektlös\, lekfull men brutal. Ofta med ett explicit sexuellt innehåll\, men utan moraliska pekpinnar. Det är upp till betraktaren att tolka de maktstrukturer som verken eventuellt riktar långfingret mot. \nVeronica Brovall (född 1975) bor och arbetar i Berlin. 1999 tilldelades hon Bror Hjorthföreningens teckningsstipendium. Nu är det dags för en återkomst till Bror Hjorths Hus. \n7 februari kl 19 inviger Uppsala konstmuseum sin utställning med Veronica Brovall – Man Drawer.
URL:https://brorhjorthshus.se/evenemang/invigning-veronica-brovall/
LOCATION:Bror Hjorths Hus\, Norbyvägen 26\, Uppsala\, Uppland\, 752 39\, Sverige
CATEGORIES:Föredrag & Konsert
ATTACH;FMTTYPE=image/jpeg:https://brorhjorthshus.se/wp-content/uploads/2019/01/facebook_event_veronica_brovall_fullmoon.jpg
ORGANIZER;CN="Bror Hjorths Hus":MAILTO:info@brorhjorthshus.se
END:VEVENT
BEGIN:VEVENT
DTSTART;TZID=Europe/Stockholm:20181119T140000
DTEND;TZID=Europe/Stockholm:20181119T160000
DTSTAMP:20260421T134343
CREATED:20181022T084151Z
LAST-MODIFIED:20181031T114954Z
UID:1773-1542636000-1542643200@brorhjorthshus.se
SUMMARY:Framtidens konstpedagogik
DESCRIPTION:Årets mottagare av Bror Hjorthföreningens konstpedagogstipendium \nIngela Jönsson\, Länsmuseet Gävleborg \nberättar om sitt arbete och om sin stipendieresa till London. \nIngela Jönsson har jobbat med flera spännande och angelägna projekt där det förutom den konstpedagogiska upplevelsen för projektdeltagarna också blivit utställningar där de unga får komma till tals. Utställningarna har vistats på olika platser i Gävleborg. \nProjekten har involverat unga (ca 13 – 24 år) som på något vis bryter mot samhällets normer. Det har varit barn och unga med neuropsykiatriska diagnoser eller med ungdomar med psykisk ohälsa. Nyss inledde hon ett  projekt med unga romer. Ingela Jönsson är också aktuell med boken Kultur & Hälsa – Kan museet bidra till bättre hälsa. \nPå seminariet Framtidens konstpedagogik berättat Ingela Jönson om sitt arbete och om sen stipendieresa till London där hon bland annat besökt Victoria and Alberg Museum och studerat deras ”Young peoples programme” som riktar sig till ungdomar och unga vuxna. \nKonstpedagogstipendiet är ett resestipendium på 15.000 kr som efter ansökan ges till en aktiv och initiativrik konstpedagog vid någon av Sveriges museer eller konsthallar. Stipendiat inbjuds också att berätta om sitt arbete vid ett seminarium eller motsvarande i Bror Hjorths Hus. Stipendiet har delats årligen ut sedan 2009. \nSeminariet arrangeras i samarbete med Bror Hjorthföreningen och Studiefrämjandet. \nFramtidens konstpedagogik\nMåndag 19 november kl 14-16 inkl fikapaus.\nFri entré.\nAnmäl närvaro genom att ringa 018-567030\neller mejla bokning@brorhjorthshus.se.\n 
URL:https://brorhjorthshus.se/evenemang/framtidens-konstpedagogik/
LOCATION:Bror Hjorths Hus\, Norbyvägen 26\, Uppsala\, Uppland\, 752 39\, Sverige
CATEGORIES:Föredrag & Konsert
ORGANIZER;CN="Bror Hjorths Hus":MAILTO:info@brorhjorthshus.se
END:VEVENT
BEGIN:VEVENT
DTSTART;TZID=Europe/Stockholm:20180916T130000
DTEND;TZID=Europe/Stockholm:20180916T140000
DTSTAMP:20260421T134343
CREATED:20180813T150049Z
LAST-MODIFIED:20180820T115251Z
UID:1364-1537102800-1537106400@brorhjorthshus.se
SUMMARY:Möt konstnären:Laleh Kazemi Veisari
DESCRIPTION:Konstnären Laleh Kazemi Veisari visar själv sin utställning Porous Red Dust. \nFri entré.
URL:https://brorhjorthshus.se/evenemang/mot-konstnaren-laleh-kazemi-veisari/
LOCATION:Bror Hjorths Hus\, Norbyvägen 26\, Uppsala\, 752 39\, SE
CATEGORIES:Föredrag & Konsert,Visning
ATTACH;FMTTYPE=image/jpeg:https://brorhjorthshus.se/wp-content/uploads/2018/05/Laleh-Kazemi-Veisari-1-5-montage-e1527594366477.jpg
END:VEVENT
END:VCALENDAR